| Back to Multiple platform build/check report for BioC 3.22: simplified long |
|
This page was generated on 2025-10-25 12:04 -0400 (Sat, 25 Oct 2025).
| Hostname | OS | Arch (*) | R version | Installed pkgs |
|---|---|---|---|---|
| nebbiolo2 | Linux (Ubuntu 24.04.3 LTS) | x86_64 | 4.5.1 Patched (2025-08-23 r88802) -- "Great Square Root" | 4901 |
| lconway | macOS 12.7.6 Monterey | x86_64 | 4.5.1 Patched (2025-09-10 r88807) -- "Great Square Root" | 4691 |
| kjohnson3 | macOS 13.7.7 Ventura | arm64 | 4.5.1 Patched (2025-09-10 r88807) -- "Great Square Root" | 4637 |
| taishan | Linux (openEuler 24.03 LTS) | aarch64 | 4.5.0 (2025-04-11) -- "How About a Twenty-Six" | 4658 |
| Click on any hostname to see more info about the system (e.g. compilers) (*) as reported by 'uname -p', except on Windows and Mac OS X | ||||
| Package 1683/2361 | Hostname | OS / Arch | INSTALL | BUILD | CHECK | BUILD BIN | ||||||||
| QSutils 1.27.0 (landing page) Mercedes Guerrero-Murillo
| nebbiolo2 | Linux (Ubuntu 24.04.3 LTS) / x86_64 | OK | OK | OK | |||||||||
| lconway | macOS 12.7.6 Monterey / x86_64 | OK | OK | OK | OK | |||||||||
| kjohnson3 | macOS 13.7.7 Ventura / arm64 | OK | OK | OK | OK | |||||||||
| taishan | Linux (openEuler 24.03 LTS) / aarch64 | OK | NA | NA | ||||||||||
|
To the developers/maintainers of the QSutils package: - Allow up to 24 hours (and sometimes 48 hours) for your latest push to git@git.bioconductor.org:packages/QSutils.git to reflect on this report. See Troubleshooting Build Report for more information. - Use the following Renviron settings to reproduce errors and warnings. - If 'R CMD check' started to fail recently on the Linux builder(s) over a missing dependency, add the missing dependency to 'Suggests:' in your DESCRIPTION file. See Renviron.bioc for more information. |
| Package: QSutils |
| Version: 1.27.0 |
| Command: /home/biocbuild/bbs-3.22-bioc/R/bin/R CMD check --install=check:QSutils.install-out.txt --library=/home/biocbuild/bbs-3.22-bioc/R/site-library --timings QSutils_1.27.0.tar.gz |
| StartedAt: 2025-10-25 03:04:19 -0400 (Sat, 25 Oct 2025) |
| EndedAt: 2025-10-25 03:06:19 -0400 (Sat, 25 Oct 2025) |
| EllapsedTime: 120.1 seconds |
| RetCode: 0 |
| Status: OK |
| CheckDir: QSutils.Rcheck |
| Warnings: 0 |
##############################################################################
##############################################################################
###
### Running command:
###
### /home/biocbuild/bbs-3.22-bioc/R/bin/R CMD check --install=check:QSutils.install-out.txt --library=/home/biocbuild/bbs-3.22-bioc/R/site-library --timings QSutils_1.27.0.tar.gz
###
##############################################################################
##############################################################################
* using log directory ‘/home/biocbuild/bbs-3.22-bioc/meat/QSutils.Rcheck’
* using R version 4.5.1 Patched (2025-08-23 r88802)
* using platform: x86_64-pc-linux-gnu
* R was compiled by
gcc (Ubuntu 13.3.0-6ubuntu2~24.04) 13.3.0
GNU Fortran (Ubuntu 13.3.0-6ubuntu2~24.04) 13.3.0
* running under: Ubuntu 24.04.3 LTS
* using session charset: UTF-8
* checking for file ‘QSutils/DESCRIPTION’ ... OK
* checking extension type ... Package
* this is package ‘QSutils’ version ‘1.27.0’
* package encoding: UTF-8
* checking package namespace information ... OK
* checking package dependencies ... OK
* checking if this is a source package ... OK
* checking if there is a namespace ... OK
* checking for hidden files and directories ... OK
* checking for portable file names ... OK
* checking for sufficient/correct file permissions ... OK
* checking whether package ‘QSutils’ can be installed ... OK
* checking installed package size ... OK
* checking package directory ... OK
* checking ‘build’ directory ... OK
* checking DESCRIPTION meta-information ... OK
* checking top-level files ... NOTE
File
LICENSE
is not mentioned in the DESCRIPTION file.
* checking for left-over files ... OK
* checking index information ... OK
* checking package subdirectories ... NOTE
Problems with news in ‘NEWS’:
Cannot process chunk/lines:
CHANGES IN VERSION 0.99.8
Internal changes:
- QSutils review correction:
· Add exports to NAMESPACE
Cannot process chunk/lines:
CHANGES IN VERSION 0.99.4,5, and 7
Internal changes:
- QSutils review correction:
· fn.ab function correction
Cannot process chunk/lines:
CHANGES IN VERSION 0.99.3
Internal changes:
- QSutils review correction:
· Vignette: add chunk names
· R Change class -> is()
· R hide helper functions
· R join more than one function in one file
· R vectorize some apply
· R Change fn.ab.1,fn.ab.2 and fn.ab.3 -> fn.ab with 3 agruments in fn
Cannot process chunk/lines:
CHANGES IN VERSION 0.99.2
Internal changes:
- Biocheck NOTEs correction:
· Change sapply()->vapply()
· Change 1:... -> seq_len()
Cannot process chunk/lines:
CHANGES IN VERSION 0.99.1
Internal changes:
- Correction of WARNINGS and ERRORS
with Biocheck:
· Collapse() example ERROR.
· Change class == -> is() or !is()
· Update R version dependency from 3.4.0 to 3.5.
· Correct -> 'VignetteIndexEntry{VignetteTitle}' in QSUtils-Alignment.Rmd
* checking code files for non-ASCII characters ... OK
* checking R files for syntax errors ... OK
* checking whether the package can be loaded ... OK
* checking whether the package can be loaded with stated dependencies ... OK
* checking whether the package can be unloaded cleanly ... OK
* checking whether the namespace can be loaded with stated dependencies ... OK
* checking whether the namespace can be unloaded cleanly ... OK
* checking loading without being on the library search path ... OK
* checking dependencies in R code ... OK
* checking S3 generic/method consistency ... OK
* checking replacement functions ... OK
* checking foreign function calls ... OK
* checking R code for possible problems ... OK
* checking Rd files ... OK
* checking Rd metadata ... OK
* checking Rd cross-references ... OK
* checking for missing documentation entries ... OK
* checking for code/documentation mismatches ... OK
* checking Rd \usage sections ... OK
* checking Rd contents ... OK
* checking for unstated dependencies in examples ... OK
* checking files in ‘vignettes’ ... OK
* checking examples ... OK
* checking for unstated dependencies in vignettes ... OK
* checking package vignettes ... OK
* checking re-building of vignette outputs ... OK
* checking PDF version of manual ... OK
* DONE
Status: 2 NOTEs
See
‘/home/biocbuild/bbs-3.22-bioc/meat/QSutils.Rcheck/00check.log’
for details.
QSutils.Rcheck/00install.out
############################################################################## ############################################################################## ### ### Running command: ### ### /home/biocbuild/bbs-3.22-bioc/R/bin/R CMD INSTALL QSutils ### ############################################################################## ############################################################################## * installing to library ‘/home/biocbuild/bbs-3.22-bioc/R/site-library’ * installing *source* package ‘QSutils’ ... ** this is package ‘QSutils’ version ‘1.27.0’ ** using staged installation ** R ** inst ** byte-compile and prepare package for lazy loading ** help *** installing help indices ** building package indices ** installing vignettes ** testing if installed package can be loaded from temporary location ** testing if installed package can be loaded from final location ** testing if installed package keeps a record of temporary installation path * DONE (QSutils)
QSutils.Rcheck/QSutils-Ex.timings
| name | user | system | elapsed | |
| Collapse | 0.117 | 0.015 | 0.132 | |
| ConsSeq | 0.019 | 0.002 | 0.021 | |
| CorrectGapsAndNs | 0.003 | 0.002 | 0.005 | |
| DBrule | 0.032 | 0.004 | 0.036 | |
| DNA.dist | 0.006 | 0.000 | 0.007 | |
| DSFT | 0.003 | 0.001 | 0.003 | |
| Diverge | 0.003 | 0.000 | 0.002 | |
| DottedAlignment | 0.007 | 0.001 | 0.008 | |
| FAD | 0.004 | 0.002 | 0.006 | |
| FreqMat | 0.013 | 0.002 | 0.014 | |
| GenerateVars | 0.003 | 0.000 | 0.003 | |
| GenotypeStandards_A-H.fas | 0.001 | 0.004 | 0.006 | |
| GetInfProfile | 0.013 | 0.003 | 0.016 | |
| GetQSData | 0.328 | 0.040 | 0.367 | |
| GetRandomSeq | 0 | 0 | 0 | |
| GiniSimpson | 0.000 | 0.000 | 0.001 | |
| HCq | 0.004 | 0.000 | 0.004 | |
| Hill | 0.003 | 0.000 | 0.003 | |
| IntersectStrandHpls | 0.054 | 0.001 | 0.057 | |
| MutationFreq | 0.455 | 0.015 | 0.470 | |
| MutsTbl | 0.011 | 0.000 | 0.012 | |
| NucleotideDiversity | 0.005 | 0.000 | 0.005 | |
| PolyDist | 0.017 | 0.000 | 0.018 | |
| Rao | 0.01 | 0.00 | 0.01 | |
| ReadAmplSeqs | 0.021 | 0.001 | 0.021 | |
| Renyi | 0.003 | 0.000 | 0.003 | |
| ReportVariants | 0.012 | 0.001 | 0.013 | |
| SegSites | 0.008 | 0.000 | 0.008 | |
| Shannon | 0.000 | 0.000 | 0.001 | |
| SortByMutations | 0.458 | 0.011 | 0.469 | |
| SummaryMuts | 0.013 | 0.000 | 0.012 | |
| TotalMutations | 0.012 | 0.000 | 0.012 | |
| Toy.GapsAndNs.fna | 0.04 | 0.00 | 0.04 | |
| ToyData_10_50_1000.fna | 0.021 | 0.001 | 0.021 | |
| ToyData_FWReads.fna | 0.052 | 0.001 | 0.053 | |
| ToyData_RVReads.fna | 0.052 | 0.000 | 0.051 | |
| UniqueMutations | 0.008 | 0.000 | 0.008 | |
| Unknown-Genotype.fna | 0.008 | 0.000 | 0.007 | |
| fn.ab | 0.002 | 0.000 | 0.002 | |
| geom.series | 0.002 | 0.000 | 0.002 | |