| Back to Multiple platform build/check report for BioC 3.22: simplified long |
|
This page was generated on 2025-10-23 12:05 -0400 (Thu, 23 Oct 2025).
| Hostname | OS | Arch (*) | R version | Installed pkgs |
|---|---|---|---|---|
| nebbiolo2 | Linux (Ubuntu 24.04.3 LTS) | x86_64 | 4.5.1 Patched (2025-08-23 r88802) -- "Great Square Root" | 4894 |
| lconway | macOS 12.7.6 Monterey | x86_64 | 4.5.1 Patched (2025-09-10 r88807) -- "Great Square Root" | 4684 |
| kjohnson3 | macOS 13.7.7 Ventura | arm64 | 4.5.1 Patched (2025-09-10 r88807) -- "Great Square Root" | 4629 |
| taishan | Linux (openEuler 24.03 LTS) | aarch64 | 4.5.0 (2025-04-11) -- "How About a Twenty-Six" | 4642 |
| Click on any hostname to see more info about the system (e.g. compilers) (*) as reported by 'uname -p', except on Windows and Mac OS X | ||||
| Package 1647/2355 | Hostname | OS / Arch | INSTALL | BUILD | CHECK | BUILD BIN | ||||||||
| PRONE 1.3.2 (landing page) Lis Arend
| nebbiolo2 | Linux (Ubuntu 24.04.3 LTS) / x86_64 | OK | OK | OK | |||||||||
| lconway | macOS 12.7.6 Monterey / x86_64 | OK | OK | OK | OK | |||||||||
| kjohnson3 | macOS 13.7.7 Ventura / arm64 | OK | OK | OK | OK | |||||||||
| taishan | Linux (openEuler 24.03 LTS) / aarch64 | OK | OK | NA | ||||||||||
|
To the developers/maintainers of the PRONE package: - Allow up to 24 hours (and sometimes 48 hours) for your latest push to git@git.bioconductor.org:packages/PRONE.git to reflect on this report. See Troubleshooting Build Report for more information. - Use the following Renviron settings to reproduce errors and warnings. - If 'R CMD check' started to fail recently on the Linux builder(s) over a missing dependency, add the missing dependency to 'Suggests:' in your DESCRIPTION file. See Renviron.bioc for more information. |
| Package: PRONE |
| Version: 1.3.2 |
| Command: /Library/Frameworks/R.framework/Resources/bin/R CMD check --install=check:PRONE.install-out.txt --library=/Library/Frameworks/R.framework/Resources/library --no-vignettes --timings PRONE_1.3.2.tar.gz |
| StartedAt: 2025-10-22 23:19:19 -0400 (Wed, 22 Oct 2025) |
| EndedAt: 2025-10-22 23:25:21 -0400 (Wed, 22 Oct 2025) |
| EllapsedTime: 362.3 seconds |
| RetCode: 0 |
| Status: OK |
| CheckDir: PRONE.Rcheck |
| Warnings: 0 |
##############################################################################
##############################################################################
###
### Running command:
###
### /Library/Frameworks/R.framework/Resources/bin/R CMD check --install=check:PRONE.install-out.txt --library=/Library/Frameworks/R.framework/Resources/library --no-vignettes --timings PRONE_1.3.2.tar.gz
###
##############################################################################
##############################################################################
* using log directory ‘/Users/biocbuild/bbs-3.22-bioc/meat/PRONE.Rcheck’
* using R version 4.5.1 Patched (2025-09-10 r88807)
* using platform: x86_64-apple-darwin20
* R was compiled by
Apple clang version 14.0.0 (clang-1400.0.29.202)
GNU Fortran (GCC) 14.2.0
* running under: macOS Monterey 12.7.6
* using session charset: UTF-8
* using option ‘--no-vignettes’
* checking for file ‘PRONE/DESCRIPTION’ ... OK
* checking extension type ... Package
* this is package ‘PRONE’ version ‘1.3.2’
* package encoding: UTF-8
* checking package namespace information ... OK
* checking package dependencies ... INFO
Imports includes 34 non-default packages.
Importing from so many packages makes the package vulnerable to any of
them becoming unavailable. Move as many as possible to Suggests and
use conditionally.
* checking if this is a source package ... OK
* checking if there is a namespace ... OK
* checking for hidden files and directories ... OK
* checking for portable file names ... OK
* checking for sufficient/correct file permissions ... OK
* checking whether package ‘PRONE’ can be installed ... OK
* checking installed package size ... OK
* checking package directory ... OK
* checking ‘build’ directory ... OK
* checking DESCRIPTION meta-information ... OK
* checking top-level files ... OK
* checking for left-over files ... OK
* checking index information ... OK
* checking package subdirectories ... OK
* checking code files for non-ASCII characters ... OK
* checking R files for syntax errors ... OK
* checking whether the package can be loaded ... OK
* checking whether the package can be loaded with stated dependencies ... OK
* checking whether the package can be unloaded cleanly ... OK
* checking whether the namespace can be loaded with stated dependencies ... OK
* checking whether the namespace can be unloaded cleanly ... OK
* checking dependencies in R code ... NOTE
Unexported objects imported by ':::' calls:
‘NormalyzerDE:::calculateAvgMadMem’
‘NormalyzerDE:::calculateAvgReplicateVariation’
‘NormalyzerDE:::calculatePercentageAvgDiffInMat’
‘NormalyzerDE:::calculateReplicateCV’
‘NormalyzerDE:::calculateSummarizedCorrelationVector’
See the note in ?`:::` about the use of this operator.
* checking S3 generic/method consistency ... OK
* checking replacement functions ... OK
* checking foreign function calls ... OK
* checking R code for possible problems ... NOTE
plot_upset_DE: no visible global function definition for
‘packageVersion’
Undefined global functions or variables:
packageVersion
Consider adding
importFrom("utils", "packageVersion")
to your NAMESPACE file.
* checking Rd files ... OK
* checking Rd metadata ... OK
* checking Rd cross-references ... OK
* checking for missing documentation entries ... OK
* checking for code/documentation mismatches ... OK
* checking Rd \usage sections ... OK
* checking Rd contents ... OK
* checking for unstated dependencies in examples ... OK
* checking contents of ‘data’ directory ... OK
* checking data for non-ASCII characters ... OK
* checking data for ASCII and uncompressed saves ... OK
* checking files in ‘vignettes’ ... OK
* checking examples ... OK
Examples with CPU (user + system) or elapsed time > 5s
user system elapsed
normalize_se_combination 5.542 0.152 5.742
plot_boxplots 5.018 0.048 5.098
* checking for unstated dependencies in vignettes ... OK
* checking package vignettes ... OK
* checking running R code from vignettes ... SKIPPED
* checking re-building of vignette outputs ... SKIPPED
* checking PDF version of manual ... OK
* DONE
Status: 2 NOTEs
See
‘/Users/biocbuild/bbs-3.22-bioc/meat/PRONE.Rcheck/00check.log’
for details.
PRONE.Rcheck/00install.out
############################################################################## ############################################################################## ### ### Running command: ### ### /Library/Frameworks/R.framework/Resources/bin/R CMD INSTALL PRONE ### ############################################################################## ############################################################################## * installing to library ‘/Library/Frameworks/R.framework/Versions/4.5-x86_64/Resources/library’ * installing *source* package ‘PRONE’ ... ** this is package ‘PRONE’ version ‘1.3.2’ ** using staged installation ** R ** data ** inst ** byte-compile and prepare package for lazy loading ** help *** installing help indices *** copying figures ** building package indices ** installing vignettes ** testing if installed package can be loaded from temporary location ** testing if installed package can be loaded from final location ** testing if installed package keeps a record of temporary installation path * DONE (PRONE)
PRONE.Rcheck/PRONE-Ex.timings
| name | user | system | elapsed | |
| apply_thresholds | 0.024 | 0.002 | 0.026 | |
| detect_outliers_POMA | 2.054 | 0.073 | 2.134 | |
| eigenMSNorm | 0.626 | 0.057 | 0.686 | |
| export_data | 0.017 | 0.002 | 0.020 | |
| extract_consensus_DE_candidates | 0.076 | 0.004 | 0.081 | |
| filter_out_NA_proteins_by_threshold | 0.210 | 0.004 | 0.215 | |
| filter_out_complete_NA_proteins | 0.049 | 0.003 | 0.052 | |
| filter_out_proteins_by_ID | 0.163 | 0.004 | 0.167 | |
| filter_out_proteins_by_value | 0.155 | 0.003 | 0.158 | |
| get_NA_overview | 0.031 | 0.002 | 0.033 | |
| get_normalization_methods | 0.000 | 0.001 | 0.000 | |
| get_overview_DE | 0.045 | 0.003 | 0.048 | |
| get_proteins_by_value | 0.146 | 0.003 | 0.150 | |
| get_spiked_stats_DE | 0.070 | 0.005 | 0.076 | |
| globalIntNorm | 0.151 | 0.005 | 0.156 | |
| globalMeanNorm | 0.139 | 0.003 | 0.141 | |
| globalMedianNorm | 0.143 | 0.004 | 0.147 | |
| impute_se | 0.843 | 0.018 | 0.868 | |
| irsNorm | 0.056 | 0.002 | 0.058 | |
| limmaNorm | 0.070 | 0.002 | 0.073 | |
| load_data | 0.059 | 0.003 | 0.064 | |
| load_spike_data | 0.054 | 0.003 | 0.058 | |
| loessCycNorm | 0.154 | 0.014 | 0.169 | |
| loessFNorm | 0.076 | 0.004 | 0.079 | |
| meanNorm | 0.042 | 0.004 | 0.045 | |
| medianAbsDevNorm | 0.104 | 0.004 | 0.109 | |
| medianNorm | 0.055 | 0.002 | 0.058 | |
| normalize_se | 3.968 | 0.092 | 4.085 | |
| normalize_se_combination | 5.542 | 0.152 | 5.742 | |
| normalize_se_single | 3.465 | 0.057 | 3.545 | |
| normicsNorm | 3.264 | 0.044 | 3.332 | |
| plot_NA_density | 0.453 | 0.009 | 0.467 | |
| plot_NA_frequency | 0.240 | 0.004 | 0.246 | |
| plot_NA_heatmap | 1.551 | 0.101 | 1.669 | |
| plot_PCA | 1.678 | 0.017 | 1.709 | |
| plot_ROC_AUC_spiked | 1.393 | 0.023 | 1.426 | |
| plot_TP_FP_spiked_bar | 0.378 | 0.007 | 0.389 | |
| plot_TP_FP_spiked_box | 0.456 | 0.006 | 0.466 | |
| plot_TP_FP_spiked_scatter | 0.490 | 0.008 | 0.502 | |
| plot_boxplots | 5.018 | 0.048 | 5.098 | |
| plot_condition_overview | 0.284 | 0.004 | 0.290 | |
| plot_densities | 3.249 | 0.039 | 3.311 | |
| plot_fold_changes_spiked | 0.647 | 0.010 | 0.661 | |
| plot_heatmap | 4.414 | 0.046 | 4.479 | |
| plot_heatmap_DE | 1.369 | 0.022 | 1.396 | |
| plot_histogram_spiked | 0.415 | 0.005 | 0.421 | |
| plot_identified_spiked_proteins | 0.504 | 0.008 | 0.514 | |
| plot_intersection_enrichment | 0.961 | 0.041 | 2.125 | |
| plot_intragroup_PCV | 0.675 | 0.007 | 0.684 | |
| plot_intragroup_PEV | 0.536 | 0.008 | 0.547 | |
| plot_intragroup_PMAD | 0.502 | 0.006 | 0.512 | |
| plot_intragroup_correlation | 0.494 | 0.006 | 0.503 | |
| plot_jaccard_heatmap | 0.381 | 0.006 | 0.390 | |
| plot_logFC_thresholds_spiked | 0.783 | 0.011 | 0.800 | |
| plot_markers_boxplots | 0.928 | 0.007 | 0.940 | |
| plot_nr_prot_samples | 0.313 | 0.004 | 0.319 | |
| plot_overview_DE_bar | 0.507 | 0.006 | 0.516 | |
| plot_overview_DE_tile | 0.312 | 0.005 | 0.319 | |
| plot_profiles_spiked | 0.892 | 0.014 | 0.912 | |
| plot_pvalues_spiked | 0.598 | 0.011 | 0.613 | |
| plot_stats_spiked_heatmap | 0.377 | 0.006 | 0.385 | |
| plot_tot_int_samples | 0.295 | 0.004 | 0.302 | |
| plot_upset | 1.020 | 0.017 | 1.043 | |
| plot_upset_DE | 0.034 | 0.002 | 0.036 | |
| plot_volcano_DE | 4.572 | 0.038 | 4.640 | |
| quantileNorm | 0.035 | 0.002 | 0.037 | |
| readPRONE_example | 0.001 | 0.000 | 0.002 | |
| remove_POMA_outliers | 0.707 | 0.006 | 0.716 | |
| remove_assays_from_SE | 0.042 | 0.003 | 0.045 | |
| remove_reference_samples | 0.042 | 0.002 | 0.045 | |
| remove_samples_manually | 0.032 | 0.002 | 0.035 | |
| rlrMACycNorm | 0.743 | 0.007 | 0.754 | |
| rlrMANorm | 0.100 | 0.003 | 0.104 | |
| rlrNorm | 0.085 | 0.002 | 0.088 | |
| robnormNorm | 0.082 | 0.006 | 0.087 | |
| run_DE | 2.494 | 0.022 | 2.528 | |
| specify_comparisons | 0.023 | 0.002 | 0.024 | |
| subset_SE_by_norm | 0.090 | 0.002 | 0.092 | |
| tmmNorm | 0.116 | 0.009 | 0.126 | |
| vsnNorm | 0.076 | 0.002 | 0.079 | |