| Back to Multiple platform build/check report for BioC 3.22: simplified long |
|
This page was generated on 2025-10-23 12:04 -0400 (Thu, 23 Oct 2025).
| Hostname | OS | Arch (*) | R version | Installed pkgs |
|---|---|---|---|---|
| nebbiolo2 | Linux (Ubuntu 24.04.3 LTS) | x86_64 | 4.5.1 Patched (2025-08-23 r88802) -- "Great Square Root" | 4894 |
| lconway | macOS 12.7.6 Monterey | x86_64 | 4.5.1 Patched (2025-09-10 r88807) -- "Great Square Root" | 4684 |
| kjohnson3 | macOS 13.7.7 Ventura | arm64 | 4.5.1 Patched (2025-09-10 r88807) -- "Great Square Root" | 4629 |
| taishan | Linux (openEuler 24.03 LTS) | aarch64 | 4.5.0 (2025-04-11) -- "How About a Twenty-Six" | 4642 |
| Click on any hostname to see more info about the system (e.g. compilers) (*) as reported by 'uname -p', except on Windows and Mac OS X | ||||
| Package 1647/2355 | Hostname | OS / Arch | INSTALL | BUILD | CHECK | BUILD BIN | ||||||||
| PRONE 1.3.2 (landing page) Lis Arend
| nebbiolo2 | Linux (Ubuntu 24.04.3 LTS) / x86_64 | OK | OK | OK | |||||||||
| lconway | macOS 12.7.6 Monterey / x86_64 | OK | OK | OK | OK | |||||||||
| kjohnson3 | macOS 13.7.7 Ventura / arm64 | OK | OK | OK | OK | |||||||||
| taishan | Linux (openEuler 24.03 LTS) / aarch64 | OK | OK | NA | ||||||||||
|
To the developers/maintainers of the PRONE package: - Allow up to 24 hours (and sometimes 48 hours) for your latest push to git@git.bioconductor.org:packages/PRONE.git to reflect on this report. See Troubleshooting Build Report for more information. - Use the following Renviron settings to reproduce errors and warnings. - If 'R CMD check' started to fail recently on the Linux builder(s) over a missing dependency, add the missing dependency to 'Suggests:' in your DESCRIPTION file. See Renviron.bioc for more information. |
| Package: PRONE |
| Version: 1.3.2 |
| Command: /home/biocbuild/bbs-3.22-bioc/R/bin/R CMD check --install=check:PRONE.install-out.txt --library=/home/biocbuild/bbs-3.22-bioc/R/site-library --timings PRONE_1.3.2.tar.gz |
| StartedAt: 2025-10-23 03:28:40 -0400 (Thu, 23 Oct 2025) |
| EndedAt: 2025-10-23 03:36:30 -0400 (Thu, 23 Oct 2025) |
| EllapsedTime: 470.4 seconds |
| RetCode: 0 |
| Status: OK |
| CheckDir: PRONE.Rcheck |
| Warnings: 0 |
##############################################################################
##############################################################################
###
### Running command:
###
### /home/biocbuild/bbs-3.22-bioc/R/bin/R CMD check --install=check:PRONE.install-out.txt --library=/home/biocbuild/bbs-3.22-bioc/R/site-library --timings PRONE_1.3.2.tar.gz
###
##############################################################################
##############################################################################
* using log directory ‘/home/biocbuild/bbs-3.22-bioc/meat/PRONE.Rcheck’
* using R version 4.5.1 Patched (2025-08-23 r88802)
* using platform: x86_64-pc-linux-gnu
* R was compiled by
gcc (Ubuntu 13.3.0-6ubuntu2~24.04) 13.3.0
GNU Fortran (Ubuntu 13.3.0-6ubuntu2~24.04) 13.3.0
* running under: Ubuntu 24.04.3 LTS
* using session charset: UTF-8
* checking for file ‘PRONE/DESCRIPTION’ ... OK
* checking extension type ... Package
* this is package ‘PRONE’ version ‘1.3.2’
* package encoding: UTF-8
* checking package namespace information ... OK
* checking package dependencies ... INFO
Imports includes 34 non-default packages.
Importing from so many packages makes the package vulnerable to any of
them becoming unavailable. Move as many as possible to Suggests and
use conditionally.
* checking if this is a source package ... OK
* checking if there is a namespace ... OK
* checking for hidden files and directories ... OK
* checking for portable file names ... OK
* checking for sufficient/correct file permissions ... OK
* checking whether package ‘PRONE’ can be installed ... OK
* checking installed package size ... OK
* checking package directory ... OK
* checking ‘build’ directory ... OK
* checking DESCRIPTION meta-information ... OK
* checking top-level files ... OK
* checking for left-over files ... OK
* checking index information ... OK
* checking package subdirectories ... OK
* checking code files for non-ASCII characters ... OK
* checking R files for syntax errors ... OK
* checking whether the package can be loaded ... OK
* checking whether the package can be loaded with stated dependencies ... OK
* checking whether the package can be unloaded cleanly ... OK
* checking whether the namespace can be loaded with stated dependencies ... OK
* checking whether the namespace can be unloaded cleanly ... OK
* checking loading without being on the library search path ... OK
* checking dependencies in R code ... NOTE
Unexported objects imported by ':::' calls:
‘NormalyzerDE:::calculateAvgMadMem’
‘NormalyzerDE:::calculateAvgReplicateVariation’
‘NormalyzerDE:::calculatePercentageAvgDiffInMat’
‘NormalyzerDE:::calculateReplicateCV’
‘NormalyzerDE:::calculateSummarizedCorrelationVector’
See the note in ?`:::` about the use of this operator.
* checking S3 generic/method consistency ... OK
* checking replacement functions ... OK
* checking foreign function calls ... OK
* checking R code for possible problems ... NOTE
plot_upset_DE: no visible global function definition for
‘packageVersion’
Undefined global functions or variables:
packageVersion
Consider adding
importFrom("utils", "packageVersion")
to your NAMESPACE file.
* checking Rd files ... OK
* checking Rd metadata ... OK
* checking Rd cross-references ... OK
* checking for missing documentation entries ... OK
* checking for code/documentation mismatches ... OK
* checking Rd \usage sections ... OK
* checking Rd contents ... OK
* checking for unstated dependencies in examples ... OK
* checking contents of ‘data’ directory ... OK
* checking data for non-ASCII characters ... OK
* checking data for ASCII and uncompressed saves ... OK
* checking files in ‘vignettes’ ... OK
* checking examples ... OK
* checking for unstated dependencies in vignettes ... OK
* checking package vignettes ... OK
* checking re-building of vignette outputs ... OK
* checking PDF version of manual ... OK
* DONE
Status: 2 NOTEs
See
‘/home/biocbuild/bbs-3.22-bioc/meat/PRONE.Rcheck/00check.log’
for details.
PRONE.Rcheck/00install.out
############################################################################## ############################################################################## ### ### Running command: ### ### /home/biocbuild/bbs-3.22-bioc/R/bin/R CMD INSTALL PRONE ### ############################################################################## ############################################################################## * installing to library ‘/home/biocbuild/bbs-3.22-bioc/R/site-library’ * installing *source* package ‘PRONE’ ... ** this is package ‘PRONE’ version ‘1.3.2’ ** using staged installation ** R ** data ** inst ** byte-compile and prepare package for lazy loading ** help *** installing help indices *** copying figures ** building package indices ** installing vignettes ** testing if installed package can be loaded from temporary location ** testing if installed package can be loaded from final location ** testing if installed package keeps a record of temporary installation path * DONE (PRONE)
PRONE.Rcheck/PRONE-Ex.timings
| name | user | system | elapsed | |
| apply_thresholds | 0.031 | 0.001 | 0.033 | |
| detect_outliers_POMA | 1.681 | 0.087 | 1.769 | |
| eigenMSNorm | 0.592 | 0.049 | 0.640 | |
| export_data | 0.026 | 0.002 | 0.028 | |
| extract_consensus_DE_candidates | 0.080 | 0.001 | 0.081 | |
| filter_out_NA_proteins_by_threshold | 0.219 | 0.000 | 0.211 | |
| filter_out_complete_NA_proteins | 0.053 | 0.000 | 0.053 | |
| filter_out_proteins_by_ID | 0.154 | 0.002 | 0.156 | |
| filter_out_proteins_by_value | 0.154 | 0.000 | 0.155 | |
| get_NA_overview | 0.034 | 0.002 | 0.037 | |
| get_normalization_methods | 0 | 0 | 0 | |
| get_overview_DE | 0.061 | 0.000 | 0.060 | |
| get_proteins_by_value | 0.141 | 0.001 | 0.141 | |
| get_spiked_stats_DE | 0.086 | 0.000 | 0.086 | |
| globalIntNorm | 0.125 | 0.001 | 0.127 | |
| globalMeanNorm | 0.127 | 0.001 | 0.128 | |
| globalMedianNorm | 0.133 | 0.000 | 0.132 | |
| impute_se | 0.749 | 0.023 | 0.717 | |
| irsNorm | 0.055 | 0.001 | 0.056 | |
| limmaNorm | 0.066 | 0.001 | 0.067 | |
| load_data | 0.046 | 0.000 | 0.047 | |
| load_spike_data | 0.039 | 0.002 | 0.040 | |
| loessCycNorm | 0.116 | 0.004 | 0.120 | |
| loessFNorm | 0.085 | 0.000 | 0.085 | |
| meanNorm | 0.042 | 0.000 | 0.043 | |
| medianAbsDevNorm | 0.095 | 0.001 | 0.096 | |
| medianNorm | 0.057 | 0.003 | 0.060 | |
| normalize_se | 3.378 | 0.076 | 3.454 | |
| normalize_se_combination | 4.027 | 0.163 | 4.190 | |
| normalize_se_single | 3.125 | 0.080 | 3.205 | |
| normicsNorm | 2.990 | 0.036 | 3.026 | |
| plot_NA_density | 0.402 | 0.003 | 0.389 | |
| plot_NA_frequency | 0.225 | 0.001 | 0.210 | |
| plot_NA_heatmap | 1.299 | 0.020 | 1.321 | |
| plot_PCA | 1.297 | 0.021 | 1.320 | |
| plot_ROC_AUC_spiked | 1.160 | 0.018 | 1.163 | |
| plot_TP_FP_spiked_bar | 0.329 | 0.002 | 0.332 | |
| plot_TP_FP_spiked_box | 0.416 | 0.001 | 0.418 | |
| plot_TP_FP_spiked_scatter | 0.428 | 0.003 | 0.431 | |
| plot_boxplots | 4.526 | 0.052 | 4.472 | |
| plot_condition_overview | 0.285 | 0.028 | 0.315 | |
| plot_densities | 2.655 | 0.022 | 2.628 | |
| plot_fold_changes_spiked | 0.551 | 0.005 | 0.550 | |
| plot_heatmap | 3.608 | 0.006 | 3.615 | |
| plot_heatmap_DE | 1.202 | 0.007 | 1.209 | |
| plot_histogram_spiked | 0.400 | 0.003 | 0.388 | |
| plot_identified_spiked_proteins | 0.453 | 0.002 | 0.455 | |
| plot_intersection_enrichment | 0.774 | 0.006 | 2.090 | |
| plot_intragroup_PCV | 0.588 | 0.004 | 0.592 | |
| plot_intragroup_PEV | 0.405 | 0.001 | 0.406 | |
| plot_intragroup_PMAD | 0.490 | 0.004 | 0.494 | |
| plot_intragroup_correlation | 0.403 | 0.001 | 0.403 | |
| plot_jaccard_heatmap | 0.308 | 0.002 | 0.290 | |
| plot_logFC_thresholds_spiked | 0.686 | 0.001 | 0.687 | |
| plot_markers_boxplots | 0.783 | 0.000 | 0.777 | |
| plot_nr_prot_samples | 0.288 | 0.001 | 0.290 | |
| plot_overview_DE_bar | 0.408 | 0.006 | 0.413 | |
| plot_overview_DE_tile | 0.236 | 0.003 | 0.238 | |
| plot_profiles_spiked | 0.808 | 0.004 | 0.791 | |
| plot_pvalues_spiked | 0.497 | 0.000 | 0.499 | |
| plot_stats_spiked_heatmap | 0.383 | 0.003 | 0.387 | |
| plot_tot_int_samples | 0.276 | 0.002 | 0.276 | |
| plot_upset | 0.782 | 0.001 | 0.784 | |
| plot_upset_DE | 0.031 | 0.000 | 0.032 | |
| plot_volcano_DE | 3.989 | 0.002 | 3.992 | |
| quantileNorm | 0.044 | 0.002 | 0.047 | |
| readPRONE_example | 0.001 | 0.000 | 0.001 | |
| remove_POMA_outliers | 0.644 | 0.003 | 0.646 | |
| remove_assays_from_SE | 0.045 | 0.003 | 0.049 | |
| remove_reference_samples | 0.048 | 0.000 | 0.048 | |
| remove_samples_manually | 0.041 | 0.000 | 0.041 | |
| rlrMACycNorm | 0.565 | 0.003 | 0.567 | |
| rlrMANorm | 0.098 | 0.000 | 0.099 | |
| rlrNorm | 0.121 | 0.000 | 0.122 | |
| robnormNorm | 0.079 | 0.000 | 0.079 | |
| run_DE | 2.388 | 0.002 | 2.324 | |
| specify_comparisons | 0.043 | 0.000 | 0.030 | |
| subset_SE_by_norm | 0.079 | 0.000 | 0.079 | |
| tmmNorm | 0.128 | 0.003 | 0.131 | |
| vsnNorm | 0.987 | 0.089 | 1.076 | |