| Back to Multiple platform build/check report for BioC 3.22: simplified long |
|
This page was generated on 2025-08-15 12:06 -0400 (Fri, 15 Aug 2025).
| Hostname | OS | Arch (*) | R version | Installed pkgs |
|---|---|---|---|---|
| nebbiolo2 | Linux (Ubuntu 24.04.3 LTS) | x86_64 | 4.5.1 (2025-06-13) -- "Great Square Root" | 4818 |
| palomino8 | Windows Server 2022 Datacenter | x64 | 4.5.1 (2025-06-13 ucrt) -- "Great Square Root" | 4554 |
| lconway | macOS 12.7.1 Monterey | x86_64 | 4.5.1 (2025-06-13) -- "Great Square Root" | 4595 |
| kjohnson3 | macOS 13.7.7 Ventura | arm64 | 4.5.1 Patched (2025-06-14 r88325) -- "Great Square Root" | 4537 |
| taishan | Linux (openEuler 24.03 LTS) | aarch64 | 4.5.0 (2025-04-11) -- "How About a Twenty-Six" | 4535 |
| Click on any hostname to see more info about the system (e.g. compilers) (*) as reported by 'uname -p', except on Windows and Mac OS X | ||||
| Package 828/2317 | Hostname | OS / Arch | INSTALL | BUILD | CHECK | BUILD BIN | ||||||||
| GenomicDistributions 1.17.1 (landing page) Kristyna Kupkova
| nebbiolo2 | Linux (Ubuntu 24.04.3 LTS) / x86_64 | OK | OK | OK | |||||||||
| palomino8 | Windows Server 2022 Datacenter / x64 | OK | OK | OK | OK | |||||||||
| lconway | macOS 12.7.1 Monterey / x86_64 | OK | OK | OK | OK | |||||||||
| kjohnson3 | macOS 13.7.7 Ventura / arm64 | OK | OK | OK | OK | |||||||||
| taishan | Linux (openEuler 24.03 LTS) / aarch64 | OK | OK | OK | ||||||||||
|
To the developers/maintainers of the GenomicDistributions package: - Allow up to 24 hours (and sometimes 48 hours) for your latest push to git@git.bioconductor.org:packages/GenomicDistributions.git to reflect on this report. See Troubleshooting Build Report for more information. - Use the following Renviron settings to reproduce errors and warnings. - If 'R CMD check' started to fail recently on the Linux builder(s) over a missing dependency, add the missing dependency to 'Suggests:' in your DESCRIPTION file. See Renviron.bioc for more information. |
| Package: GenomicDistributions |
| Version: 1.17.1 |
| Command: F:\biocbuild\bbs-3.22-bioc\R\bin\R.exe CMD check --no-multiarch --install=check:GenomicDistributions.install-out.txt --library=F:\biocbuild\bbs-3.22-bioc\R\library --no-vignettes --timings GenomicDistributions_1.17.1.tar.gz |
| StartedAt: 2025-08-15 03:33:56 -0400 (Fri, 15 Aug 2025) |
| EndedAt: 2025-08-15 03:37:21 -0400 (Fri, 15 Aug 2025) |
| EllapsedTime: 204.5 seconds |
| RetCode: 0 |
| Status: OK |
| CheckDir: GenomicDistributions.Rcheck |
| Warnings: 0 |
##############################################################################
##############################################################################
###
### Running command:
###
### F:\biocbuild\bbs-3.22-bioc\R\bin\R.exe CMD check --no-multiarch --install=check:GenomicDistributions.install-out.txt --library=F:\biocbuild\bbs-3.22-bioc\R\library --no-vignettes --timings GenomicDistributions_1.17.1.tar.gz
###
##############################################################################
##############################################################################
* using log directory 'F:/biocbuild/bbs-3.22-bioc/meat/GenomicDistributions.Rcheck'
* using R version 4.5.1 (2025-06-13 ucrt)
* using platform: x86_64-w64-mingw32
* R was compiled by
gcc.exe (GCC) 14.2.0
GNU Fortran (GCC) 14.2.0
* running under: Windows Server 2022 x64 (build 20348)
* using session charset: UTF-8
* using option '--no-vignettes'
* checking for file 'GenomicDistributions/DESCRIPTION' ... OK
* this is package 'GenomicDistributions' version '1.17.1'
* package encoding: UTF-8
* checking package namespace information ... OK
* checking package dependencies ... OK
* checking if this is a source package ... OK
* checking if there is a namespace ... OK
* checking for hidden files and directories ... OK
* checking for portable file names ... OK
* checking whether package 'GenomicDistributions' can be installed ... OK
* checking installed package size ... OK
* checking package directory ... OK
* checking 'build' directory ... OK
* checking DESCRIPTION meta-information ... OK
* checking top-level files ... OK
* checking for left-over files ... OK
* checking index information ... OK
* checking package subdirectories ... OK
* checking code files for non-ASCII characters ... OK
* checking R files for syntax errors ... OK
* checking whether the package can be loaded ... OK
* checking whether the package can be loaded with stated dependencies ... OK
* checking whether the package can be unloaded cleanly ... OK
* checking whether the namespace can be loaded with stated dependencies ... OK
* checking whether the namespace can be unloaded cleanly ... OK
* checking dependencies in R code ... OK
* checking S3 generic/method consistency ... OK
* checking replacement functions ... OK
* checking foreign function calls ... OK
* checking R code for possible problems ... OK
* checking Rd files ... OK
* checking Rd metadata ... OK
* checking Rd cross-references ... OK
* checking for missing documentation entries ... OK
* checking for code/documentation mismatches ... OK
* checking Rd \usage sections ... OK
* checking Rd contents ... OK
* checking for unstated dependencies in examples ... OK
* checking contents of 'data' directory ... OK
* checking data for non-ASCII characters ... OK
* checking LazyData ... OK
* checking data for ASCII and uncompressed saves ... OK
* checking files in 'vignettes' ... OK
* checking examples ... OK
Examples with CPU (user + system) or elapsed time > 5s
user system elapsed
getGeneModelsFromGTF 9.57 0.48 10.04
* checking for unstated dependencies in 'tests' ... OK
* checking tests ...
Running 'testthat.R'
OK
* checking for unstated dependencies in vignettes ... OK
* checking package vignettes ... OK
* checking running R code from vignettes ... SKIPPED
* checking re-building of vignette outputs ... SKIPPED
* checking PDF version of manual ... OK
* DONE
Status: OK
GenomicDistributions.Rcheck/00install.out
############################################################################## ############################################################################## ### ### Running command: ### ### F:\biocbuild\bbs-3.22-bioc\R\bin\R.exe CMD INSTALL GenomicDistributions ### ############################################################################## ############################################################################## * installing to library 'F:/biocbuild/bbs-3.22-bioc/R/library' * installing *source* package 'GenomicDistributions' ... ** this is package 'GenomicDistributions' version '1.17.1' ** using staged installation ** R ** data *** moving datasets to lazyload DB ** inst ** byte-compile and prepare package for lazy loading ** help *** installing help indices ** building package indices ** installing vignettes ** testing if installed package can be loaded from temporary location ** testing if installed package can be loaded from final location ** testing if installed package keeps a record of temporary installation path * DONE (GenomicDistributions)
GenomicDistributions.Rcheck/tests/testthat.Rout
R version 4.5.1 (2025-06-13 ucrt) -- "Great Square Root"
Copyright (C) 2025 The R Foundation for Statistical Computing
Platform: x86_64-w64-mingw32/x64
R is free software and comes with ABSOLUTELY NO WARRANTY.
You are welcome to redistribute it under certain conditions.
Type 'license()' or 'licence()' for distribution details.
R is a collaborative project with many contributors.
Type 'contributors()' for more information and
'citation()' on how to cite R or R packages in publications.
Type 'demo()' for some demos, 'help()' for on-line help, or
'help.start()' for an HTML browser interface to help.
Type 'q()' to quit R.
> library(testthat)
> library("GenomicDistributions")
Loading required package: IRanges
Loading required package: BiocGenerics
Loading required package: generics
Attaching package: 'generics'
The following objects are masked from 'package:base':
as.difftime, as.factor, as.ordered, intersect, is.element, setdiff,
setequal, union
Attaching package: 'BiocGenerics'
The following objects are masked from 'package:stats':
IQR, mad, sd, var, xtabs
The following objects are masked from 'package:base':
Filter, Find, Map, Position, Reduce, anyDuplicated, aperm, append,
as.data.frame, basename, cbind, colnames, dirname, do.call,
duplicated, eval, evalq, get, grep, grepl, is.unsorted, lapply,
mapply, match, mget, order, paste, pmax, pmax.int, pmin, pmin.int,
rank, rbind, rownames, sapply, saveRDS, table, tapply, unique,
unsplit, which.max, which.min
Loading required package: S4Vectors
Loading required package: stats4
Attaching package: 'S4Vectors'
The following object is masked from 'package:utils':
findMatches
The following objects are masked from 'package:base':
I, expand.grid, unname
Attaching package: 'IRanges'
The following object is masked from 'package:grDevices':
windows
Loading required package: GenomicRanges
Loading required package: Seqinfo
>
> test_check("GenomicDistributions")
[ FAIL 0 | WARN 0 | SKIP 1 | PASS 48 ]
══ Skipped tests (1) ═══════════════════════════════════════════════════════════
• empty test (1): 'test_all.R:139:1'
[ FAIL 0 | WARN 0 | SKIP 1 | PASS 48 ]
>
> proc.time()
user system elapsed
30.54 1.85 32.39
GenomicDistributions.Rcheck/GenomicDistributions-Ex.timings
| name | user | system | elapsed | |
| binBSGenome | 0 | 0 | 0 | |
| binChroms | 0.02 | 0.00 | 0.01 | |
| binRegion | 0 | 0 | 0 | |
| calcChromBins | 2.02 | 0.03 | 2.05 | |
| calcChromBinsRef | 0.01 | 0.02 | 0.03 | |
| calcChromBinsRefSlow | 0.00 | 0.01 | 0.03 | |
| calcCumulativePartitions | 2.92 | 0.17 | 3.09 | |
| calcCumulativePartitionsRef | 2.16 | 0.11 | 2.27 | |
| calcDinuclFreq | 0 | 0 | 0 | |
| calcDinuclFreqRef | 0 | 0 | 0 | |
| calcExpectedPartitions | 1.61 | 0.16 | 1.77 | |
| calcExpectedPartitionsRef | 1.93 | 0.14 | 2.08 | |
| calcFeatureDist | 0.14 | 0.02 | 0.15 | |
| calcFeatureDistRefTSS | 0.22 | 0.03 | 0.25 | |
| calcGCContent | 0 | 0 | 0 | |
| calcGCContentRef | 0 | 0 | 0 | |
| calcNearestNeighbors | 0.05 | 0.00 | 0.05 | |
| calcNeighborDist | 0.04 | 0.00 | 0.03 | |
| calcPartitions | 2.34 | 0.12 | 2.47 | |
| calcPartitionsRef | 1.59 | 0.09 | 1.69 | |
| calcSummarySignal | 0.03 | 0.00 | 0.03 | |
| calcWidth | 0 | 0 | 0 | |
| dot-validateInputs | 0 | 0 | 0 | |
| dtToGr | 0.02 | 0.00 | 0.02 | |
| genomePartitionList | 1.44 | 0.03 | 1.47 | |
| getChromSizes | 0.00 | 0.02 | 0.01 | |
| getChromSizesFromFasta | 0.03 | 0.00 | 0.03 | |
| getGeneModels | 0.09 | 0.00 | 0.10 | |
| getGeneModelsFromGTF | 9.57 | 0.48 | 10.04 | |
| getGenomeBins | 1.50 | 0.05 | 1.55 | |
| getTssFromGTF | 0.17 | 0.00 | 0.17 | |
| loadBSgenome | 0 | 0 | 0 | |
| loadEnsDb | 0 | 0 | 0 | |
| nlist | 0 | 0 | 0 | |
| plotChromBins | 0.08 | 0.00 | 0.08 | |
| plotCumulativePartitions | 2.95 | 0.15 | 3.11 | |
| plotDinuclFreq | 0.01 | 0.00 | 0.01 | |
| plotExpectedPartitions | 1.66 | 0.10 | 1.77 | |
| plotFeatureDist | 0.38 | 0.00 | 0.37 | |
| plotGCContent | 0.06 | 0.00 | 0.06 | |
| plotNeighborDist | 0.01 | 0.00 | 0.02 | |
| plotPartitions | 1.82 | 0.11 | 1.92 | |
| plotQTHist | 0.04 | 0.00 | 0.05 | |
| plotSummarySignal | 0.11 | 0.00 | 0.11 | |
| retrieveFile | 0 | 0 | 0 | |