| Back to Multiple platform build/check report for BioC 3.22: simplified long |
|
This page was generated on 2025-11-04 12:04 -0500 (Tue, 04 Nov 2025).
| Hostname | OS | Arch (*) | R version | Installed pkgs |
|---|---|---|---|---|
| nebbiolo2 | Linux (Ubuntu 24.04.3 LTS) | x86_64 | 4.5.1 Patched (2025-08-23 r88802) -- "Great Square Root" | 4902 |
| lconway | macOS 12.7.6 Monterey | x86_64 | 4.5.1 Patched (2025-09-10 r88807) -- "Great Square Root" | 4692 |
| kjohnson3 | macOS 13.7.7 Ventura | arm64 | 4.5.1 Patched (2025-09-10 r88807) -- "Great Square Root" | 4638 |
| Click on any hostname to see more info about the system (e.g. compilers) (*) as reported by 'uname -p', except on Windows and Mac OS X | ||||
| Package 920/2361 | Hostname | OS / Arch | INSTALL | BUILD | CHECK | BUILD BIN | ||||||||
| GRaNIE 1.14.0 (landing page) Christian Arnold
| nebbiolo2 | Linux (Ubuntu 24.04.3 LTS) / x86_64 | OK | OK | OK | |||||||||
| lconway | macOS 12.7.6 Monterey / x86_64 | OK | OK | OK | OK | |||||||||
| kjohnson3 | macOS 13.7.7 Ventura / arm64 | OK | OK | OK | OK | |||||||||
|
To the developers/maintainers of the GRaNIE package: - Allow up to 24 hours (and sometimes 48 hours) for your latest push to git@git.bioconductor.org:packages/GRaNIE.git to reflect on this report. See Troubleshooting Build Report for more information. - Use the following Renviron settings to reproduce errors and warnings. - If 'R CMD check' started to fail recently on the Linux builder(s) over a missing dependency, add the missing dependency to 'Suggests:' in your DESCRIPTION file. See Renviron.bioc for more information. |
| Package: GRaNIE |
| Version: 1.14.0 |
| Command: /Library/Frameworks/R.framework/Resources/bin/R CMD check --install=check:GRaNIE.install-out.txt --library=/Library/Frameworks/R.framework/Resources/library --no-vignettes --timings GRaNIE_1.14.0.tar.gz |
| StartedAt: 2025-11-03 21:40:55 -0500 (Mon, 03 Nov 2025) |
| EndedAt: 2025-11-03 21:49:37 -0500 (Mon, 03 Nov 2025) |
| EllapsedTime: 521.8 seconds |
| RetCode: 0 |
| Status: OK |
| CheckDir: GRaNIE.Rcheck |
| Warnings: 0 |
##############################################################################
##############################################################################
###
### Running command:
###
### /Library/Frameworks/R.framework/Resources/bin/R CMD check --install=check:GRaNIE.install-out.txt --library=/Library/Frameworks/R.framework/Resources/library --no-vignettes --timings GRaNIE_1.14.0.tar.gz
###
##############################################################################
##############################################################################
* using log directory ‘/Users/biocbuild/bbs-3.22-bioc/meat/GRaNIE.Rcheck’
* using R version 4.5.1 Patched (2025-09-10 r88807)
* using platform: x86_64-apple-darwin20
* R was compiled by
Apple clang version 14.0.0 (clang-1400.0.29.202)
GNU Fortran (GCC) 14.2.0
* running under: macOS Monterey 12.7.6
* using session charset: UTF-8
* using option ‘--no-vignettes’
* checking for file ‘GRaNIE/DESCRIPTION’ ... OK
* this is package ‘GRaNIE’ version ‘1.14.0’
* package encoding: UTF-8
* checking package namespace information ... OK
* checking package dependencies ... INFO
Imports includes 37 non-default packages.
Importing from so many packages makes the package vulnerable to any of
them becoming unavailable. Move as many as possible to Suggests and
use conditionally.
* checking if this is a source package ... OK
* checking if there is a namespace ... OK
* checking for hidden files and directories ... OK
* checking for portable file names ... OK
* checking for sufficient/correct file permissions ... OK
* checking whether package ‘GRaNIE’ can be installed ... OK
* checking installed package size ... OK
* checking package directory ... OK
* checking ‘build’ directory ... OK
* checking DESCRIPTION meta-information ... OK
* checking top-level files ... OK
* checking for left-over files ... OK
* checking index information ... OK
* checking package subdirectories ... OK
* checking code files for non-ASCII characters ... OK
* checking R files for syntax errors ... OK
* checking whether the package can be loaded ... OK
* checking whether the package can be loaded with stated dependencies ... OK
* checking whether the package can be unloaded cleanly ... OK
* checking whether the namespace can be loaded with stated dependencies ... OK
* checking whether the namespace can be unloaded cleanly ... OK
* checking whether startup messages can be suppressed ... OK
* checking dependencies in R code ... OK
* checking S3 generic/method consistency ... OK
* checking replacement functions ... OK
* checking foreign function calls ... OK
* checking R code for possible problems ... NOTE
.performIHW: no visible binding for global variable 'adj_pvalue'
Undefined global functions or variables:
adj_pvalue
* checking Rd files ... OK
* checking Rd metadata ... OK
* checking Rd cross-references ... OK
* checking for missing documentation entries ... OK
* checking for code/documentation mismatches ... OK
* checking Rd \usage sections ... OK
* checking Rd contents ... OK
* checking for unstated dependencies in examples ... OK
* checking files in ‘vignettes’ ... OK
* checking examples ... OK
Examples with CPU (user + system) or elapsed time > 5s
user system elapsed
generateStatsSummary 7.412 0.159 8.020
addConnections_TF_peak 5.790 1.154 9.295
addSNPData 4.759 0.344 6.646
plotDiagnosticPlots_peakGene 4.649 0.107 5.179
plotCommunitiesEnrichment 4.584 0.160 5.196
* checking for unstated dependencies in vignettes ... OK
* checking package vignettes ... OK
* checking running R code from vignettes ... SKIPPED
* checking re-building of vignette outputs ... SKIPPED
* checking PDF version of manual ... OK
* DONE
Status: 1 NOTE
See
‘/Users/biocbuild/bbs-3.22-bioc/meat/GRaNIE.Rcheck/00check.log’
for details.
GRaNIE.Rcheck/00install.out
############################################################################## ############################################################################## ### ### Running command: ### ### /Library/Frameworks/R.framework/Resources/bin/R CMD INSTALL GRaNIE ### ############################################################################## ############################################################################## * installing to library ‘/Library/Frameworks/R.framework/Versions/4.5-x86_64/Resources/library’ * installing *source* package ‘GRaNIE’ ... ** this is package ‘GRaNIE’ version ‘1.14.0’ ** using staged installation ** R ** byte-compile and prepare package for lazy loading ** help *** installing help indices *** copying figures ** building package indices ** installing vignettes ** testing if installed package can be loaded from temporary location ** testing if installed package can be loaded from final location ** testing if installed package keeps a record of temporary installation path * DONE (GRaNIE)
GRaNIE.Rcheck/GRaNIE-Ex.timings
| name | user | system | elapsed | |
| AR_classification_wrapper | 0.000 | 0.000 | 0.001 | |
| addConnections_TF_peak | 5.790 | 1.154 | 9.295 | |
| addConnections_peak_gene | 2.988 | 0.087 | 3.511 | |
| addData | 0 | 0 | 0 | |
| addSNPData | 4.759 | 0.344 | 6.646 | |
| addTFBS | 0 | 0 | 0 | |
| add_TF_gene_correlation | 2.746 | 0.080 | 3.255 | |
| add_featureVariation | 0 | 0 | 0 | |
| build_eGRN_graph | 1.765 | 0.051 | 2.240 | |
| calculateCommunitiesEnrichment | 2.887 | 0.183 | 3.504 | |
| calculateCommunitiesStats | 1.826 | 0.055 | 2.277 | |
| calculateGeneralEnrichment | 3.236 | 0.094 | 3.753 | |
| calculateTFEnrichment | 2.174 | 0.056 | 2.672 | |
| changeOutputDirectory | 1.914 | 0.063 | 2.384 | |
| deleteIntermediateData | 1.911 | 0.064 | 2.420 | |
| filterConnectionsForPlotting | 1.901 | 0.055 | 2.359 | |
| filterData | 2.340 | 0.072 | 2.826 | |
| filterGRNAndConnectGenes | 2.968 | 0.082 | 3.483 | |
| generateStatsSummary | 7.412 | 0.159 | 8.020 | |
| getCounts | 3.086 | 0.088 | 3.597 | |
| getGRNConnections | 1.945 | 0.068 | 2.448 | |
| getGRNSummary | 2.600 | 0.089 | 3.101 | |
| getParameters | 1.867 | 0.061 | 2.332 | |
| getTopNodes | 2.110 | 0.055 | 2.592 | |
| initializeGRN | 0.018 | 0.002 | 0.020 | |
| loadExampleObject | 2.858 | 0.072 | 3.372 | |
| nGenes | 1.772 | 0.051 | 2.225 | |
| nPeaks | 1.853 | 0.059 | 2.336 | |
| nTFs | 1.881 | 0.066 | 2.356 | |
| overlapPeaksAndTFBS | 1.789 | 0.053 | 2.258 | |
| performAllNetworkAnalyses | 0.000 | 0.001 | 0.000 | |
| plotCommunitiesEnrichment | 4.584 | 0.160 | 5.196 | |
| plotCommunitiesStats | 4.129 | 0.072 | 4.612 | |
| plotCorrelations | 2.236 | 0.067 | 2.714 | |
| plotDiagnosticPlots_TFPeaks | 3.827 | 0.090 | 4.329 | |
| plotDiagnosticPlots_peakGene | 4.649 | 0.107 | 5.179 | |
| plotGeneralEnrichment | 3.377 | 0.080 | 3.876 | |
| plotGeneralGraphStats | 3.383 | 0.148 | 3.962 | |
| plotPCA_all | 4.039 | 0.150 | 4.612 | |
| plotTFEnrichment | 2.896 | 0.103 | 3.412 | |
| plot_stats_connectionSummary | 2.557 | 0.090 | 3.072 | |
| visualizeGRN | 3.397 | 0.120 | 3.926 | |