| Back to Multiple platform build/check report for BioC 3.22: simplified long |
|
This page was generated on 2025-10-24 12:03 -0400 (Fri, 24 Oct 2025).
| Hostname | OS | Arch (*) | R version | Installed pkgs |
|---|---|---|---|---|
| nebbiolo2 | Linux (Ubuntu 24.04.3 LTS) | x86_64 | 4.5.1 Patched (2025-08-23 r88802) -- "Great Square Root" | 4898 |
| lconway | macOS 12.7.6 Monterey | x86_64 | 4.5.1 Patched (2025-09-10 r88807) -- "Great Square Root" | 4688 |
| kjohnson3 | macOS 13.7.7 Ventura | arm64 | 4.5.1 Patched (2025-09-10 r88807) -- "Great Square Root" | 4634 |
| taishan | Linux (openEuler 24.03 LTS) | aarch64 | 4.5.0 (2025-04-11) -- "How About a Twenty-Six" | 4658 |
| Click on any hostname to see more info about the system (e.g. compilers) (*) as reported by 'uname -p', except on Windows and Mac OS X | ||||
| Package 919/2359 | Hostname | OS / Arch | INSTALL | BUILD | CHECK | BUILD BIN | ||||||||
| GRaNIE 1.13.0 (landing page) Christian Arnold
| nebbiolo2 | Linux (Ubuntu 24.04.3 LTS) / x86_64 | OK | OK | OK | |||||||||
| lconway | macOS 12.7.6 Monterey / x86_64 | OK | OK | OK | OK | |||||||||
| kjohnson3 | macOS 13.7.7 Ventura / arm64 | OK | OK | OK | OK | |||||||||
| taishan | Linux (openEuler 24.03 LTS) / aarch64 | OK | OK | NA | ||||||||||
|
To the developers/maintainers of the GRaNIE package: - Allow up to 24 hours (and sometimes 48 hours) for your latest push to git@git.bioconductor.org:packages/GRaNIE.git to reflect on this report. See Troubleshooting Build Report for more information. - Use the following Renviron settings to reproduce errors and warnings. - If 'R CMD check' started to fail recently on the Linux builder(s) over a missing dependency, add the missing dependency to 'Suggests:' in your DESCRIPTION file. See Renviron.bioc for more information. |
| Package: GRaNIE |
| Version: 1.13.0 |
| Command: /home/biocbuild/bbs-3.22-bioc/R/bin/R CMD check --install=check:GRaNIE.install-out.txt --library=/home/biocbuild/bbs-3.22-bioc/R/site-library --timings GRaNIE_1.13.0.tar.gz |
| StartedAt: 2025-10-24 00:10:39 -0400 (Fri, 24 Oct 2025) |
| EndedAt: 2025-10-24 00:21:05 -0400 (Fri, 24 Oct 2025) |
| EllapsedTime: 625.8 seconds |
| RetCode: 0 |
| Status: OK |
| CheckDir: GRaNIE.Rcheck |
| Warnings: 0 |
##############################################################################
##############################################################################
###
### Running command:
###
### /home/biocbuild/bbs-3.22-bioc/R/bin/R CMD check --install=check:GRaNIE.install-out.txt --library=/home/biocbuild/bbs-3.22-bioc/R/site-library --timings GRaNIE_1.13.0.tar.gz
###
##############################################################################
##############################################################################
* using log directory ‘/home/biocbuild/bbs-3.22-bioc/meat/GRaNIE.Rcheck’
* using R version 4.5.1 Patched (2025-08-23 r88802)
* using platform: x86_64-pc-linux-gnu
* R was compiled by
gcc (Ubuntu 13.3.0-6ubuntu2~24.04) 13.3.0
GNU Fortran (Ubuntu 13.3.0-6ubuntu2~24.04) 13.3.0
* running under: Ubuntu 24.04.3 LTS
* using session charset: UTF-8
* checking for file ‘GRaNIE/DESCRIPTION’ ... OK
* this is package ‘GRaNIE’ version ‘1.13.0’
* package encoding: UTF-8
* checking package namespace information ... OK
* checking package dependencies ... INFO
Imports includes 37 non-default packages.
Importing from so many packages makes the package vulnerable to any of
them becoming unavailable. Move as many as possible to Suggests and
use conditionally.
* checking if this is a source package ... OK
* checking if there is a namespace ... OK
* checking for hidden files and directories ... OK
* checking for portable file names ... OK
* checking for sufficient/correct file permissions ... OK
* checking whether package ‘GRaNIE’ can be installed ... OK
* checking installed package size ... OK
* checking package directory ... OK
* checking ‘build’ directory ... OK
* checking DESCRIPTION meta-information ... OK
* checking top-level files ... OK
* checking for left-over files ... OK
* checking index information ... OK
* checking package subdirectories ... OK
* checking code files for non-ASCII characters ... OK
* checking R files for syntax errors ... OK
* checking whether the package can be loaded ... OK
* checking whether the package can be loaded with stated dependencies ... OK
* checking whether the package can be unloaded cleanly ... OK
* checking whether the namespace can be loaded with stated dependencies ... OK
* checking whether the namespace can be unloaded cleanly ... OK
* checking loading without being on the library search path ... OK
* checking whether startup messages can be suppressed ... OK
* checking dependencies in R code ... OK
* checking S3 generic/method consistency ... OK
* checking replacement functions ... OK
* checking foreign function calls ... OK
* checking R code for possible problems ... NOTE
.performIHW: no visible binding for global variable 'adj_pvalue'
Undefined global functions or variables:
adj_pvalue
* checking Rd files ... OK
* checking Rd metadata ... OK
* checking Rd cross-references ... OK
* checking for missing documentation entries ... OK
* checking for code/documentation mismatches ... OK
* checking Rd \usage sections ... OK
* checking Rd contents ... OK
* checking for unstated dependencies in examples ... OK
* checking files in ‘vignettes’ ... OK
* checking examples ... OK
Examples with CPU (user + system) or elapsed time > 5s
user system elapsed
plotDiagnosticPlots_peakGene 7.572 0.389 8.821
generateStatsSummary 6.443 0.017 6.884
plotGeneralGraphStats 6.260 0.033 6.719
addSNPData 5.493 0.252 6.941
plotGeneralEnrichment 5.521 0.064 6.108
plotDiagnosticPlots_TFPeaks 5.435 0.059 5.982
plotCommunitiesStats 5.230 0.061 7.214
plotCommunitiesEnrichment 4.366 0.065 5.404
getTopNodes 4.150 0.038 5.103
plotTFEnrichment 4.091 0.034 6.099
addConnections_TF_peak 3.915 0.199 6.367
getGRNSummary 3.767 0.056 5.275
* checking for unstated dependencies in vignettes ... OK
* checking package vignettes ... OK
* checking re-building of vignette outputs ... OK
* checking PDF version of manual ... OK
* DONE
Status: 1 NOTE
See
‘/home/biocbuild/bbs-3.22-bioc/meat/GRaNIE.Rcheck/00check.log’
for details.
GRaNIE.Rcheck/00install.out
############################################################################## ############################################################################## ### ### Running command: ### ### /home/biocbuild/bbs-3.22-bioc/R/bin/R CMD INSTALL GRaNIE ### ############################################################################## ############################################################################## * installing to library ‘/home/biocbuild/bbs-3.22-bioc/R/site-library’ * installing *source* package ‘GRaNIE’ ... ** this is package ‘GRaNIE’ version ‘1.13.0’ ** using staged installation ** R ** byte-compile and prepare package for lazy loading ** help *** installing help indices *** copying figures ** building package indices ** installing vignettes ** testing if installed package can be loaded from temporary location ** testing if installed package can be loaded from final location ** testing if installed package keeps a record of temporary installation path * DONE (GRaNIE)
GRaNIE.Rcheck/GRaNIE-Ex.timings
| name | user | system | elapsed | |
| AR_classification_wrapper | 0.000 | 0.000 | 0.001 | |
| addConnections_TF_peak | 3.915 | 0.199 | 6.367 | |
| addConnections_peak_gene | 3.942 | 0.120 | 4.628 | |
| addData | 0.001 | 0.000 | 0.000 | |
| addSNPData | 5.493 | 0.252 | 6.941 | |
| addTFBS | 0 | 0 | 0 | |
| add_TF_gene_correlation | 1.758 | 0.019 | 2.171 | |
| add_featureVariation | 0.000 | 0.000 | 0.001 | |
| build_eGRN_graph | 1.774 | 0.024 | 2.207 | |
| calculateCommunitiesEnrichment | 3.331 | 0.131 | 3.929 | |
| calculateCommunitiesStats | 1.736 | 0.012 | 2.157 | |
| calculateGeneralEnrichment | 3.042 | 0.100 | 3.553 | |
| calculateTFEnrichment | 1.875 | 0.029 | 2.301 | |
| changeOutputDirectory | 1.653 | 0.033 | 2.113 | |
| deleteIntermediateData | 1.689 | 0.024 | 2.109 | |
| filterConnectionsForPlotting | 1.698 | 0.014 | 2.113 | |
| filterData | 2.259 | 0.017 | 2.763 | |
| filterGRNAndConnectGenes | 2.962 | 0.019 | 3.377 | |
| generateStatsSummary | 6.443 | 0.017 | 6.884 | |
| getCounts | 2.742 | 0.014 | 3.171 | |
| getGRNConnections | 1.538 | 0.016 | 1.949 | |
| getGRNSummary | 3.767 | 0.056 | 5.275 | |
| getParameters | 2.208 | 0.024 | 2.724 | |
| getTopNodes | 4.150 | 0.038 | 5.103 | |
| initializeGRN | 0.026 | 0.002 | 0.028 | |
| loadExampleObject | 2.873 | 0.029 | 3.534 | |
| nGenes | 2.553 | 0.022 | 2.984 | |
| nPeaks | 2.352 | 0.015 | 2.890 | |
| nTFs | 2.754 | 0.024 | 3.968 | |
| overlapPeaksAndTFBS | 2.311 | 0.021 | 2.792 | |
| performAllNetworkAnalyses | 0 | 0 | 0 | |
| plotCommunitiesEnrichment | 4.366 | 0.065 | 5.404 | |
| plotCommunitiesStats | 5.230 | 0.061 | 7.214 | |
| plotCorrelations | 3.440 | 0.047 | 4.626 | |
| plotDiagnosticPlots_TFPeaks | 5.435 | 0.059 | 5.982 | |
| plotDiagnosticPlots_peakGene | 7.572 | 0.389 | 8.821 | |
| plotGeneralEnrichment | 5.521 | 0.064 | 6.108 | |
| plotGeneralGraphStats | 6.260 | 0.033 | 6.719 | |
| plotPCA_all | 3.936 | 0.065 | 4.408 | |
| plotTFEnrichment | 4.091 | 0.034 | 6.099 | |
| plot_stats_connectionSummary | 2.218 | 0.018 | 2.645 | |
| visualizeGRN | 2.919 | 0.042 | 3.368 | |