| Back to Multiple platform build/check report for BioC 3.22: simplified long |
|
This page was generated on 2025-11-24 12:06 -0500 (Mon, 24 Nov 2025).
| Hostname | OS | Arch (*) | R version | Installed pkgs |
|---|---|---|---|---|
| nebbiolo2 | Linux (Ubuntu 24.04.3 LTS) | x86_64 | 4.5.2 (2025-10-31) -- "[Not] Part in a Rumble" | 4873 |
| merida1 | macOS 12.7.6 Monterey | x86_64 | 4.5.2 Patched (2025-11-05 r88990) -- "[Not] Part in a Rumble" | 4654 |
| kjohnson1 | macOS 13.7.5 Ventura | arm64 | 4.5.2 Patched (2025-11-04 r88984) -- "[Not] Part in a Rumble" | 4600 |
| taishan | Linux (openEuler 24.03 LTS) | aarch64 | 4.5.0 (2025-04-11) -- "How About a Twenty-Six" | 4668 |
| Click on any hostname to see more info about the system (e.g. compilers) (*) as reported by 'uname -p', except on Windows and Mac OS X | ||||
| Package 920/2361 | Hostname | OS / Arch | INSTALL | BUILD | CHECK | BUILD BIN | ||||||||
| GRaNIE 1.14.0 (landing page) Christian Arnold
| nebbiolo2 | Linux (Ubuntu 24.04.3 LTS) / x86_64 | OK | OK | OK | |||||||||
| merida1 | macOS 12.7.6 Monterey / x86_64 | OK | OK | OK | OK | |||||||||
| kjohnson1 | macOS 13.7.5 Ventura / arm64 | OK | OK | OK | OK | |||||||||
| taishan | Linux (openEuler 24.03 LTS) / aarch64 | OK | OK | OK | ||||||||||
|
To the developers/maintainers of the GRaNIE package: - Allow up to 24 hours (and sometimes 48 hours) for your latest push to git@git.bioconductor.org:packages/GRaNIE.git to reflect on this report. See Troubleshooting Build Report for more information. - Use the following Renviron settings to reproduce errors and warnings. - If 'R CMD check' started to fail recently on the Linux builder(s) over a missing dependency, add the missing dependency to 'Suggests:' in your DESCRIPTION file. See Renviron.bioc for more information. |
| Package: GRaNIE |
| Version: 1.14.0 |
| Command: /Library/Frameworks/R.framework/Resources/bin/R CMD check --install=check:GRaNIE.install-out.txt --library=/Library/Frameworks/R.framework/Resources/library --no-vignettes --timings GRaNIE_1.14.0.tar.gz |
| StartedAt: 2025-11-22 06:11:19 -0500 (Sat, 22 Nov 2025) |
| EndedAt: 2025-11-22 06:23:49 -0500 (Sat, 22 Nov 2025) |
| EllapsedTime: 749.3 seconds |
| RetCode: 0 |
| Status: OK |
| CheckDir: GRaNIE.Rcheck |
| Warnings: 0 |
##############################################################################
##############################################################################
###
### Running command:
###
### /Library/Frameworks/R.framework/Resources/bin/R CMD check --install=check:GRaNIE.install-out.txt --library=/Library/Frameworks/R.framework/Resources/library --no-vignettes --timings GRaNIE_1.14.0.tar.gz
###
##############################################################################
##############################################################################
* using log directory ‘/Users/biocbuild/bbs-3.22-bioc/meat/GRaNIE.Rcheck’
* using R version 4.5.2 Patched (2025-11-04 r88984)
* using platform: aarch64-apple-darwin20
* R was compiled by
Apple clang version 16.0.0 (clang-1600.0.26.6)
GNU Fortran (GCC) 14.2.0
* running under: macOS Ventura 13.7.8
* using session charset: UTF-8
* using option ‘--no-vignettes’
* checking for file ‘GRaNIE/DESCRIPTION’ ... OK
* this is package ‘GRaNIE’ version ‘1.14.0’
* package encoding: UTF-8
* checking package namespace information ... OK
* checking package dependencies ... INFO
Imports includes 37 non-default packages.
Importing from so many packages makes the package vulnerable to any of
them becoming unavailable. Move as many as possible to Suggests and
use conditionally.
* checking if this is a source package ... OK
* checking if there is a namespace ... OK
* checking for hidden files and directories ... OK
* checking for portable file names ... OK
* checking for sufficient/correct file permissions ... OK
* checking whether package ‘GRaNIE’ can be installed ... OK
* checking installed package size ... OK
* checking package directory ... OK
* checking ‘build’ directory ... OK
* checking DESCRIPTION meta-information ... OK
* checking top-level files ... OK
* checking for left-over files ... OK
* checking index information ... OK
* checking package subdirectories ... OK
* checking code files for non-ASCII characters ... OK
* checking R files for syntax errors ... OK
* checking whether the package can be loaded ... OK
* checking whether the package can be loaded with stated dependencies ... OK
* checking whether the package can be unloaded cleanly ... OK
* checking whether the namespace can be loaded with stated dependencies ... OK
* checking whether the namespace can be unloaded cleanly ... OK
* checking whether startup messages can be suppressed ... OK
* checking dependencies in R code ... OK
* checking S3 generic/method consistency ... OK
* checking replacement functions ... OK
* checking foreign function calls ... OK
* checking R code for possible problems ... NOTE
.performIHW: no visible binding for global variable 'adj_pvalue'
Undefined global functions or variables:
adj_pvalue
* checking Rd files ... OK
* checking Rd metadata ... OK
* checking Rd cross-references ... OK
* checking for missing documentation entries ... OK
* checking for code/documentation mismatches ... OK
* checking Rd \usage sections ... OK
* checking Rd contents ... OK
* checking for unstated dependencies in examples ... OK
* checking files in ‘vignettes’ ... OK
* checking examples ... OK
Examples with CPU (user + system) or elapsed time > 5s
user system elapsed
generateStatsSummary 8.451 0.198 12.461
addConnections_TF_peak 7.306 0.750 12.498
addSNPData 6.203 0.342 10.835
plotCommunitiesEnrichment 5.947 0.160 8.239
plotDiagnosticPlots_peakGene 5.870 0.131 8.712
plotPCA_all 5.409 0.168 7.775
plotCommunitiesStats 5.209 0.107 7.610
plotGeneralEnrichment 4.813 0.097 6.987
plotDiagnosticPlots_TFPeaks 4.736 0.111 7.053
plotGeneralGraphStats 4.367 0.155 6.355
visualizeGRN 4.324 0.126 6.294
getCounts 4.339 0.091 6.453
calculateGeneralEnrichment 4.294 0.087 6.527
filterGRNAndConnectGenes 4.248 0.084 6.145
addConnections_peak_gene 4.195 0.085 6.984
loadExampleObject 4.115 0.068 6.039
add_TF_gene_correlation 3.962 0.088 5.827
plotTFEnrichment 3.852 0.104 5.621
calculateCommunitiesEnrichment 3.764 0.155 5.774
plot_stats_connectionSummary 3.555 0.111 5.092
filterData 3.485 0.087 5.252
getGRNSummary 3.338 0.089 5.089
* checking for unstated dependencies in vignettes ... OK
* checking package vignettes ... OK
* checking running R code from vignettes ... SKIPPED
* checking re-building of vignette outputs ... SKIPPED
* checking PDF version of manual ... OK
* DONE
Status: 1 NOTE
See
‘/Users/biocbuild/bbs-3.22-bioc/meat/GRaNIE.Rcheck/00check.log’
for details.
GRaNIE.Rcheck/00install.out
############################################################################## ############################################################################## ### ### Running command: ### ### /Library/Frameworks/R.framework/Resources/bin/R CMD INSTALL GRaNIE ### ############################################################################## ############################################################################## * installing to library ‘/Library/Frameworks/R.framework/Versions/4.5-arm64/Resources/library’ * installing *source* package ‘GRaNIE’ ... ** this is package ‘GRaNIE’ version ‘1.14.0’ ** using staged installation ** R ** byte-compile and prepare package for lazy loading ** help *** installing help indices *** copying figures ** building package indices ** installing vignettes ** testing if installed package can be loaded from temporary location ** testing if installed package can be loaded from final location ** testing if installed package keeps a record of temporary installation path * DONE (GRaNIE)
GRaNIE.Rcheck/GRaNIE-Ex.timings
| name | user | system | elapsed | |
| AR_classification_wrapper | 0.000 | 0.000 | 0.001 | |
| addConnections_TF_peak | 7.306 | 0.750 | 12.498 | |
| addConnections_peak_gene | 4.195 | 0.085 | 6.984 | |
| addData | 0.000 | 0.001 | 0.001 | |
| addSNPData | 6.203 | 0.342 | 10.835 | |
| addTFBS | 0.000 | 0.000 | 0.001 | |
| add_TF_gene_correlation | 3.962 | 0.088 | 5.827 | |
| add_featureVariation | 0.000 | 0.000 | 0.001 | |
| build_eGRN_graph | 2.656 | 0.071 | 4.181 | |
| calculateCommunitiesEnrichment | 3.764 | 0.155 | 5.774 | |
| calculateCommunitiesStats | 2.764 | 0.076 | 4.680 | |
| calculateGeneralEnrichment | 4.294 | 0.087 | 6.527 | |
| calculateTFEnrichment | 3.129 | 0.078 | 4.716 | |
| changeOutputDirectory | 2.835 | 0.074 | 4.205 | |
| deleteIntermediateData | 2.920 | 0.073 | 4.338 | |
| filterConnectionsForPlotting | 2.738 | 0.069 | 4.067 | |
| filterData | 3.485 | 0.087 | 5.252 | |
| filterGRNAndConnectGenes | 4.248 | 0.084 | 6.145 | |
| generateStatsSummary | 8.451 | 0.198 | 12.461 | |
| getCounts | 4.339 | 0.091 | 6.453 | |
| getGRNConnections | 2.725 | 0.064 | 4.291 | |
| getGRNSummary | 3.338 | 0.089 | 5.089 | |
| getParameters | 2.748 | 0.072 | 4.245 | |
| getTopNodes | 3.049 | 0.073 | 4.603 | |
| initializeGRN | 0.016 | 0.002 | 0.018 | |
| loadExampleObject | 4.115 | 0.068 | 6.039 | |
| nGenes | 2.696 | 0.063 | 4.047 | |
| nPeaks | 2.749 | 0.074 | 4.170 | |
| nTFs | 2.902 | 0.081 | 4.307 | |
| overlapPeaksAndTFBS | 2.743 | 0.072 | 4.495 | |
| performAllNetworkAnalyses | 0 | 0 | 0 | |
| plotCommunitiesEnrichment | 5.947 | 0.160 | 8.239 | |
| plotCommunitiesStats | 5.209 | 0.107 | 7.610 | |
| plotCorrelations | 3.158 | 0.092 | 4.598 | |
| plotDiagnosticPlots_TFPeaks | 4.736 | 0.111 | 7.053 | |
| plotDiagnosticPlots_peakGene | 5.870 | 0.131 | 8.712 | |
| plotGeneralEnrichment | 4.813 | 0.097 | 6.987 | |
| plotGeneralGraphStats | 4.367 | 0.155 | 6.355 | |
| plotPCA_all | 5.409 | 0.168 | 7.775 | |
| plotTFEnrichment | 3.852 | 0.104 | 5.621 | |
| plot_stats_connectionSummary | 3.555 | 0.111 | 5.092 | |
| visualizeGRN | 4.324 | 0.126 | 6.294 | |