| Back to Multiple platform build/check report for BioC 3.22: simplified long |
|
This page was generated on 2025-10-25 12:04 -0400 (Sat, 25 Oct 2025).
| Hostname | OS | Arch (*) | R version | Installed pkgs |
|---|---|---|---|---|
| nebbiolo2 | Linux (Ubuntu 24.04.3 LTS) | x86_64 | 4.5.1 Patched (2025-08-23 r88802) -- "Great Square Root" | 4901 |
| lconway | macOS 12.7.6 Monterey | x86_64 | 4.5.1 Patched (2025-09-10 r88807) -- "Great Square Root" | 4691 |
| kjohnson3 | macOS 13.7.7 Ventura | arm64 | 4.5.1 Patched (2025-09-10 r88807) -- "Great Square Root" | 4637 |
| taishan | Linux (openEuler 24.03 LTS) | aarch64 | 4.5.0 (2025-04-11) -- "How About a Twenty-Six" | 4658 |
| Click on any hostname to see more info about the system (e.g. compilers) (*) as reported by 'uname -p', except on Windows and Mac OS X | ||||
| Package 523/2361 | Hostname | OS / Arch | INSTALL | BUILD | CHECK | BUILD BIN | ||||||||
| DAPAR 1.41.0 (landing page) Samuel Wieczorek
| nebbiolo2 | Linux (Ubuntu 24.04.3 LTS) / x86_64 | OK | OK | OK | |||||||||
| lconway | macOS 12.7.6 Monterey / x86_64 | OK | OK | OK | OK | |||||||||
| kjohnson3 | macOS 13.7.7 Ventura / arm64 | OK | OK | OK | OK | |||||||||
| taishan | Linux (openEuler 24.03 LTS) / aarch64 | OK | NA | NA | ||||||||||
|
To the developers/maintainers of the DAPAR package: - Allow up to 24 hours (and sometimes 48 hours) for your latest push to git@git.bioconductor.org:packages/DAPAR.git to reflect on this report. See Troubleshooting Build Report for more information. - Use the following Renviron settings to reproduce errors and warnings. - If 'R CMD check' started to fail recently on the Linux builder(s) over a missing dependency, add the missing dependency to 'Suggests:' in your DESCRIPTION file. See Renviron.bioc for more information. |
| Package: DAPAR |
| Version: 1.41.0 |
| Command: /Library/Frameworks/R.framework/Resources/bin/R CMD check --install=check:DAPAR.install-out.txt --library=/Library/Frameworks/R.framework/Resources/library --no-vignettes --timings DAPAR_1.41.0.tar.gz |
| StartedAt: 2025-10-24 20:36:22 -0400 (Fri, 24 Oct 2025) |
| EndedAt: 2025-10-24 20:46:49 -0400 (Fri, 24 Oct 2025) |
| EllapsedTime: 627.1 seconds |
| RetCode: 0 |
| Status: OK |
| CheckDir: DAPAR.Rcheck |
| Warnings: 0 |
##############################################################################
##############################################################################
###
### Running command:
###
### /Library/Frameworks/R.framework/Resources/bin/R CMD check --install=check:DAPAR.install-out.txt --library=/Library/Frameworks/R.framework/Resources/library --no-vignettes --timings DAPAR_1.41.0.tar.gz
###
##############################################################################
##############################################################################
* using log directory ‘/Users/biocbuild/bbs-3.22-bioc/meat/DAPAR.Rcheck’
* using R version 4.5.1 Patched (2025-09-10 r88807)
* using platform: x86_64-apple-darwin20
* R was compiled by
Apple clang version 14.0.0 (clang-1400.0.29.202)
GNU Fortran (GCC) 14.2.0
* running under: macOS Monterey 12.7.6
* using session charset: UTF-8
* using option ‘--no-vignettes’
* checking for file ‘DAPAR/DESCRIPTION’ ... OK
* checking extension type ... Package
* this is package ‘DAPAR’ version ‘1.41.0’
* package encoding: UTF-8
* checking package namespace information ... OK
* checking package dependencies ... INFO
Vignette dependency required without any vignettes: ‘knitr’
* checking if this is a source package ... OK
* checking if there is a namespace ... OK
* checking for hidden files and directories ... OK
* checking for portable file names ... OK
* checking for sufficient/correct file permissions ... OK
* checking whether package ‘DAPAR’ can be installed ... OK
* checking installed package size ... OK
* checking package directory ... OK
* checking DESCRIPTION meta-information ... OK
* checking top-level files ... OK
* checking for left-over files ... OK
* checking index information ... OK
* checking package subdirectories ... OK
* checking code files for non-ASCII characters ... OK
* checking R files for syntax errors ... OK
* checking whether the package can be loaded ... OK
* checking whether the package can be loaded with stated dependencies ... OK
* checking whether the package can be unloaded cleanly ... OK
* checking whether the namespace can be loaded with stated dependencies ... OK
* checking whether the namespace can be unloaded cleanly ... OK
* checking whether startup messages can be suppressed ... OK
* checking dependencies in R code ... OK
* checking S3 generic/method consistency ... OK
* checking replacement functions ... OK
* checking foreign function calls ... OK
* checking R code for possible problems ... NOTE
Check_Dataset_Validity: no visible global function definition for
‘exprs’
OWAnova: no visible global function definition for ‘aov’
aggregateIterParallel: no visible binding for global variable ‘cond’
averageIntensities: no visible binding for global variable ‘condition’
averageIntensities: no visible binding for global variable ‘feature’
averageIntensities: no visible binding for global variable ‘intensity’
createMSnset: no visible global function definition for
‘installed.packages’
createMSnset: no visible binding for global variable ‘Prostar.loc’
createMSnset2: no visible global function definition for
‘installed.packages’
createMSnset2: no visible binding for global variable ‘Prostar.loc’
diffAnaVolcanoplot_rCharts: no visible binding for global variable ‘x’
diffAnaVolcanoplot_rCharts: no visible binding for global variable ‘y’
diffAnaVolcanoplot_rCharts: no visible binding for global variable ‘g’
display.CC.visNet: no visible binding for global variable
‘layout_nicely’
getTextForGOAnalysis: no visible binding for global variable
‘textGOParams’
getTextForGOAnalysis: no visible binding for global variable ‘input’
globalAdjPval: no visible global function definition for ‘stack’
heatmapForMissingValues: no visible binding for global variable ‘par’
limmaCompleteTest: no visible binding for global variable ‘A’
limmaCompleteTest: no visible binding for global variable ‘B’
limmaCompleteTest: no visible binding for global variable ‘P.Value’
pepa.test: no visible global function definition for ‘nodes<-’
testAnovaModels : <anonymous>: no visible global function definition
for ‘TukeyHSD’
visualizeClusters: no visible binding for global variable
‘adjusted_pvalues’
visualizeClusters: no visible binding for global variable ‘Condition’
visualizeClusters: no visible binding for global variable ‘Intensity’
visualizeClusters: no visible binding for global variable
‘FDR_threshold’
visualizeClusters: no visible binding for global variable ‘feature’
wrapperClassic1wayAnova: no visible binding for global variable
‘Pr(>F)1’
wrapperRunClustering: no visible global function definition for ‘str_c’
Undefined global functions or variables:
A B Condition FDR_threshold Intensity P.Value Pr(>F)1 Prostar.loc
TukeyHSD adjusted_pvalues aov cond condition exprs feature g input
installed.packages intensity layout_nicely nodes<- par stack str_c
textGOParams x y
Consider adding
importFrom("graphics", "par")
importFrom("stats", "TukeyHSD", "aov")
importFrom("utils", "installed.packages", "stack")
to your NAMESPACE file.
* checking Rd files ... OK
* checking Rd metadata ... OK
* checking Rd cross-references ... OK
* checking for missing documentation entries ... OK
* checking for code/documentation mismatches ... OK
* checking Rd \usage sections ... OK
* checking Rd contents ... OK
* checking for unstated dependencies in examples ... OK
* checking examples ... OK
Examples with CPU (user + system) or elapsed time > 5s
user system elapsed
wrapper.compareNormalizationD_HC 61.486 30.405 91.757
wrapper.dapar.impute.mi 14.951 1.373 17.078
barplotEnrichGO_HC 9.281 2.062 11.902
group_GO 5.230 0.741 6.034
checkClusterability 3.639 2.329 5.931
enrich_GO 5.208 0.718 5.980
barplotGroupGO_HC 4.933 0.722 5.713
scatterplotEnrichGO_HC 4.884 0.659 5.605
densityPlotD_HC 3.580 1.620 5.196
* checking for unstated dependencies in ‘tests’ ... OK
* checking tests ...
Running ‘testthat.R’
OK
* checking PDF version of manual ... OK
* DONE
Status: 1 NOTE
See
‘/Users/biocbuild/bbs-3.22-bioc/meat/DAPAR.Rcheck/00check.log’
for details.
DAPAR.Rcheck/00install.out
############################################################################## ############################################################################## ### ### Running command: ### ### /Library/Frameworks/R.framework/Resources/bin/R CMD INSTALL DAPAR ### ############################################################################## ############################################################################## * installing to library ‘/Library/Frameworks/R.framework/Versions/4.5-x86_64/Resources/library’ * installing *source* package ‘DAPAR’ ... ** this is package ‘DAPAR’ version ‘1.41.0’ ** using staged installation ** R ** inst ** byte-compile and prepare package for lazy loading ** help *** installing help indices ** building package indices ** testing if installed package can be loaded from temporary location ** testing if installed package can be loaded from final location ** testing if installed package keeps a record of temporary installation path * DONE (DAPAR)
DAPAR.Rcheck/tests/testthat.Rout
R version 4.5.1 Patched (2025-09-10 r88807) -- "Great Square Root"
Copyright (C) 2025 The R Foundation for Statistical Computing
Platform: x86_64-apple-darwin20
R is free software and comes with ABSOLUTELY NO WARRANTY.
You are welcome to redistribute it under certain conditions.
Type 'license()' or 'licence()' for distribution details.
R is a collaborative project with many contributors.
Type 'contributors()' for more information and
'citation()' on how to cite R or R packages in publications.
Type 'demo()' for some demos, 'help()' for on-line help, or
'help.start()' for an HTML browser interface to help.
Type 'q()' to quit R.
> library(testthat)
> library(DAPAR)
This is the 'DAPAR' version 1.41.0.
To get started, visit
http://www.prostar-proteomics.org/
>
> test_check("DAPAR")
Iterations:
1 / 1 - Imputation MNAR OK -
Imputation MCAR in progress -
3 % - 6 % - 9 % - 12 % - 15 % - 18 % - 21 % - 24 % - 27 % - 30 % - 33 % - 36 % - 39 % - 42 % - 45 % - 48 % - 51 % - 54 % - 57 % - 60 % - 63 % - 66 % - 69 % - 72 % - 75 % - 78 % - 81 % - 84 % - 87 % - 90 % - 93 % - 96 % - 99 % -
Iterations:
1 / 1 - Imputation MNAR OK -
Imputation MCAR in progress -
3 % - 6 % - 9 % - 12 % - 15 % - 18 % - 21 % - 24 % - 27 % - 30 % - 33 % - 36 % - 39 % - 42 % - 45 % - 48 % - 51 % - 54 % - 57 % - 60 % - 63 % - 66 % - 69 % - 72 % - 75 % - 78 % - 81 % - 84 % - 87 % - 90 % - 93 % - 96 % - 99 % -
Imputation in condition 1 ...
In progress: 10 % - 20 % - 30 % - 40 % - 50 % - 60 % - 70 % - 80 % - 90 % - 100 % -
Imputation in condition 2 ...
In progress: 10 % - 20 % - 30 % - 40 % - 50 % - 60 % - 70 % - 80 % - 90 % - 100 % - [ FAIL 0 | WARN 17 | SKIP 0 | PASS 66 ]
[ FAIL 0 | WARN 17 | SKIP 0 | PASS 66 ]
>
> proc.time()
user system elapsed
37.483 1.671 39.445
DAPAR.Rcheck/DAPAR-Ex.timings
| name | user | system | elapsed | |
| AggregateMetacell | 0.611 | 0.023 | 0.650 | |
| BuildAdjacencyMatrix | 0.457 | 0.006 | 0.466 | |
| BuildColumnToProteinDataset | 0.558 | 0.009 | 0.573 | |
| BuildMetaCell | 1.599 | 0.036 | 1.649 | |
| CVDistD_HC | 2.266 | 0.191 | 2.496 | |
| Children | 0.005 | 0.000 | 0.005 | |
| CountPep | 0.544 | 0.008 | 0.556 | |
| ExtendPalette | 0.034 | 0.002 | 0.036 | |
| GOAnalysisSave | 0.000 | 0.001 | 0.000 | |
| GetCC | 2.524 | 0.036 | 2.578 | |
| GetColorsForConditions | 0.417 | 0.005 | 0.424 | |
| GetDetailedNbPeptides | 0.444 | 0.005 | 0.452 | |
| GetDetailedNbPeptidesUsed | 0 | 0 | 0 | |
| GetIndices_BasedOnConditions | 0.450 | 0.006 | 0.458 | |
| GetIndices_MetacellFiltering | 0.450 | 0.006 | 0.459 | |
| GetIndices_WholeLine | 0.466 | 0.007 | 0.477 | |
| GetIndices_WholeMatrix | 0.466 | 0.008 | 0.479 | |
| GetKeyId | 0.471 | 0.007 | 0.481 | |
| GetMatAdj | 0.492 | 0.009 | 0.507 | |
| GetMetacell | 0 | 0 | 0 | |
| GetMetacellTags | 0.465 | 0.009 | 0.479 | |
| GetNbPeptidesUsed | 0.454 | 0.008 | 0.470 | |
| GetNbTags | 0.000 | 0.001 | 0.000 | |
| GetSoftAvailables | 0.000 | 0.000 | 0.001 | |
| GetTypeofData | 0.450 | 0.007 | 0.459 | |
| Get_AllComparisons | 0.295 | 0.017 | 0.316 | |
| GlobalQuantileAlignment | 0.500 | 0.006 | 0.511 | |
| GraphPepProt | 0.481 | 0.006 | 0.490 | |
| LH0 | 0.000 | 0.001 | 0.000 | |
| LH0.lm | 0 | 0 | 0 | |
| LH1 | 0.000 | 0.000 | 0.001 | |
| LH1.lm | 0 | 0 | 0 | |
| LOESS | 1.160 | 0.027 | 1.193 | |
| MeanCentering | 0.453 | 0.006 | 0.463 | |
| MetaCellFiltering | 0.630 | 0.005 | 0.637 | |
| MetacellFilteringScope | 0 | 0 | 0 | |
| Metacell_DIA_NN | 0.569 | 0.013 | 0.588 | |
| Metacell_generic | 0.540 | 0.020 | 0.564 | |
| Metacell_maxquant | 0.485 | 0.012 | 0.500 | |
| Metacell_proline | 0.490 | 0.013 | 0.511 | |
| NumericalFiltering | 0.487 | 0.005 | 0.494 | |
| NumericalgetIndicesOfLinesToRemove | 0.468 | 0.015 | 0.488 | |
| OWAnova | 0.006 | 0.001 | 0.006 | |
| QuantileCentering | 0.442 | 0.005 | 0.449 | |
| SetCC | 2.336 | 0.017 | 2.363 | |
| SetMatAdj | 0.505 | 0.005 | 0.511 | |
| Set_POV_MEC_tags | 0.449 | 0.006 | 0.458 | |
| StringBasedFiltering | 0.508 | 0.008 | 0.520 | |
| StringBasedFiltering2 | 0.521 | 0.007 | 0.531 | |
| SumByColumns | 1.394 | 0.032 | 1.438 | |
| SymFilteringOperators | 0 | 0 | 0 | |
| UpdateMetacellAfterImputation | 0.490 | 0.006 | 0.500 | |
| aggregateIter | 0.616 | 0.008 | 0.628 | |
| aggregateIterParallel | 0 | 0 | 0 | |
| aggregateMean | 0.526 | 0.010 | 0.541 | |
| aggregateSum | 0.535 | 0.007 | 0.544 | |
| aggregateTopn | 0.501 | 0.006 | 0.510 | |
| applyAnovasOnProteins | 0.126 | 0.003 | 0.130 | |
| averageIntensities | 0.630 | 0.152 | 0.816 | |
| barplotEnrichGO_HC | 9.281 | 2.062 | 11.902 | |
| barplotGroupGO_HC | 4.933 | 0.722 | 5.713 | |
| boxPlotD_HC | 0.278 | 0.091 | 0.370 | |
| buildGraph | 1.687 | 0.043 | 1.741 | |
| check.conditions | 0.442 | 0.006 | 0.451 | |
| check.design | 0.421 | 0.007 | 0.433 | |
| checkClusterability | 3.639 | 2.329 | 5.931 | |
| classic1wayAnova | 0.000 | 0.001 | 0.000 | |
| compareNormalizationD_HC | 0.179 | 0.074 | 0.268 | |
| compute.selection.table | 0.798 | 0.170 | 0.983 | |
| compute_t_tests | 1.247 | 0.202 | 1.450 | |
| corrMatrixD_HC | 0.543 | 0.083 | 0.634 | |
| createMSnset | 1.956 | 0.095 | 2.059 | |
| createMSnset2 | 1.908 | 0.098 | 2.018 | |
| dapar_hc_ExportMenu | 0.153 | 0.165 | 0.322 | |
| dapar_hc_chart | 0.065 | 0.058 | 0.124 | |
| deleteLinesFromIndices | 0.542 | 0.032 | 0.584 | |
| densityPlotD_HC | 3.580 | 1.620 | 5.196 | |
| diffAnaComputeAdjustedPValues | 0.189 | 0.035 | 0.224 | |
| diffAnaComputeFDR | 0.000 | 0.001 | 0.001 | |
| diffAnaGetSignificant | 0.336 | 0.070 | 0.413 | |
| diffAnaSave | 0.311 | 0.060 | 0.372 | |
| diffAnaVolcanoplot | 0.197 | 0.027 | 0.225 | |
| diffAnaVolcanoplot_rCharts | 0.436 | 0.135 | 0.574 | |
| display.CC.visNet | 1.789 | 0.088 | 1.893 | |
| enrich_GO | 5.208 | 0.718 | 5.980 | |
| finalizeAggregation | 0 | 0 | 0 | |
| findMECBlock | 0.521 | 0.015 | 0.539 | |
| formatHSDResults | 0 | 0 | 0 | |
| formatLimmaResult | 0.203 | 0.032 | 0.235 | |
| formatPHResults | 0 | 0 | 0 | |
| formatPHTResults | 0.000 | 0.000 | 0.001 | |
| fudge2LRT | 0 | 0 | 0 | |
| get.pep.prot.cc | 1.724 | 0.029 | 1.759 | |
| getDesignLevel | 0.440 | 0.008 | 0.453 | |
| getIndicesConditions | 0.446 | 0.006 | 0.454 | |
| getIndicesOfLinesToRemove | 0.489 | 0.017 | 0.517 | |
| getListNbValuesInLines | 0.466 | 0.008 | 0.476 | |
| getNumberOf | 0.481 | 0.017 | 0.506 | |
| getNumberOfEmptyLines | 0.490 | 0.011 | 0.508 | |
| getPourcentageOfMV | 0.500 | 0.017 | 0.520 | |
| getProcessingInfo | 0.477 | 0.006 | 0.486 | |
| getProteinsStats | 0.470 | 0.015 | 0.488 | |
| getQuantile4Imp | 0.106 | 0.004 | 0.111 | |
| getTextForAggregation | 0 | 0 | 0 | |
| getTextForAnaDiff | 0.000 | 0.001 | 0.001 | |
| getTextForFiltering | 0.000 | 0.000 | 0.001 | |
| getTextForGOAnalysis | 0 | 0 | 0 | |
| getTextForHypothesisTest | 0 | 0 | 0 | |
| getTextForNewDataset | 0.002 | 0.001 | 0.002 | |
| getTextForNormalization | 0.000 | 0.001 | 0.001 | |
| getTextForpeptideImputation | 0 | 0 | 0 | |
| getTextForproteinImputation | 0.000 | 0.000 | 0.001 | |
| globalAdjPval | 0.531 | 0.067 | 0.601 | |
| group_GO | 5.230 | 0.741 | 6.034 | |
| hc_logFC_DensityPlot | 0.974 | 0.436 | 1.411 | |
| hc_mvTypePlot2 | 1.178 | 0.390 | 1.565 | |
| heatmapD | 0.799 | 0.073 | 0.881 | |
| heatmapForMissingValues | 0.215 | 0.026 | 0.244 | |
| histPValue_HC | 0.312 | 0.093 | 0.407 | |
| impute.pa2 | 0.484 | 0.022 | 0.506 | |
| inner.aggregate.iter | 0.506 | 0.022 | 0.531 | |
| inner.aggregate.topn | 0.483 | 0.016 | 0.505 | |
| inner.mean | 0.475 | 0.013 | 0.492 | |
| inner.sum | 0.497 | 0.015 | 0.517 | |
| is.subset | 0.001 | 0.001 | 0.001 | |
| limmaCompleteTest | 1.646 | 0.075 | 1.739 | |
| listSheets | 0 | 0 | 0 | |
| make.contrast | 0.444 | 0.005 | 0.450 | |
| make.design.1 | 0.456 | 0.007 | 0.466 | |
| make.design.2 | 0.434 | 0.006 | 0.441 | |
| make.design.3 | 0.466 | 0.007 | 0.475 | |
| make.design | 0.467 | 0.006 | 0.475 | |
| match.metacell | 0.499 | 0.015 | 0.516 | |
| metacell.def | 0.006 | 0.002 | 0.008 | |
| metacellHisto_HC | 0.606 | 0.074 | 0.685 | |
| metacellPerLinesHistoPerCondition_HC | 0.693 | 0.136 | 0.833 | |
| metacellPerLinesHisto_HC | 0.830 | 0.316 | 1.158 | |
| metacombine | 0.185 | 0.017 | 0.204 | |
| mvImage | 2.273 | 0.167 | 2.457 | |
| my_hc_ExportMenu | 0.146 | 0.161 | 0.308 | |
| my_hc_chart | 0.153 | 0.166 | 0.321 | |
| nonzero | 0.024 | 0.001 | 0.026 | |
| normalizeMethods.dapar | 0.000 | 0.001 | 0.001 | |
| pepa.test | 0.497 | 0.014 | 0.514 | |
| pkgs.require | 0.000 | 0.001 | 0.001 | |
| plotJitter | 1.705 | 0.043 | 1.758 | |
| plotJitter_rCharts | 1.638 | 0.097 | 1.747 | |
| plotPCA_Eigen | 0.524 | 0.048 | 0.578 | |
| plotPCA_Eigen_hc | 0.450 | 0.007 | 0.463 | |
| plotPCA_Ind | 0.449 | 0.008 | 0.462 | |
| plotPCA_Var | 0.459 | 0.007 | 0.472 | |
| postHocTest | 0 | 0 | 0 | |
| proportionConRev_HC | 0.053 | 0.059 | 0.114 | |
| rbindMSnset | 0.557 | 0.044 | 0.605 | |
| reIntroduceMEC | 0.476 | 0.025 | 0.505 | |
| readExcel | 0.001 | 0.001 | 0.000 | |
| removeLines | 0.470 | 0.024 | 0.498 | |
| samLRT | 0 | 0 | 0 | |
| saveParameters | 0.424 | 0.007 | 0.434 | |
| scatterplotEnrichGO_HC | 4.884 | 0.659 | 5.605 | |
| search.metacell.tags | 0.009 | 0.003 | 0.012 | |
| separateAdjPval | 0.192 | 0.015 | 0.209 | |
| splitAdjacencyMat | 0.486 | 0.013 | 0.503 | |
| test.design | 0.519 | 0.018 | 0.540 | |
| testAnovaModels | 0.141 | 0.012 | 0.153 | |
| thresholdpval4fdr | 0 | 0 | 0 | |
| translatedRandomBeta | 0.002 | 0.005 | 0.008 | |
| univ_AnnotDbPkg | 0.211 | 0.063 | 0.290 | |
| violinPlotD | 0.266 | 0.023 | 0.298 | |
| visualizeClusters | 1.578 | 0.266 | 1.862 | |
| vsn | 0.769 | 0.023 | 0.798 | |
| wrapper.CVDistD_HC | 2.569 | 1.175 | 3.740 | |
| wrapper.compareNormalizationD_HC | 61.486 | 30.405 | 91.757 | |
| wrapper.corrMatrixD_HC | 0.562 | 0.093 | 0.669 | |
| wrapper.dapar.impute.mi | 14.951 | 1.373 | 17.078 | |
| wrapper.heatmapD | 0.641 | 0.047 | 0.693 | |
| wrapper.impute.KNN | 0.506 | 0.025 | 0.534 | |
| wrapper.impute.detQuant | 0.532 | 0.038 | 0.573 | |
| wrapper.impute.fixedValue | 0.548 | 0.041 | 0.593 | |
| wrapper.impute.mle | 0.454 | 0.026 | 0.482 | |
| wrapper.impute.pa | 0.163 | 0.029 | 0.195 | |
| wrapper.impute.pa2 | 0.576 | 0.081 | 0.740 | |
| wrapper.impute.slsa | 0.686 | 0.060 | 0.753 | |
| wrapper.mvImage | 0.221 | 0.038 | 0.262 | |
| wrapper.normalizeD | 0.460 | 0.013 | 0.475 | |
| wrapper.pca | 0.187 | 0.030 | 0.219 | |
| wrapperCalibrationPlot | 0.228 | 0.042 | 0.273 | |
| wrapperClassic1wayAnova | 0.001 | 0.001 | 0.001 | |
| wrapperRunClustering | 2.659 | 0.527 | 3.230 | |
| write.excel | 0.896 | 0.183 | 1.093 | |
| writeMSnsetToCSV | 0.476 | 0.028 | 0.527 | |
| writeMSnsetToExcel | 1.187 | 0.267 | 1.474 | |