| Back to Multiple platform build/check report for BioC 3.18: simplified long | 
 | 
This page was generated on 2023-11-02 11:41:17 -0400 (Thu, 02 Nov 2023).
| Hostname | OS | Arch (*) | R version | Installed pkgs | 
|---|---|---|---|---|
| nebbiolo2 | Linux (Ubuntu 22.04.2 LTS) | x86_64 | 4.3.1 (2023-06-16) -- "Beagle Scouts" | 4729 | 
| palomino4 | Windows Server 2022 Datacenter | x64 | 4.3.1 (2023-06-16 ucrt) -- "Beagle Scouts" | 4463 | 
| lconway | macOS 12.6.5 Monterey | x86_64 | 4.3.1 Patched (2023-06-17 r84564) -- "Beagle Scouts" | 4478 | 
| kunpeng2 | Linux (openEuler 22.03 LTS-SP1) | aarch64 | 4.3.1 (2023-06-16) -- "Beagle Scouts" | 4464 | 
| Click on any hostname to see more info about the system (e.g. compilers) (*) as reported by 'uname -p', except on Windows and Mac OS X | ||||
| Package 1953/2266 | Hostname | OS / Arch | INSTALL | BUILD | CHECK | BUILD BIN | ||||||||
| signifinder 1.4.0  (landing page) Stefania Pirrotta 
 | nebbiolo2 | Linux (Ubuntu 22.04.2 LTS) / x86_64 | OK | OK | OK |  | ||||||||
| palomino4 | Windows Server 2022 Datacenter / x64 | OK | OK | OK | OK |  | ||||||||
| lconway | macOS 12.6.5 Monterey / x86_64 | OK | OK | OK | OK |  | ||||||||
| kjohnson1 | macOS 13.6.1 Ventura / arm64 | see weekly results here | ||||||||||||
| kunpeng2 | Linux (openEuler 22.03 LTS-SP1) / aarch64 | OK | OK | OK | ||||||||||
| To the developers/maintainers of the signifinder package: - Allow up to 24 hours (and sometimes 48 hours) for your latest push to git@git.bioconductor.org:packages/signifinder.git to reflect on this report. See Troubleshooting Build Report for more information. - Use the following Renviron settings to reproduce errors and warnings. - If 'R CMD check' started to fail recently on the Linux builder(s) over a missing dependency, add the missing dependency to 'Suggests:' in your DESCRIPTION file. See Renviron.bioc for more information. - See Martin Grigorov's blog post for how to debug Linux ARM64 related issues on a x86_64 host. | 
| Package: signifinder | 
| Version: 1.4.0 | 
| Command: /home/biocbuild/R/R-4.3.1/bin/R CMD check --install=check:signifinder.install-out.txt --library=/home/biocbuild/R/R-4.3.1/site-library --no-vignettes --timings signifinder_1.4.0.tar.gz | 
| StartedAt: 2023-11-02 14:23:54 -0000 (Thu, 02 Nov 2023) | 
| EndedAt: 2023-11-02 14:39:30 -0000 (Thu, 02 Nov 2023) | 
| EllapsedTime: 935.8 seconds | 
| RetCode: 0 | 
| Status: OK | 
| CheckDir: signifinder.Rcheck | 
| Warnings: 0 | 
##############################################################################
##############################################################################
###
### Running command:
###
###   /home/biocbuild/R/R-4.3.1/bin/R CMD check --install=check:signifinder.install-out.txt --library=/home/biocbuild/R/R-4.3.1/site-library --no-vignettes --timings signifinder_1.4.0.tar.gz
###
##############################################################################
##############################################################################
* using log directory ‘/home/biocbuild/bbs-3.18-bioc/meat/signifinder.Rcheck’
* using R version 4.3.1 (2023-06-16)
* using platform: aarch64-unknown-linux-gnu (64-bit)
* R was compiled by
    gcc (GCC) 10.3.1
    GNU Fortran (GCC) 10.3.1
* running under: openEuler 22.03 (LTS-SP1)
* using session charset: UTF-8
* using option ‘--no-vignettes’
* checking for file ‘signifinder/DESCRIPTION’ ... OK
* checking extension type ... Package
* this is package ‘signifinder’ version ‘1.4.0’
* package encoding: UTF-8
* checking package namespace information ... OK
* checking package dependencies ... OK
* checking if this is a source package ... OK
* checking if there is a namespace ... OK
* checking for hidden files and directories ... OK
* checking for portable file names ... OK
* checking for sufficient/correct file permissions ... OK
* checking whether package ‘signifinder’ can be installed ... OK
* checking installed package size ... OK
* checking package directory ... OK
* checking ‘build’ directory ... OK
* checking DESCRIPTION meta-information ... OK
* checking top-level files ... OK
* checking for left-over files ... OK
* checking index information ... OK
* checking package subdirectories ... OK
* checking R files for non-ASCII characters ... OK
* checking R files for syntax errors ... OK
* checking whether the package can be loaded ... OK
* checking whether the package can be loaded with stated dependencies ... OK
* checking whether the package can be unloaded cleanly ... OK
* checking whether the namespace can be loaded with stated dependencies ... OK
* checking whether the namespace can be unloaded cleanly ... OK
* checking loading without being on the library search path ... OK
* checking dependencies in R code ... OK
* checking S3 generic/method consistency ... OK
* checking replacement functions ... OK
* checking foreign function calls ... OK
* checking R code for possible problems ... OK
* checking Rd files ... OK
* checking Rd metadata ... OK
* checking Rd cross-references ... OK
* checking for missing documentation entries ... OK
* checking for code/documentation mismatches ... OK
* checking Rd \usage sections ... OK
* checking Rd contents ... OK
* checking for unstated dependencies in examples ... OK
* checking contents of ‘data’ directory ... OK
* checking data for non-ASCII characters ... OK
* checking data for ASCII and uncompressed saves ... OK
* checking R/sysdata.rda ... OK
* checking files in ‘vignettes’ ... OK
* checking examples ... OK
Examples with CPU (user + system) or elapsed time > 5s
                   user system elapsed
multipleSign    169.844  0.595 170.739
consensusOVSign  85.651  0.380  86.171
* checking for unstated dependencies in ‘tests’ ... OK
* checking tests ...
  Running ‘testthat.R’
 OK
* checking for unstated dependencies in vignettes ... OK
* checking package vignettes in ‘inst/doc’ ... OK
* checking running R code from vignettes ... SKIPPED
* checking re-building of vignette outputs ... SKIPPED
* checking PDF version of manual ... OK
* DONE
Status: OK
signifinder.Rcheck/00install.out
############################################################################## ############################################################################## ### ### Running command: ### ### /home/biocbuild/R/R-4.3.1/bin/R CMD INSTALL signifinder ### ############################################################################## ############################################################################## * installing to library ‘/home/biocbuild/R/R-4.3.1/site-library’ * installing *source* package ‘signifinder’ ... ** using staged installation ** R ** data ** inst ** byte-compile and prepare package for lazy loading ** help *** installing help indices *** copying figures ** building package indices ** installing vignettes ** testing if installed package can be loaded from temporary location ** testing if installed package can be loaded from final location ** testing if installed package keeps a record of temporary installation path * DONE (signifinder)
signifinder.Rcheck/tests/testthat.Rout
R version 4.3.1 (2023-06-16) -- "Beagle Scouts"
Copyright (C) 2023 The R Foundation for Statistical Computing
Platform: aarch64-unknown-linux-gnu (64-bit)
R is free software and comes with ABSOLUTELY NO WARRANTY.
You are welcome to redistribute it under certain conditions.
Type 'license()' or 'licence()' for distribution details.
R is a collaborative project with many contributors.
Type 'contributors()' for more information and
'citation()' on how to cite R or R packages in publications.
Type 'demo()' for some demos, 'help()' for on-line help, or
'help.start()' for an HTML browser interface to help.
Type 'q()' to quit R.
> library(testthat)
> library(signifinder)
> 
> test_check("signifinder")
'select()' returned 1:1 mapping between keys and columns
Loading required package: edgeR
Loading required package: limma
Attaching package: 'limma'
The following object is masked from 'package:BiocGenerics':
    plotMA
pyroptosisSignShao is using 100% of signature genes
ferroptosisSignLi is using 100% of signature genes
lipidMetabolismSign is using 100% of signature genes
StemCellCD49fSign is using 100% of signature genes
glycolysisSignZhang is using 100% of signature genes
autophagySignXu is using 100% of signature genes
'select()' returned 1:1 mapping between keys and columns
autophagySignChenM is using 100% of OS signature genes
autophagySignChenM is using 60% of DFS signature genes
TinflamSign is using 100% of signature genes
EMTSignMiow is using 0% of epithelial signature genes
EMTSignMiow is using 100% of mesenchymal signature genes
[1] "Calculating ranks..."
[1] "Calculating absolute values from ranks..."
EMTSignMiow is using 0% of epithelial signature genes
[1] "Calculating ranks..."
[1] "Calculating absolute values from ranks..."
EMTSignMak is using 100% of epithelial signature genes
EMTSignMak is using 100% of mesenchymal signature genes
EMTSignMak is using 100% of mesenchymal signature genes
EMTSignCheng is using 100% of signature genes
ASCSign is using 100% of signature genes
ChemokineSign is using 100% of signature genes
'select()' returned 1:1 mapping between keys and columns
PassONSign is using 100% of signature genes
[1] "Calculating ranks..."
[1] "Calculating absolute values from ranks..."
[1] "Normalizing..."
CISSign is using 100% of up signature genes
CISSign is using 100% of down signature genes
CISSign is using 100% of down signature genes
HRDSSign is using 100% of signature genes
DNArepSign is using 100% of signature genes
'select()' returned 1:1 mapping between keys and columns
IPRESSign is using 100% of signature genes
[1] "Calculating ranks..."
[1] "Calculating absolute values from ranks..."
[1] "Normalizing..."
ECMSign is using 100% of up signature genes
ECMSign is using 0% of down signature genes
[1] "Calculating ranks..."
[1] "Calculating absolute values from ranks..."
ECMSign is using 0% of down signature genes
[1] "Calculating ranks..."
[1] "Calculating absolute values from ranks..."
IPSOVSign is using 100% of signature genes
[1] "Calculating ranks..."
[1] "Calculating absolute values from ranks..."
[1] "Calculating ranks..."
[1] "Calculating absolute values from ranks..."
'select()' returned 1:1 mapping between keys and columns
glioCellStateSign is using 100% of MES2 signature genes
glioCellStateSign is using 100% of MES1 signature genes
glioCellStateSign is using 100% of AC signature genes
glioCellStateSign is using 100% of OPC signature genes
glioCellStateSign is using 100% of NPC1 signature genes
glioCellStateSign is using 100% of NPC2 signature genes
TLSSign is using 100% of signature genes
expandedImmuneSign is using 100% of signature genes
IFNSign is using 100% of signature genes
ImmuneCytSignRooney is using 100% of signature genes
mitoticIndexSign is using 100% of signature genes
matrisomeSign is using 100% of signature genes
immunoScoreSignRoh is using 100% of signature genes
CINSign is using 100% of signature genes
CINSign is using 100% of signature genes
CINSign is using 100% of signature genes
hypoxiaSign is using 100% of signature genes
cellCycleSignLundberg is using 100% of signature genes
cellCycleSignDavoli is using 100% of signature genes
VEGFSign is using 100% of signature genes
ImmuneCytSignDavoli is using 100% of signature genes
[ FAIL 0 | WARN 15 | SKIP 0 | PASS 196 ]
[ FAIL 0 | WARN 15 | SKIP 0 | PASS 196 ]
> 
> proc.time()
   user  system elapsed 
179.780   5.854 190.139 
signifinder.Rcheck/signifinder-Ex.timings
| name | user | system | elapsed | |
| ASCSign | 0.123 | 0.000 | 0.123 | |
| CINSign | 0.052 | 0.008 | 0.059 | |
| CISSign | 0.038 | 0.007 | 0.045 | |
| DNArepSign | 0.044 | 0.001 | 0.044 | |
| ECMSign | 0.387 | 0.008 | 0.395 | |
| EMTSign | 0.126 | 0.000 | 0.127 | |
| HRDSSign | 0.052 | 0.004 | 0.055 | |
| IFNSign | 0.042 | 0.000 | 0.042 | |
| IPRESSign | 1.670 | 0.067 | 1.741 | |
| IPSOVSign | 0.149 | 0.036 | 0.186 | |
| IPSSign | 0.110 | 0.004 | 0.113 | |
| ISCSign | 0.056 | 0.000 | 0.056 | |
| PassONSign | 0.154 | 0.004 | 0.158 | |
| TLSSign | 0.044 | 0.000 | 0.044 | |
| TinflamSign | 0.041 | 0.000 | 0.040 | |
| VEGFSign | 0.037 | 0.004 | 0.041 | |
| autophagySign | 0.041 | 0.004 | 0.045 | |
| availableSignatures | 0.008 | 0.000 | 0.008 | |
| cellCycleSign | 0.043 | 0.000 | 0.043 | |
| chemokineSign | 0.041 | 0.000 | 0.041 | |
| consensusOVSign | 85.651 | 0.380 | 86.171 | |
| correlationSignPlot | 2.226 | 0.119 | 2.361 | |
| evaluationSignPlot | 2.731 | 0.060 | 2.796 | |
| expandedImmuneSign | 0.041 | 0.000 | 0.041 | |
| ferroptosisSign | 0.049 | 0.000 | 0.050 | |
| geneHeatmapSignPlot | 3.438 | 0.176 | 3.620 | |
| glioCellStateSign | 0.018 | 0.000 | 0.019 | |
| glycolysisSign | 0.044 | 0.000 | 0.044 | |
| heatmapSignPlot | 3.503 | 0.000 | 3.508 | |
| hypoxiaSign | 0.047 | 0.000 | 0.047 | |
| immuneCytSign | 0.055 | 0.000 | 0.055 | |
| immunoScoreSign | 0.056 | 0.000 | 0.056 | |
| lipidMetabolismSign | 0.042 | 0.000 | 0.042 | |
| matrisomeSign | 0.046 | 0.000 | 0.045 | |
| mitoticIndexSign | 0.043 | 0.000 | 0.043 | |
| multipleSign | 169.844 | 0.595 | 170.739 | |
| oneSignPlot | 0.662 | 0.024 | 0.689 | |
| pyroptosisSign | 0.061 | 0.000 | 0.061 | |
| ridgelineSignPlot | 1.465 | 0.032 | 1.507 | |
| stemCellCD49fSign | 0.049 | 0.000 | 0.049 | |
| survivalSignPlot | 1.870 | 0.044 | 1.966 | |