| Back to Multiple platform build/check report for BioC 3.18: simplified long | 
 | 
This page was generated on 2024-03-04 11:37:52 -0500 (Mon, 04 Mar 2024).
| Hostname | OS | Arch (*) | R version | Installed pkgs | 
|---|---|---|---|---|
| nebbiolo2 | Linux (Ubuntu 22.04.3 LTS) | x86_64 | 4.3.2 Patched (2023-11-13 r85521) -- "Eye Holes" | 4692 | 
| palomino4 | Windows Server 2022 Datacenter | x64 | 4.3.2 (2023-10-31 ucrt) -- "Eye Holes" | 4445 | 
| lconway | macOS 12.7.1 Monterey | x86_64 | 4.3.2 Patched (2023-11-01 r85457) -- "Eye Holes" | 4466 | 
| Click on any hostname to see more info about the system (e.g. compilers) (*) as reported by 'uname -p', except on Windows and Mac OS X | ||||
| Package 1953/2266 | Hostname | OS / Arch | INSTALL | BUILD | CHECK | BUILD BIN | ||||||||
| signifinder 1.4.0  (landing page) Stefania Pirrotta 
 | nebbiolo2 | Linux (Ubuntu 22.04.3 LTS) / x86_64 | OK | OK | OK |  | ||||||||
| palomino4 | Windows Server 2022 Datacenter / x64 | OK | OK | OK | OK |  | ||||||||
| lconway | macOS 12.7.1 Monterey / x86_64 | OK | OK | OK | OK |  | ||||||||
| kjohnson1 | macOS 13.6.1 Ventura / arm64 | see weekly results here | ||||||||||||
| To the developers/maintainers of the signifinder package: - Allow up to 24 hours (and sometimes 48 hours) for your latest push to git@git.bioconductor.org:packages/signifinder.git to reflect on this report. See Troubleshooting Build Report for more information. - Use the following Renviron settings to reproduce errors and warnings. - If 'R CMD check' started to fail recently on the Linux builder(s) over a missing dependency, add the missing dependency to 'Suggests:' in your DESCRIPTION file. See Renviron.bioc for more information. | 
| Package: signifinder | 
| Version: 1.4.0 | 
| Command: /Library/Frameworks/R.framework/Resources/bin/R CMD check --install=check:signifinder.install-out.txt --library=/Library/Frameworks/R.framework/Resources/library --no-vignettes --timings signifinder_1.4.0.tar.gz | 
| StartedAt: 2024-03-03 23:30:17 -0500 (Sun, 03 Mar 2024) | 
| EndedAt: 2024-03-03 23:44:12 -0500 (Sun, 03 Mar 2024) | 
| EllapsedTime: 835.1 seconds | 
| RetCode: 0 | 
| Status: OK | 
| CheckDir: signifinder.Rcheck | 
| Warnings: 0 | 
##############################################################################
##############################################################################
###
### Running command:
###
###   /Library/Frameworks/R.framework/Resources/bin/R CMD check --install=check:signifinder.install-out.txt --library=/Library/Frameworks/R.framework/Resources/library --no-vignettes --timings signifinder_1.4.0.tar.gz
###
##############################################################################
##############################################################################
* using log directory ‘/Users/biocbuild/bbs-3.18-bioc/meat/signifinder.Rcheck’
* using R version 4.3.2 Patched (2023-11-01 r85457)
* using platform: x86_64-apple-darwin20 (64-bit)
* R was compiled by
    Apple clang version 14.0.3 (clang-1403.0.22.14.1)
    GNU Fortran (GCC) 12.2.0
* running under: macOS Monterey 12.7.1
* using session charset: UTF-8
* using option ‘--no-vignettes’
* checking for file ‘signifinder/DESCRIPTION’ ... OK
* checking extension type ... Package
* this is package ‘signifinder’ version ‘1.4.0’
* package encoding: UTF-8
* checking package namespace information ... OK
* checking package dependencies ... OK
* checking if this is a source package ... OK
* checking if there is a namespace ... OK
* checking for hidden files and directories ... OK
* checking for portable file names ... OK
* checking for sufficient/correct file permissions ... OK
* checking whether package ‘signifinder’ can be installed ... OK
* checking installed package size ... OK
* checking package directory ... OK
* checking ‘build’ directory ... OK
* checking DESCRIPTION meta-information ... OK
* checking top-level files ... OK
* checking for left-over files ... OK
* checking index information ... OK
* checking package subdirectories ... OK
* checking R files for non-ASCII characters ... OK
* checking R files for syntax errors ... OK
* checking whether the package can be loaded ... OK
* checking whether the package can be loaded with stated dependencies ... OK
* checking whether the package can be unloaded cleanly ... OK
* checking whether the namespace can be loaded with stated dependencies ... OK
* checking whether the namespace can be unloaded cleanly ... OK
* checking dependencies in R code ... OK
* checking S3 generic/method consistency ... OK
* checking replacement functions ... OK
* checking foreign function calls ... OK
* checking R code for possible problems ... OK
* checking Rd files ... OK
* checking Rd metadata ... OK
* checking Rd cross-references ... OK
* checking for missing documentation entries ... OK
* checking for code/documentation mismatches ... OK
* checking Rd \usage sections ... OK
* checking Rd contents ... OK
* checking for unstated dependencies in examples ... OK
* checking contents of ‘data’ directory ... OK
* checking data for non-ASCII characters ... OK
* checking data for ASCII and uncompressed saves ... OK
* checking R/sysdata.rda ... OK
* checking files in ‘vignettes’ ... OK
* checking examples ... OK
Examples with CPU (user + system) or elapsed time > 5s
                   user system elapsed
multipleSign    149.853   1.33 152.121
consensusOVSign  75.814   0.73  76.944
* checking for unstated dependencies in ‘tests’ ... OK
* checking tests ...
  Running ‘testthat.R’
 OK
* checking for unstated dependencies in vignettes ... OK
* checking package vignettes in ‘inst/doc’ ... OK
* checking running R code from vignettes ... SKIPPED
* checking re-building of vignette outputs ... SKIPPED
* checking PDF version of manual ... OK
* DONE
Status: OK
signifinder.Rcheck/00install.out
############################################################################## ############################################################################## ### ### Running command: ### ### /Library/Frameworks/R.framework/Resources/bin/R CMD INSTALL signifinder ### ############################################################################## ############################################################################## * installing to library ‘/Library/Frameworks/R.framework/Versions/4.3-x86_64/Resources/library’ * installing *source* package ‘signifinder’ ... ** using staged installation ** R ** data ** inst ** byte-compile and prepare package for lazy loading ** help *** installing help indices *** copying figures ** building package indices ** installing vignettes ** testing if installed package can be loaded from temporary location ** testing if installed package can be loaded from final location ** testing if installed package keeps a record of temporary installation path * DONE (signifinder)
signifinder.Rcheck/tests/testthat.Rout
R version 4.3.2 Patched (2023-11-01 r85457) -- "Eye Holes"
Copyright (C) 2023 The R Foundation for Statistical Computing
Platform: x86_64-apple-darwin20 (64-bit)
R is free software and comes with ABSOLUTELY NO WARRANTY.
You are welcome to redistribute it under certain conditions.
Type 'license()' or 'licence()' for distribution details.
R is a collaborative project with many contributors.
Type 'contributors()' for more information and
'citation()' on how to cite R or R packages in publications.
Type 'demo()' for some demos, 'help()' for on-line help, or
'help.start()' for an HTML browser interface to help.
Type 'q()' to quit R.
> library(testthat)
> library(signifinder)
> 
> test_check("signifinder")
'select()' returned 1:1 mapping between keys and columns
Loading required package: edgeR
Loading required package: limma
Attaching package: 'limma'
The following object is masked from 'package:BiocGenerics':
    plotMA
pyroptosisSignShao is using 100% of signature genes
'select()' returned 1:1 mapping between keys and columns
ferroptosisSignLiu is using 100% of signature genes
lipidMetabolismSign is using 100% of signature genes
StemCellCD49fSign is using 100% of signature genes
glycolysisSignZhang is using 100% of signature genes
autophagySignChenH is using 100% of signature genes
'select()' returned 1:1 mapping between keys and columns
autophagySignChenM is using 100% of OS signature genes
autophagySignChenM is using 60% of DFS signature genes
TinflamSign is using 100% of signature genes
EMTSignMiow is using 0% of epithelial signature genes
EMTSignMiow is using 100% of mesenchymal signature genes
[1] "Calculating ranks..."
[1] "Calculating absolute values from ranks..."
EMTSignMiow is using 0% of epithelial signature genes
[1] "Calculating ranks..."
[1] "Calculating absolute values from ranks..."
EMTSignMak is using 100% of epithelial signature genes
EMTSignMak is using 100% of mesenchymal signature genes
EMTSignMak is using 100% of mesenchymal signature genes
EMTSignCheng is using 100% of signature genes
ASCSign is using 100% of signature genes
ChemokineSign is using 100% of signature genes
'select()' returned 1:1 mapping between keys and columns
PassONSign is using 100% of signature genes
[1] "Calculating ranks..."
[1] "Calculating absolute values from ranks..."
[1] "Normalizing..."
CISSign is using 100% of up signature genes
CISSign is using 100% of down signature genes
CISSign is using 100% of down signature genes
HRDSSign is using 100% of signature genes
DNArepSign is using 100% of signature genes
'select()' returned 1:1 mapping between keys and columns
IPRESSign is using 100% of signature genes
[1] "Calculating ranks..."
[1] "Calculating absolute values from ranks..."
[1] "Normalizing..."
ECMSign is using 0% of up signature genes
ECMSign is using 100% of down signature genes
[1] "Calculating ranks..."
[1] "Calculating absolute values from ranks..."
ECMSign is using 0% of up signature genes
[1] "Calculating ranks..."
[1] "Calculating absolute values from ranks..."
IPSOVSign is using 100% of signature genes
[1] "Calculating ranks..."
[1] "Calculating absolute values from ranks..."
[1] "Calculating ranks..."
[1] "Calculating absolute values from ranks..."
'select()' returned 1:1 mapping between keys and columns
glioCellStateSign is using 100% of MES2 signature genes
glioCellStateSign is using 100% of MES1 signature genes
glioCellStateSign is using 100% of AC signature genes
glioCellStateSign is using 100% of OPC signature genes
glioCellStateSign is using 100% of NPC1 signature genes
glioCellStateSign is using 100% of NPC2 signature genes
TLSSign is using 100% of signature genes
expandedImmuneSign is using 100% of signature genes
IFNSign is using 100% of signature genes
ImmuneCytSignRooney is using 100% of signature genes
mitoticIndexSign is using 100% of signature genes
matrisomeSign is using 100% of signature genes
immunoScoreSignRoh is using 100% of signature genes
CINSign is using 100% of signature genes
CINSign is using 100% of signature genes
CINSign is using 100% of signature genes
hypoxiaSign is using 100% of signature genes
cellCycleSignLundberg is using 100% of signature genes
cellCycleSignDavoli is using 100% of signature genes
VEGFSign is using 100% of signature genes
ImmuneCytSignDavoli is using 100% of signature genes
[ FAIL 0 | WARN 20 | SKIP 0 | PASS 196 ]
[ FAIL 0 | WARN 20 | SKIP 0 | PASS 196 ]
> 
> proc.time()
   user  system elapsed 
158.436   6.200 165.782 
signifinder.Rcheck/signifinder-Ex.timings
| name | user | system | elapsed | |
| ASCSign | 0.082 | 0.004 | 0.086 | |
| CINSign | 0.044 | 0.003 | 0.047 | |
| CISSign | 0.047 | 0.004 | 0.051 | |
| DNArepSign | 0.039 | 0.004 | 0.043 | |
| ECMSign | 0.313 | 0.007 | 0.320 | |
| EMTSign | 0.082 | 0.004 | 0.085 | |
| HRDSSign | 0.036 | 0.003 | 0.038 | |
| IFNSign | 0.029 | 0.002 | 0.031 | |
| IPRESSign | 1.471 | 0.023 | 1.500 | |
| IPSOVSign | 0.160 | 0.011 | 0.172 | |
| IPSSign | 0.089 | 0.005 | 0.093 | |
| ISCSign | 0.072 | 0.006 | 0.079 | |
| PassONSign | 0.116 | 0.004 | 0.122 | |
| TLSSign | 0.043 | 0.004 | 0.047 | |
| TinflamSign | 0.041 | 0.003 | 0.045 | |
| VEGFSign | 0.038 | 0.003 | 0.043 | |
| autophagySign | 0.043 | 0.002 | 0.046 | |
| availableSignatures | 0.011 | 0.004 | 0.015 | |
| cellCycleSign | 0.032 | 0.002 | 0.035 | |
| chemokineSign | 0.036 | 0.003 | 0.040 | |
| consensusOVSign | 75.814 | 0.730 | 76.944 | |
| correlationSignPlot | 1.742 | 0.095 | 1.854 | |
| evaluationSignPlot | 2.002 | 0.085 | 2.098 | |
| expandedImmuneSign | 1.384 | 0.061 | 1.456 | |
| ferroptosisSign | 0.032 | 0.001 | 0.034 | |
| geneHeatmapSignPlot | 1.323 | 0.031 | 1.363 | |
| glioCellStateSign | 0.015 | 0.001 | 0.016 | |
| glycolysisSign | 0.031 | 0.003 | 0.034 | |
| heatmapSignPlot | 2.479 | 0.035 | 2.529 | |
| hypoxiaSign | 0.040 | 0.003 | 0.044 | |
| immuneCytSign | 0.050 | 0.003 | 0.054 | |
| immunoScoreSign | 0.045 | 0.003 | 0.049 | |
| lipidMetabolismSign | 0.035 | 0.003 | 0.038 | |
| matrisomeSign | 0.038 | 0.003 | 0.041 | |
| mitoticIndexSign | 0.029 | 0.002 | 0.031 | |
| multipleSign | 149.853 | 1.330 | 152.121 | |
| oneSignPlot | 0.508 | 0.012 | 0.528 | |
| pyroptosisSign | 0.051 | 0.004 | 0.057 | |
| ridgelineSignPlot | 1.215 | 0.057 | 1.311 | |
| stemCellCD49fSign | 0.046 | 0.003 | 0.050 | |
| survivalSignPlot | 1.901 | 0.074 | 2.006 | |