| Back to Multiple platform build/check report for BioC 3.18: simplified long |
|
This page was generated on 2024-04-17 11:36:23 -0400 (Wed, 17 Apr 2024).
| Hostname | OS | Arch (*) | R version | Installed pkgs |
|---|---|---|---|---|
| nebbiolo2 | Linux (Ubuntu 22.04.3 LTS) | x86_64 | 4.3.3 (2024-02-29) -- "Angel Food Cake" | 4676 |
| palomino4 | Windows Server 2022 Datacenter | x64 | 4.3.3 (2024-02-29 ucrt) -- "Angel Food Cake" | 4414 |
| merida1 | macOS 12.7.1 Monterey | x86_64 | 4.3.3 (2024-02-29) -- "Angel Food Cake" | 4437 |
| Click on any hostname to see more info about the system (e.g. compilers) (*) as reported by 'uname -p', except on Windows and Mac OS X | ||||
| Package 1953/2266 | Hostname | OS / Arch | INSTALL | BUILD | CHECK | BUILD BIN | ||||||||
| signifinder 1.4.0 (landing page) Stefania Pirrotta
| nebbiolo2 | Linux (Ubuntu 22.04.3 LTS) / x86_64 | OK | OK | OK | |||||||||
| palomino4 | Windows Server 2022 Datacenter / x64 | OK | OK | OK | OK | |||||||||
| merida1 | macOS 12.7.1 Monterey / x86_64 | OK | OK | OK | OK | |||||||||
| kjohnson1 | macOS 13.6.1 Ventura / arm64 | see weekly results here | ||||||||||||
|
To the developers/maintainers of the signifinder package: - Allow up to 24 hours (and sometimes 48 hours) for your latest push to git@git.bioconductor.org:packages/signifinder.git to reflect on this report. See Troubleshooting Build Report for more information. - Use the following Renviron settings to reproduce errors and warnings. - If 'R CMD check' started to fail recently on the Linux builder(s) over a missing dependency, add the missing dependency to 'Suggests:' in your DESCRIPTION file. See Renviron.bioc for more information. |
| Package: signifinder |
| Version: 1.4.0 |
| Command: /home/biocbuild/bbs-3.18-bioc/R/bin/R CMD check --install=check:signifinder.install-out.txt --library=/home/biocbuild/bbs-3.18-bioc/R/site-library --timings signifinder_1.4.0.tar.gz |
| StartedAt: 2024-04-16 03:56:59 -0400 (Tue, 16 Apr 2024) |
| EndedAt: 2024-04-16 04:12:44 -0400 (Tue, 16 Apr 2024) |
| EllapsedTime: 945.5 seconds |
| RetCode: 0 |
| Status: OK |
| CheckDir: signifinder.Rcheck |
| Warnings: 0 |
##############################################################################
##############################################################################
###
### Running command:
###
### /home/biocbuild/bbs-3.18-bioc/R/bin/R CMD check --install=check:signifinder.install-out.txt --library=/home/biocbuild/bbs-3.18-bioc/R/site-library --timings signifinder_1.4.0.tar.gz
###
##############################################################################
##############################################################################
* using log directory ‘/home/biocbuild/bbs-3.18-bioc/meat/signifinder.Rcheck’
* using R version 4.3.3 (2024-02-29)
* using platform: x86_64-pc-linux-gnu (64-bit)
* R was compiled by
gcc (Ubuntu 11.4.0-1ubuntu1~22.04) 11.4.0
GNU Fortran (Ubuntu 11.4.0-1ubuntu1~22.04) 11.4.0
* running under: Ubuntu 22.04.4 LTS
* using session charset: UTF-8
* checking for file ‘signifinder/DESCRIPTION’ ... OK
* checking extension type ... Package
* this is package ‘signifinder’ version ‘1.4.0’
* package encoding: UTF-8
* checking package namespace information ... OK
* checking package dependencies ... OK
* checking if this is a source package ... OK
* checking if there is a namespace ... OK
* checking for hidden files and directories ... OK
* checking for portable file names ... OK
* checking for sufficient/correct file permissions ... OK
* checking whether package ‘signifinder’ can be installed ... OK
* checking installed package size ... OK
* checking package directory ... OK
* checking ‘build’ directory ... OK
* checking DESCRIPTION meta-information ... OK
* checking top-level files ... OK
* checking for left-over files ... OK
* checking index information ... OK
* checking package subdirectories ... OK
* checking R files for non-ASCII characters ... OK
* checking R files for syntax errors ... OK
* checking whether the package can be loaded ... OK
* checking whether the package can be loaded with stated dependencies ... OK
* checking whether the package can be unloaded cleanly ... OK
* checking whether the namespace can be loaded with stated dependencies ... OK
* checking whether the namespace can be unloaded cleanly ... OK
* checking loading without being on the library search path ... OK
* checking dependencies in R code ... OK
* checking S3 generic/method consistency ... OK
* checking replacement functions ... OK
* checking foreign function calls ... OK
* checking R code for possible problems ... OK
* checking Rd files ... OK
* checking Rd metadata ... OK
* checking Rd cross-references ... OK
* checking for missing documentation entries ... OK
* checking for code/documentation mismatches ... OK
* checking Rd \usage sections ... OK
* checking Rd contents ... OK
* checking for unstated dependencies in examples ... OK
* checking contents of ‘data’ directory ... OK
* checking data for non-ASCII characters ... OK
* checking data for ASCII and uncompressed saves ... OK
* checking R/sysdata.rda ... OK
* checking files in ‘vignettes’ ... OK
* checking examples ... OK
Examples with CPU (user + system) or elapsed time > 5s
user system elapsed
multipleSign 136.568 0.583 137.156
consensusOVSign 70.617 0.483 71.108
* checking for unstated dependencies in ‘tests’ ... OK
* checking tests ...
Running ‘testthat.R’
OK
* checking for unstated dependencies in vignettes ... OK
* checking package vignettes in ‘inst/doc’ ... OK
* checking running R code from vignettes ...
‘signifinder.Rmd’ using ‘UTF-8’... OK
OK
* checking re-building of vignette outputs ... OK
* checking PDF version of manual ... OK
* DONE
Status: OK
signifinder.Rcheck/00install.out
############################################################################## ############################################################################## ### ### Running command: ### ### /home/biocbuild/bbs-3.18-bioc/R/bin/R CMD INSTALL signifinder ### ############################################################################## ############################################################################## * installing to library ‘/home/biocbuild/bbs-3.18-bioc/R/site-library’ * installing *source* package ‘signifinder’ ... ** using staged installation ** R ** data ** inst ** byte-compile and prepare package for lazy loading ** help *** installing help indices *** copying figures ** building package indices ** installing vignettes ** testing if installed package can be loaded from temporary location ** testing if installed package can be loaded from final location ** testing if installed package keeps a record of temporary installation path * DONE (signifinder)
signifinder.Rcheck/tests/testthat.Rout
R version 4.3.3 (2024-02-29) -- "Angel Food Cake"
Copyright (C) 2024 The R Foundation for Statistical Computing
Platform: x86_64-pc-linux-gnu (64-bit)
R is free software and comes with ABSOLUTELY NO WARRANTY.
You are welcome to redistribute it under certain conditions.
Type 'license()' or 'licence()' for distribution details.
R is a collaborative project with many contributors.
Type 'contributors()' for more information and
'citation()' on how to cite R or R packages in publications.
Type 'demo()' for some demos, 'help()' for on-line help, or
'help.start()' for an HTML browser interface to help.
Type 'q()' to quit R.
> library(testthat)
> library(signifinder)
>
> test_check("signifinder")
'select()' returned 1:1 mapping between keys and columns
Loading required package: edgeR
Loading required package: limma
Attaching package: 'limma'
The following object is masked from 'package:BiocGenerics':
plotMA
pyroptosisSignYe is using 100% of signature genes
'select()' returned 1:1 mapping between keys and columns
ferroptosisSignLiu is using 100% of signature genes
lipidMetabolismSign is using 100% of signature genes
StemCellCD49fSign is using 100% of signature genes
glycolysisSignZhang is using 100% of signature genes
autophagySignXu is using 100% of signature genes
'select()' returned 1:1 mapping between keys and columns
autophagySignChenM is using 100% of OS signature genes
autophagySignChenM is using 60% of DFS signature genes
TinflamSign is using 100% of signature genes
EMTSignMiow is using 0% of epithelial signature genes
EMTSignMiow is using 100% of mesenchymal signature genes
[1] "Calculating ranks..."
[1] "Calculating absolute values from ranks..."
EMTSignMiow is using 0% of epithelial signature genes
[1] "Calculating ranks..."
[1] "Calculating absolute values from ranks..."
EMTSignMak is using 100% of epithelial signature genes
EMTSignMak is using 100% of mesenchymal signature genes
EMTSignMak is using 100% of mesenchymal signature genes
EMTSignCheng is using 100% of signature genes
ASCSign is using 100% of signature genes
ChemokineSign is using 100% of signature genes
'select()' returned 1:1 mapping between keys and columns
PassONSign is using 100% of signature genes
[1] "Calculating ranks..."
[1] "Calculating absolute values from ranks..."
[1] "Normalizing..."
CISSign is using 100% of up signature genes
CISSign is using 100% of down signature genes
CISSign is using 100% of down signature genes
HRDSSign is using 100% of signature genes
DNArepSign is using 100% of signature genes
'select()' returned 1:1 mapping between keys and columns
IPRESSign is using 100% of signature genes
[1] "Calculating ranks..."
[1] "Calculating absolute values from ranks..."
[1] "Normalizing..."
ECMSign is using 0% of up signature genes
ECMSign is using 100% of down signature genes
[1] "Calculating ranks..."
[1] "Calculating absolute values from ranks..."
ECMSign is using 0% of up signature genes
[1] "Calculating ranks..."
[1] "Calculating absolute values from ranks..."
IPSOVSign is using 100% of signature genes
[1] "Calculating ranks..."
[1] "Calculating absolute values from ranks..."
[1] "Calculating ranks..."
[1] "Calculating absolute values from ranks..."
'select()' returned 1:1 mapping between keys and columns
glioCellStateSign is using 100% of MES2 signature genes
glioCellStateSign is using 100% of MES1 signature genes
glioCellStateSign is using 100% of AC signature genes
glioCellStateSign is using 100% of OPC signature genes
glioCellStateSign is using 100% of NPC1 signature genes
glioCellStateSign is using 100% of NPC2 signature genes
TLSSign is using 100% of signature genes
expandedImmuneSign is using 100% of signature genes
IFNSign is using 100% of signature genes
ImmuneCytSignRooney is using 100% of signature genes
mitoticIndexSign is using 100% of signature genes
matrisomeSign is using 100% of signature genes
immunoScoreSignRoh is using 100% of signature genes
CINSign is using 100% of signature genes
CINSign is using 36% of signature genes
CINSign is using 36% of signature genes
hypoxiaSign is using 100% of signature genes
cellCycleSignLundberg is using 100% of signature genes
cellCycleSignDavoli is using 100% of signature genes
VEGFSign is using 100% of signature genes
ImmuneCytSignDavoli is using 100% of signature genes
[ FAIL 0 | WARN 20 | SKIP 0 | PASS 196 ]
[ FAIL 0 | WARN 20 | SKIP 0 | PASS 196 ]
>
> proc.time()
user system elapsed
130.764 2.567 133.326
signifinder.Rcheck/signifinder-Ex.timings
| name | user | system | elapsed | |
| ASCSign | 0.104 | 0.000 | 0.105 | |
| CINSign | 0.057 | 0.004 | 0.061 | |
| CISSign | 0.045 | 0.000 | 0.044 | |
| DNArepSign | 0.028 | 0.012 | 0.039 | |
| ECMSign | 0.337 | 0.024 | 0.360 | |
| EMTSign | 0.1 | 0.0 | 0.1 | |
| HRDSSign | 0.047 | 0.000 | 0.048 | |
| IFNSign | 0.038 | 0.000 | 0.038 | |
| IPRESSign | 1.644 | 0.208 | 1.852 | |
| IPSOVSign | 0.118 | 0.016 | 0.133 | |
| IPSSign | 0.075 | 0.004 | 0.079 | |
| ISCSign | 0.065 | 0.000 | 0.065 | |
| PassONSign | 0.091 | 0.000 | 0.091 | |
| TLSSign | 0.038 | 0.000 | 0.038 | |
| TinflamSign | 0.036 | 0.000 | 0.036 | |
| VEGFSign | 0.036 | 0.000 | 0.036 | |
| autophagySign | 0.037 | 0.000 | 0.037 | |
| availableSignatures | 0.007 | 0.000 | 0.007 | |
| cellCycleSign | 0.036 | 0.000 | 0.036 | |
| chemokineSign | 0.027 | 0.008 | 0.035 | |
| consensusOVSign | 70.617 | 0.483 | 71.108 | |
| correlationSignPlot | 1.525 | 0.120 | 1.647 | |
| evaluationSignPlot | 1.984 | 0.088 | 2.072 | |
| expandedImmuneSign | 1.355 | 0.119 | 1.476 | |
| ferroptosisSign | 0.041 | 0.001 | 0.041 | |
| geneHeatmapSignPlot | 1.249 | 0.004 | 1.253 | |
| glioCellStateSign | 0.015 | 0.004 | 0.018 | |
| glycolysisSign | 0.04 | 0.00 | 0.04 | |
| heatmapSignPlot | 2.217 | 0.007 | 2.224 | |
| hypoxiaSign | 0.039 | 0.000 | 0.039 | |
| immuneCytSign | 0.044 | 0.000 | 0.044 | |
| immunoScoreSign | 0.044 | 0.000 | 0.044 | |
| lipidMetabolismSign | 0.035 | 0.000 | 0.034 | |
| matrisomeSign | 0.035 | 0.000 | 0.035 | |
| mitoticIndexSign | 0.029 | 0.004 | 0.034 | |
| multipleSign | 136.568 | 0.583 | 137.156 | |
| oneSignPlot | 0.399 | 0.044 | 0.443 | |
| pyroptosisSign | 0.041 | 0.004 | 0.046 | |
| ridgelineSignPlot | 1.081 | 0.048 | 1.129 | |
| stemCellCD49fSign | 0.038 | 0.000 | 0.038 | |
| survivalSignPlot | 1.473 | 0.020 | 1.494 | |