| Back to Multiple platform build/check report for BioC 3.18: simplified long |
This page was generated on 2023-11-02 11:34:43 -0400 (Thu, 02 Nov 2023).
| Hostname: | kunpeng2 |
| OS: | Linux (openEuler 22.03 LTS-SP1) |
| Arch: | aarch64 |
| Platform: | aarch64-linux-gnu |
| R version: | 4.3.1 (2023-06-16) -- "Beagle Scouts" |
| R environment variables: | Renviron.bioc |
| R variable (VAR) | Value ('R CMD config <VAR>' output) |
| CC | gcc |
| CFLAGS | -g -O2 -Wall |
| CPICFLAGS | -fPIC |
| Please refer to 'R CMD config -h' for the meaning of these variables | |
Compiler version ('gcc --version' output):
gcc (GCC) 10.3.1 Copyright (C) 2020 Free Software Foundation, Inc. This is free software; see the source for copying conditions. There is NO warranty; not even for MERCHANTABILITY or FITNESS FOR A PARTICULAR PURPOSE.
| R variable (VAR) | Value ('R CMD config <VAR>' output) |
| CXX | g++ -std=gnu++17 |
| CXXFLAGS | -g -O2 -Wall |
| CXXPICFLAGS | -fPIC |
| Please refer to 'R CMD config -h' for the meaning of these variables | |
Compiler version ('g++ -std=gnu++17 --version' output):
g++ (GCC) 10.3.1 Copyright (C) 2020 Free Software Foundation, Inc. This is free software; see the source for copying conditions. There is NO warranty; not even for MERCHANTABILITY or FITNESS FOR A PARTICULAR PURPOSE.
| R variable (VAR) | Value ('R CMD config <VAR>' output) |
| CXX11 | g++ |
| CXX11FLAGS | -g -O2 -Wall |
| CXX11PICFLAGS | -fPIC |
| CXX11STD | -std=gnu++11 |
| Please refer to 'R CMD config -h' for the meaning of these variables | |
Compiler version ('g++ --version' output):
g++ (GCC) 10.3.1 Copyright (C) 2020 Free Software Foundation, Inc. This is free software; see the source for copying conditions. There is NO warranty; not even for MERCHANTABILITY or FITNESS FOR A PARTICULAR PURPOSE.
| R variable (VAR) | Value ('R CMD config <VAR>' output) |
| CXX14 | g++ |
| CXX14FLAGS | -g -O2 -Wall |
| CXX14PICFLAGS | -fPIC |
| CXX14STD | -std=gnu++14 |
| Please refer to 'R CMD config -h' for the meaning of these variables | |
Compiler version ('g++ --version' output):
g++ (GCC) 10.3.1 Copyright (C) 2020 Free Software Foundation, Inc. This is free software; see the source for copying conditions. There is NO warranty; not even for MERCHANTABILITY or FITNESS FOR A PARTICULAR PURPOSE.
| R variable (VAR) | Value ('R CMD config <VAR>' output) |
| CXX17 | g++ |
| CXX17FLAGS | -g -O2 -Wall |
| CXX17PICFLAGS | -fPIC |
| CXX17STD | -std=gnu++17 |
| Please refer to 'R CMD config -h' for the meaning of these variables | |
Compiler version ('g++ --version' output):
g++ (GCC) 10.3.1 Copyright (C) 2020 Free Software Foundation, Inc. This is free software; see the source for copying conditions. There is NO warranty; not even for MERCHANTABILITY or FITNESS FOR A PARTICULAR PURPOSE.
java version ('java --version' output):
openjdk 17.0.7 2023-04-18 OpenJDK Runtime Environment 21.9 (build 17.0.7+7) OpenJDK 64-Bit Server VM 21.9 (build 17.0.7+7, mixed mode, sharing)
pandoc version ('pandoc --version' output):
pandoc 2.12 Compiled with pandoc-types 1.22, texmath 0.12.1.1, skylighting 0.10.4, citeproc 0.3.0.8, ipynb 0.1.0.1 User data directory: /home/biocbuild/.local/share/pandoc Copyright (C) 2006-2021 John MacFarlane. Web: https://pandoc.org This is free software; see the source for copying conditions. There is no warranty, not even for merchantability or fitness for a particular purpose.
More information might be added in the future...