| Back to Multiple platform build/check report for BioC 3.18: simplified long |
|
This page was generated on 2023-11-02 11:40:43 -0400 (Thu, 02 Nov 2023).
| Hostname | OS | Arch (*) | R version | Installed pkgs |
|---|---|---|---|---|
| nebbiolo2 | Linux (Ubuntu 22.04.2 LTS) | x86_64 | 4.3.1 (2023-06-16) -- "Beagle Scouts" | 4729 |
| palomino4 | Windows Server 2022 Datacenter | x64 | 4.3.1 (2023-06-16 ucrt) -- "Beagle Scouts" | 4463 |
| lconway | macOS 12.6.5 Monterey | x86_64 | 4.3.1 Patched (2023-06-17 r84564) -- "Beagle Scouts" | 4478 |
| kunpeng2 | Linux (openEuler 22.03 LTS-SP1) | aarch64 | 4.3.1 (2023-06-16) -- "Beagle Scouts" | 4464 |
| Click on any hostname to see more info about the system (e.g. compilers) (*) as reported by 'uname -p', except on Windows and Mac OS X | ||||
| Package 794/2266 | Hostname | OS / Arch | INSTALL | BUILD | CHECK | BUILD BIN | ||||||||
| genefu 2.34.0 (landing page) Benjamin Haibe-Kains
| nebbiolo2 | Linux (Ubuntu 22.04.2 LTS) / x86_64 | OK | OK | OK | |||||||||
| palomino4 | Windows Server 2022 Datacenter / x64 | OK | OK | OK | OK | |||||||||
| lconway | macOS 12.6.5 Monterey / x86_64 | OK | OK | OK | OK | |||||||||
| kjohnson1 | macOS 13.6.1 Ventura / arm64 | see weekly results here | ||||||||||||
| kunpeng2 | Linux (openEuler 22.03 LTS-SP1) / aarch64 | OK | OK | OK | ||||||||||
|
To the developers/maintainers of the genefu package: - Allow up to 24 hours (and sometimes 48 hours) for your latest push to git@git.bioconductor.org:packages/genefu.git to reflect on this report. See Troubleshooting Build Report for more information. - Use the following Renviron settings to reproduce errors and warnings. - If 'R CMD check' started to fail recently on the Linux builder(s) over a missing dependency, add the missing dependency to 'Suggests:' in your DESCRIPTION file. See Renviron.bioc for more information. - See Martin Grigorov's blog post for how to debug Linux ARM64 related issues on a x86_64 host. |
| Package: genefu |
| Version: 2.34.0 |
| Command: /home/biocbuild/R/R-4.3.1/bin/R CMD check --install=check:genefu.install-out.txt --library=/home/biocbuild/R/R-4.3.1/site-library --no-vignettes --timings genefu_2.34.0.tar.gz |
| StartedAt: 2023-11-02 10:45:44 -0000 (Thu, 02 Nov 2023) |
| EndedAt: 2023-11-02 10:48:39 -0000 (Thu, 02 Nov 2023) |
| EllapsedTime: 174.2 seconds |
| RetCode: 0 |
| Status: OK |
| CheckDir: genefu.Rcheck |
| Warnings: 0 |
##############################################################################
##############################################################################
###
### Running command:
###
### /home/biocbuild/R/R-4.3.1/bin/R CMD check --install=check:genefu.install-out.txt --library=/home/biocbuild/R/R-4.3.1/site-library --no-vignettes --timings genefu_2.34.0.tar.gz
###
##############################################################################
##############################################################################
* using log directory ‘/home/biocbuild/bbs-3.18-bioc/meat/genefu.Rcheck’
* using R version 4.3.1 (2023-06-16)
* using platform: aarch64-unknown-linux-gnu (64-bit)
* R was compiled by
gcc (GCC) 10.3.1
GNU Fortran (GCC) 10.3.1
* running under: openEuler 22.03 (LTS-SP1)
* using session charset: UTF-8
* using option ‘--no-vignettes’
* checking for file ‘genefu/DESCRIPTION’ ... OK
* checking extension type ... Package
* this is package ‘genefu’ version ‘2.34.0’
* package encoding: UTF-8
* checking package namespace information ... OK
* checking package dependencies ... OK
* checking if this is a source package ... OK
* checking if there is a namespace ... OK
* checking for hidden files and directories ... OK
* checking for portable file names ... OK
* checking for sufficient/correct file permissions ... OK
* checking whether package ‘genefu’ can be installed ... OK
* checking installed package size ... NOTE
installed size is 5.2Mb
sub-directories of 1Mb or more:
data 4.0Mb
* checking package directory ... OK
* checking ‘build’ directory ... OK
* checking DESCRIPTION meta-information ... OK
* checking top-level files ... OK
* checking for left-over files ... OK
* checking index information ... OK
* checking package subdirectories ... OK
* checking R files for non-ASCII characters ... OK
* checking R files for syntax errors ... OK
* checking whether the package can be loaded ... OK
* checking whether the package can be loaded with stated dependencies ... OK
* checking whether the package can be unloaded cleanly ... OK
* checking whether the namespace can be loaded with stated dependencies ... OK
* checking whether the namespace can be unloaded cleanly ... OK
* checking loading without being on the library search path ... OK
* checking dependencies in R code ... NOTE
Packages in Depends field not imported from:
‘AIMS’ ‘biomaRt’ ‘iC10’
These packages need to be imported from (in the NAMESPACE file)
for when this namespace is loaded but not attached.
Unexported objects imported by ':::' calls:
‘mclust:::grid1’ ‘mclust:::grid2’
See the note in ?`:::` about the use of this operator.
* checking S3 generic/method consistency ... OK
* checking replacement functions ... OK
* checking foreign function calls ... OK
* checking R code for possible problems ... OK
* checking Rd files ... OK
* checking Rd metadata ... OK
* checking Rd cross-references ... OK
* checking for missing documentation entries ... OK
* checking for code/documentation mismatches ... OK
* checking Rd \usage sections ... OK
* checking Rd contents ... OK
* checking for unstated dependencies in examples ... OK
* checking contents of ‘data’ directory ... OK
* checking data for non-ASCII characters ... OK
* checking data for ASCII and uncompressed saves ... OK
* checking files in ‘vignettes’ ... OK
* checking examples ... OK
* checking for unstated dependencies in vignettes ... OK
* checking package vignettes in ‘inst/doc’ ... OK
* checking running R code from vignettes ... SKIPPED
* checking re-building of vignette outputs ... SKIPPED
* checking PDF version of manual ... OK
* DONE
Status: 2 NOTEs
See
‘/home/biocbuild/bbs-3.18-bioc/meat/genefu.Rcheck/00check.log’
for details.
genefu.Rcheck/00install.out
############################################################################## ############################################################################## ### ### Running command: ### ### /home/biocbuild/R/R-4.3.1/bin/R CMD INSTALL genefu ### ############################################################################## ############################################################################## * installing to library ‘/home/biocbuild/R/R-4.3.1/site-library’ * installing *source* package ‘genefu’ ... ** using staged installation ** R ** data ** inst ** byte-compile and prepare package for lazy loading ** help *** installing help indices ** building package indices ** installing vignettes ** testing if installed package can be loaded from temporary location ** testing if installed package can be loaded from final location ** testing if installed package keeps a record of temporary installation path * DONE (genefu)
genefu.Rcheck/genefu-Ex.timings
| name | user | system | elapsed | |
| bimod | 0.233 | 0.012 | 0.246 | |
| boxplotplus2 | 0.009 | 0.000 | 0.009 | |
| claudinLow | 1.387 | 0.023 | 1.417 | |
| compareProtoCor | 1.509 | 0.064 | 1.581 | |
| compute.pairw.cor.meta | 1.928 | 0.011 | 1.952 | |
| compute.proto.cor.meta | 1.433 | 0.016 | 1.462 | |
| cordiff.dep | 0.109 | 0.000 | 0.109 | |
| endoPredict | 0.111 | 0.004 | 0.116 | |
| fuzzy.ttest | 0.178 | 0.004 | 0.183 | |
| gene70 | 0.290 | 0.008 | 0.299 | |
| gene76 | 0.131 | 0.004 | 0.136 | |
| geneid.map | 0.144 | 0.016 | 0.161 | |
| genius | 0.247 | 0.004 | 0.252 | |
| ggi | 0.114 | 0.012 | 0.127 | |
| ihc4 | 0.106 | 0.000 | 0.106 | |
| intrinsic.cluster | 0.445 | 0.012 | 0.446 | |
| intrinsic.cluster.predict | 0.219 | 0.004 | 0.223 | |
| map.datasets | 1.366 | 0.051 | 1.423 | |
| molecular.subtyping | 2.462 | 0.048 | 2.537 | |
| npi | 0.113 | 0.000 | 0.114 | |
| oncotypedx | 0.153 | 0.008 | 0.162 | |
| ovcAngiogenic | 0.133 | 0.004 | 0.139 | |
| ovcCrijns | 0.125 | 0.008 | 0.133 | |
| ovcTCGA | 0.295 | 0.000 | 0.296 | |
| ovcYoshihara | 0.152 | 0.004 | 0.157 | |
| pik3cags | 0.129 | 0.004 | 0.134 | |
| power.cor | 0.001 | 0.000 | 0.001 | |
| ps.cluster | 0.509 | 0.000 | 0.495 | |
| read.m.file | 0.028 | 0.000 | 0.030 | |
| rename.duplicate | 0.002 | 0.000 | 0.002 | |
| rescale | 0.233 | 0.020 | 0.255 | |
| rorS | 0.242 | 0.004 | 0.246 | |
| setcolclass.df | 0.002 | 0.000 | 0.002 | |
| sig.score | 0.137 | 0.000 | 0.138 | |
| spearmanCI | 0.000 | 0.000 | 0.001 | |
| st.gallen | 0.103 | 0.007 | 0.111 | |
| stab.fs | 0.175 | 0.008 | 0.183 | |
| stab.fs.ranking | 0.804 | 0.056 | 0.862 | |
| strescR | 0.001 | 0.000 | 0.001 | |
| subtype.cluster | 0.741 | 0.016 | 0.761 | |
| subtype.cluster.predict | 0.281 | 0.004 | 0.286 | |
| tamr13 | 0.139 | 0.000 | 0.140 | |
| tbrm | 0.001 | 0.000 | 0.000 | |
| weighted.meanvar | 0.001 | 0.000 | 0.000 | |
| write.m.file | 0.004 | 0.000 | 0.003 | |