| Back to Multiple platform build/check report for BioC 3.18: simplified long |
|
This page was generated on 2023-11-02 11:40:50 -0400 (Thu, 02 Nov 2023).
| Hostname | OS | Arch (*) | R version | Installed pkgs |
|---|---|---|---|---|
| nebbiolo2 | Linux (Ubuntu 22.04.2 LTS) | x86_64 | 4.3.1 (2023-06-16) -- "Beagle Scouts" | 4729 |
| palomino4 | Windows Server 2022 Datacenter | x64 | 4.3.1 (2023-06-16 ucrt) -- "Beagle Scouts" | 4463 |
| lconway | macOS 12.6.5 Monterey | x86_64 | 4.3.1 Patched (2023-06-17 r84564) -- "Beagle Scouts" | 4478 |
| kunpeng2 | Linux (openEuler 22.03 LTS-SP1) | aarch64 | 4.3.1 (2023-06-16) -- "Beagle Scouts" | 4464 |
| Click on any hostname to see more info about the system (e.g. compilers) (*) as reported by 'uname -p', except on Windows and Mac OS X | ||||
| Package 1047/2266 | Hostname | OS / Arch | INSTALL | BUILD | CHECK | BUILD BIN | ||||||||
| ISAnalytics 1.12.0 (landing page) Giulia Pais
| nebbiolo2 | Linux (Ubuntu 22.04.2 LTS) / x86_64 | OK | OK | OK | |||||||||
| palomino4 | Windows Server 2022 Datacenter / x64 | OK | OK | OK | OK | |||||||||
| lconway | macOS 12.6.5 Monterey / x86_64 | OK | OK | OK | OK | |||||||||
| kjohnson1 | macOS 13.6.1 Ventura / arm64 | see weekly results here | ||||||||||||
| kunpeng2 | Linux (openEuler 22.03 LTS-SP1) / aarch64 | OK | OK | OK | ||||||||||
|
To the developers/maintainers of the ISAnalytics package: - Allow up to 24 hours (and sometimes 48 hours) for your latest push to git@git.bioconductor.org:packages/ISAnalytics.git to reflect on this report. See Troubleshooting Build Report for more information. - Use the following Renviron settings to reproduce errors and warnings. - If 'R CMD check' started to fail recently on the Linux builder(s) over a missing dependency, add the missing dependency to 'Suggests:' in your DESCRIPTION file. See Renviron.bioc for more information. - See Martin Grigorov's blog post for how to debug Linux ARM64 related issues on a x86_64 host. |
| Package: ISAnalytics |
| Version: 1.12.0 |
| Command: /home/biocbuild/R/R-4.3.1/bin/R CMD check --install=check:ISAnalytics.install-out.txt --library=/home/biocbuild/R/R-4.3.1/site-library --no-vignettes --timings ISAnalytics_1.12.0.tar.gz |
| StartedAt: 2023-11-02 11:32:38 -0000 (Thu, 02 Nov 2023) |
| EndedAt: 2023-11-02 11:42:54 -0000 (Thu, 02 Nov 2023) |
| EllapsedTime: 616.3 seconds |
| RetCode: 0 |
| Status: OK |
| CheckDir: ISAnalytics.Rcheck |
| Warnings: 0 |
##############################################################################
##############################################################################
###
### Running command:
###
### /home/biocbuild/R/R-4.3.1/bin/R CMD check --install=check:ISAnalytics.install-out.txt --library=/home/biocbuild/R/R-4.3.1/site-library --no-vignettes --timings ISAnalytics_1.12.0.tar.gz
###
##############################################################################
##############################################################################
* using log directory ‘/home/biocbuild/bbs-3.18-bioc/meat/ISAnalytics.Rcheck’
* using R version 4.3.1 (2023-06-16)
* using platform: aarch64-unknown-linux-gnu (64-bit)
* R was compiled by
gcc (GCC) 10.3.1
GNU Fortran (GCC) 10.3.1
* running under: openEuler 22.03 (LTS-SP1)
* using session charset: UTF-8
* using option ‘--no-vignettes’
* checking for file ‘ISAnalytics/DESCRIPTION’ ... OK
* this is package ‘ISAnalytics’ version ‘1.12.0’
* package encoding: UTF-8
* checking package namespace information ... OK
* checking package dependencies ... OK
* checking if this is a source package ... OK
* checking if there is a namespace ... OK
* checking for hidden files and directories ... OK
* checking for portable file names ... OK
* checking for sufficient/correct file permissions ... OK
* checking whether package ‘ISAnalytics’ can be installed ... OK
* checking installed package size ... OK
* checking package directory ... OK
* checking ‘build’ directory ... OK
* checking DESCRIPTION meta-information ... OK
* checking top-level files ... OK
* checking for left-over files ... OK
* checking index information ... OK
* checking package subdirectories ... OK
* checking R files for non-ASCII characters ... OK
* checking R files for syntax errors ... OK
* checking whether the package can be loaded ... OK
* checking whether the package can be loaded with stated dependencies ... OK
* checking whether the package can be unloaded cleanly ... OK
* checking whether the namespace can be loaded with stated dependencies ... OK
* checking whether the namespace can be unloaded cleanly ... OK
* checking loading without being on the library search path ... OK
* checking startup messages can be suppressed ... OK
* checking dependencies in R code ... OK
* checking S3 generic/method consistency ... OK
* checking replacement functions ... OK
* checking foreign function calls ... OK
* checking R code for possible problems ... OK
* checking Rd files ... OK
* checking Rd metadata ... OK
* checking Rd cross-references ... OK
* checking for missing documentation entries ... OK
* checking for code/documentation mismatches ... OK
* checking Rd \usage sections ... OK
* checking Rd contents ... OK
* checking for unstated dependencies in examples ... OK
* checking contents of ‘data’ directory ... OK
* checking data for non-ASCII characters ... OK
* checking data for ASCII and uncompressed saves ... OK
* checking files in ‘vignettes’ ... OK
* checking examples ... OK
Examples with CPU (user + system) or elapsed time > 5s
user system elapsed
integration_alluvial_plot 4.513 0.399 11.755
sharing_venn 3.540 0.271 48.275
CIS_grubbs_overtime 1.636 1.033 9.212
import_parallel_Vispa2Matrices 2.398 0.218 15.282
top_cis_overtime_heatmap 1.665 0.154 8.261
import_Vispa2_stats 1.630 0.142 7.277
sharing_heatmap 1.592 0.115 11.301
iss_source 1.121 0.075 10.044
is_sharing 0.906 0.205 9.298
HSC_population_plot 1.026 0.046 7.317
realign_after_collisions 0.901 0.047 6.585
remove_collisions 0.855 0.016 6.498
HSC_population_size_estimate 0.659 0.025 8.185
compute_near_integrations 0.662 0.021 11.220
* checking for unstated dependencies in ‘tests’ ... OK
* checking tests ...
Running ‘testthat.R’
OK
* checking for unstated dependencies in vignettes ... OK
* checking package vignettes in ‘inst/doc’ ... OK
* checking running R code from vignettes ... SKIPPED
* checking re-building of vignette outputs ... SKIPPED
* checking PDF version of manual ... OK
* DONE
Status: OK
ISAnalytics.Rcheck/00install.out
############################################################################## ############################################################################## ### ### Running command: ### ### /home/biocbuild/R/R-4.3.1/bin/R CMD INSTALL ISAnalytics ### ############################################################################## ############################################################################## * installing to library ‘/home/biocbuild/R/R-4.3.1/site-library’ * installing *source* package ‘ISAnalytics’ ... ** using staged installation ** R ** data ** inst ** byte-compile and prepare package for lazy loading ** help *** installing help indices *** copying figures ** building package indices ** installing vignettes ** testing if installed package can be loaded from temporary location ** testing if installed package can be loaded from final location ** testing if installed package keeps a record of temporary installation path * DONE (ISAnalytics)
ISAnalytics.Rcheck/tests/testthat.Rout
R version 4.3.1 (2023-06-16) -- "Beagle Scouts"
Copyright (C) 2023 The R Foundation for Statistical Computing
Platform: aarch64-unknown-linux-gnu (64-bit)
R is free software and comes with ABSOLUTELY NO WARRANTY.
You are welcome to redistribute it under certain conditions.
Type 'license()' or 'licence()' for distribution details.
R is a collaborative project with many contributors.
Type 'contributors()' for more information and
'citation()' on how to cite R or R packages in publications.
Type 'demo()' for some demos, 'help()' for on-line help, or
'help.start()' for an HTML browser interface to help.
Type 'q()' to quit R.
> library(testthat)
> library(ISAnalytics)
>
> test_check("ISAnalytics")
Loading required namespace: plotly
Loading required namespace: rmarkdown
Report correctly saved
i Report saved to: /home/biocbuild/tmp/Rtmp9TyaOh/file14a315275c567d/2023-11-02_collision_removal_report.html
Report correctly saved
i Report saved to: /home/biocbuild/tmp/Rtmp9TyaOh/file14a3153f425255/2023-11-02_outlier_test_pool_fragments_report.html
[ FAIL 0 | WARN 0 | SKIP 0 | PASS 834 ]
>
> proc.time()
user system elapsed
130.609 7.639 343.709
ISAnalytics.Rcheck/ISAnalytics-Ex.timings
| name | user | system | elapsed | |
| CIS_grubbs | 1.377 | 0.075 | 1.473 | |
| CIS_grubbs_overtime | 1.636 | 1.033 | 9.212 | |
| CIS_volcano_plot | 1.622 | 0.061 | 1.729 | |
| HSC_population_plot | 1.026 | 0.046 | 7.317 | |
| HSC_population_size_estimate | 0.659 | 0.025 | 8.185 | |
| NGSdataExplorer | 0 | 0 | 0 | |
| aggregate_metadata | 0.166 | 0.000 | 0.168 | |
| aggregate_values_by_key | 0.096 | 0.001 | 0.097 | |
| annotation_issues | 0.041 | 0.000 | 0.041 | |
| as_sparse_matrix | 0.093 | 0.000 | 0.092 | |
| available_outlier_tests | 0.001 | 0.000 | 0.000 | |
| available_tags | 0.037 | 0.003 | 0.040 | |
| blood_lineages_default | 0.032 | 0.001 | 0.032 | |
| circos_genomic_density | 0 | 0 | 0 | |
| clinical_relevant_suspicious_genes | 0.017 | 0.000 | 0.018 | |
| comparison_matrix | 0.044 | 0.000 | 0.044 | |
| compute_abundance | 0.053 | 0.000 | 0.056 | |
| compute_near_integrations | 0.662 | 0.021 | 11.220 | |
| cumulative_count_union | 0 | 0 | 0 | |
| cumulative_is | 0.291 | 0.008 | 0.299 | |
| date_formats | 0.001 | 0.000 | 0.000 | |
| default_af_transform | 0.001 | 0.000 | 0.000 | |
| default_iss_file_prefixes | 0.001 | 0.000 | 0.000 | |
| default_meta_agg | 0.037 | 0.000 | 0.037 | |
| default_rec_agg_lambdas | 0.001 | 0.000 | 0.000 | |
| default_report_path | 0.009 | 0.000 | 0.009 | |
| default_stats | 1.429 | 0.055 | 1.513 | |
| enable_progress_bars | 0.020 | 0.000 | 0.022 | |
| export_ISA_settings | 0.099 | 0.004 | 0.103 | |
| fisher_scatterplot | 1.909 | 0.073 | 1.990 | |
| gene_frequency_fisher | 1.314 | 0.012 | 1.329 | |
| generate_Vispa2_launch_AF | 0.291 | 0.008 | 0.304 | |
| generate_blank_association_file | 0.017 | 0.000 | 0.018 | |
| generate_default_folder_structure | 0.667 | 0.087 | 0.720 | |
| import_ISA_settings | 0.095 | 0.004 | 0.100 | |
| import_Vispa2_stats | 1.630 | 0.142 | 7.277 | |
| import_association_file | 0.959 | 0.139 | 1.056 | |
| import_parallel_Vispa2Matrices | 2.398 | 0.218 | 15.282 | |
| import_single_Vispa2Matrix | 1.364 | 0.117 | 1.449 | |
| inspect_tags | 0.023 | 0.000 | 0.023 | |
| integration_alluvial_plot | 4.513 | 0.399 | 11.755 | |
| is_sharing | 0.906 | 0.205 | 9.298 | |
| iss_source | 1.121 | 0.075 | 10.044 | |
| known_clinical_oncogenes | 0.016 | 0.000 | 0.016 | |
| mandatory_IS_vars | 0.122 | 0.024 | 0.147 | |
| matching_options | 0 | 0 | 0 | |
| outlier_filter | 0.235 | 0.016 | 0.253 | |
| outliers_by_pool_fragments | 0.248 | 0.016 | 0.265 | |
| pcr_id_column | 0.030 | 0.004 | 0.034 | |
| purity_filter | 0.554 | 0.024 | 0.581 | |
| quantification_types | 0 | 0 | 0 | |
| realign_after_collisions | 0.901 | 0.047 | 6.585 | |
| reduced_AF_columns | 0.072 | 0.000 | 0.072 | |
| refGene_table_cols | 0 | 0 | 0 | |
| remove_collisions | 0.855 | 0.016 | 6.498 | |
| reset_mandatory_IS_vars | 0.016 | 0.000 | 0.016 | |
| sample_statistics | 0.490 | 0.023 | 0.519 | |
| separate_quant_matrices | 0.026 | 0.001 | 0.026 | |
| set_mandatory_IS_vars | 0.136 | 0.027 | 0.164 | |
| set_matrix_file_suffixes | 0.027 | 0.004 | 0.031 | |
| sharing_heatmap | 1.592 | 0.115 | 11.301 | |
| sharing_venn | 3.540 | 0.271 | 48.275 | |
| threshold_filter | 0 | 0 | 0 | |
| top_abund_tableGrob | 1.128 | 0.199 | 1.333 | |
| top_cis_overtime_heatmap | 1.665 | 0.154 | 8.261 | |
| top_integrations | 0.042 | 0.004 | 0.047 | |
| top_targeted_genes | 1.080 | 0.015 | 1.098 | |
| transform_columns | 0.026 | 0.000 | 0.026 | |