| Back to Multiple platform build/check report for BioC 3.18: simplified long |
|
This page was generated on 2024-04-17 11:36:03 -0400 (Wed, 17 Apr 2024).
| Hostname | OS | Arch (*) | R version | Installed pkgs |
|---|---|---|---|---|
| nebbiolo2 | Linux (Ubuntu 22.04.3 LTS) | x86_64 | 4.3.3 (2024-02-29) -- "Angel Food Cake" | 4676 |
| palomino4 | Windows Server 2022 Datacenter | x64 | 4.3.3 (2024-02-29 ucrt) -- "Angel Food Cake" | 4414 |
| merida1 | macOS 12.7.1 Monterey | x86_64 | 4.3.3 (2024-02-29) -- "Angel Food Cake" | 4437 |
| Click on any hostname to see more info about the system (e.g. compilers) (*) as reported by 'uname -p', except on Windows and Mac OS X | ||||
| Package 1047/2266 | Hostname | OS / Arch | INSTALL | BUILD | CHECK | BUILD BIN | ||||||||
| ISAnalytics 1.12.0 (landing page) Giulia Pais
| nebbiolo2 | Linux (Ubuntu 22.04.3 LTS) / x86_64 | OK | OK | OK | |||||||||
| palomino4 | Windows Server 2022 Datacenter / x64 | OK | OK | OK | OK | |||||||||
| merida1 | macOS 12.7.1 Monterey / x86_64 | OK | OK | OK | OK | |||||||||
| kjohnson1 | macOS 13.6.1 Ventura / arm64 | see weekly results here | ||||||||||||
|
To the developers/maintainers of the ISAnalytics package: - Allow up to 24 hours (and sometimes 48 hours) for your latest push to git@git.bioconductor.org:packages/ISAnalytics.git to reflect on this report. See Troubleshooting Build Report for more information. - Use the following Renviron settings to reproduce errors and warnings. - If 'R CMD check' started to fail recently on the Linux builder(s) over a missing dependency, add the missing dependency to 'Suggests:' in your DESCRIPTION file. See Renviron.bioc for more information. |
| Package: ISAnalytics |
| Version: 1.12.0 |
| Command: /home/biocbuild/bbs-3.18-bioc/R/bin/R CMD check --install=check:ISAnalytics.install-out.txt --library=/home/biocbuild/bbs-3.18-bioc/R/site-library --timings ISAnalytics_1.12.0.tar.gz |
| StartedAt: 2024-04-16 00:06:34 -0400 (Tue, 16 Apr 2024) |
| EndedAt: 2024-04-16 00:17:27 -0400 (Tue, 16 Apr 2024) |
| EllapsedTime: 652.1 seconds |
| RetCode: 0 |
| Status: OK |
| CheckDir: ISAnalytics.Rcheck |
| Warnings: 0 |
##############################################################################
##############################################################################
###
### Running command:
###
### /home/biocbuild/bbs-3.18-bioc/R/bin/R CMD check --install=check:ISAnalytics.install-out.txt --library=/home/biocbuild/bbs-3.18-bioc/R/site-library --timings ISAnalytics_1.12.0.tar.gz
###
##############################################################################
##############################################################################
* using log directory ‘/home/biocbuild/bbs-3.18-bioc/meat/ISAnalytics.Rcheck’
* using R version 4.3.3 (2024-02-29)
* using platform: x86_64-pc-linux-gnu (64-bit)
* R was compiled by
gcc (Ubuntu 11.4.0-1ubuntu1~22.04) 11.4.0
GNU Fortran (Ubuntu 11.4.0-1ubuntu1~22.04) 11.4.0
* running under: Ubuntu 22.04.4 LTS
* using session charset: UTF-8
* checking for file ‘ISAnalytics/DESCRIPTION’ ... OK
* this is package ‘ISAnalytics’ version ‘1.12.0’
* package encoding: UTF-8
* checking package namespace information ... OK
* checking package dependencies ... OK
* checking if this is a source package ... OK
* checking if there is a namespace ... OK
* checking for hidden files and directories ... OK
* checking for portable file names ... OK
* checking for sufficient/correct file permissions ... OK
* checking whether package ‘ISAnalytics’ can be installed ... OK
* checking installed package size ... OK
* checking package directory ... OK
* checking ‘build’ directory ... OK
* checking DESCRIPTION meta-information ... OK
* checking top-level files ... OK
* checking for left-over files ... OK
* checking index information ... OK
* checking package subdirectories ... OK
* checking R files for non-ASCII characters ... OK
* checking R files for syntax errors ... OK
* checking whether the package can be loaded ... OK
* checking whether the package can be loaded with stated dependencies ... OK
* checking whether the package can be unloaded cleanly ... OK
* checking whether the namespace can be loaded with stated dependencies ... OK
* checking whether the namespace can be unloaded cleanly ... OK
* checking loading without being on the library search path ... OK
* checking startup messages can be suppressed ... OK
* checking dependencies in R code ... OK
* checking S3 generic/method consistency ... OK
* checking replacement functions ... OK
* checking foreign function calls ... OK
* checking R code for possible problems ... OK
* checking Rd files ... OK
* checking Rd metadata ... OK
* checking Rd cross-references ... OK
* checking for missing documentation entries ... OK
* checking for code/documentation mismatches ... OK
* checking Rd \usage sections ... OK
* checking Rd contents ... OK
* checking for unstated dependencies in examples ... OK
* checking contents of ‘data’ directory ... OK
* checking data for non-ASCII characters ... OK
* checking data for ASCII and uncompressed saves ... OK
* checking files in ‘vignettes’ ... OK
* checking examples ... OK
Examples with CPU (user + system) or elapsed time > 5s
user system elapsed
integration_alluvial_plot 3.060 0.083 9.605
sharing_venn 2.160 0.180 28.006
import_parallel_Vispa2Matrices 1.661 0.153 10.821
sharing_heatmap 1.639 0.112 8.215
CIS_grubbs_overtime 1.260 0.080 6.019
top_cis_overtime_heatmap 1.176 0.100 5.744
import_Vispa2_stats 1.101 0.129 5.232
HSC_population_plot 0.907 0.052 5.528
iss_source 0.834 0.045 5.786
is_sharing 0.718 0.033 6.589
compute_near_integrations 0.648 0.004 8.475
HSC_population_size_estimate 0.521 0.023 5.390
* checking for unstated dependencies in ‘tests’ ... OK
* checking tests ...
Running ‘testthat.R’
OK
* checking for unstated dependencies in vignettes ... OK
* checking package vignettes in ‘inst/doc’ ... OK
* checking running R code from vignettes ...
‘ISAnalytics.Rmd’ using ‘UTF-8’... OK
‘workflow_start.Rmd’ using ‘UTF-8’... OK
OK
* checking re-building of vignette outputs ... OK
* checking PDF version of manual ... OK
* DONE
Status: OK
ISAnalytics.Rcheck/00install.out
############################################################################## ############################################################################## ### ### Running command: ### ### /home/biocbuild/bbs-3.18-bioc/R/bin/R CMD INSTALL ISAnalytics ### ############################################################################## ############################################################################## * installing to library ‘/home/biocbuild/bbs-3.18-bioc/R/site-library’ * installing *source* package ‘ISAnalytics’ ... ** using staged installation ** R ** data ** inst ** byte-compile and prepare package for lazy loading ** help *** installing help indices *** copying figures ** building package indices ** installing vignettes ** testing if installed package can be loaded from temporary location ** testing if installed package can be loaded from final location ** testing if installed package keeps a record of temporary installation path * DONE (ISAnalytics)
ISAnalytics.Rcheck/tests/testthat.Rout
R version 4.3.3 (2024-02-29) -- "Angel Food Cake"
Copyright (C) 2024 The R Foundation for Statistical Computing
Platform: x86_64-pc-linux-gnu (64-bit)
R is free software and comes with ABSOLUTELY NO WARRANTY.
You are welcome to redistribute it under certain conditions.
Type 'license()' or 'licence()' for distribution details.
R is a collaborative project with many contributors.
Type 'contributors()' for more information and
'citation()' on how to cite R or R packages in publications.
Type 'demo()' for some demos, 'help()' for on-line help, or
'help.start()' for an HTML browser interface to help.
Type 'q()' to quit R.
> library(testthat)
> library(ISAnalytics)
>
> test_check("ISAnalytics")
Loading required namespace: plotly
Loading required namespace: rmarkdown
Report correctly saved
i Report saved to: /tmp/RtmpzQRihp/file35c98366e15eda/2024-04-16_collision_removal_report.html
Report correctly saved
i Report saved to: /tmp/RtmpzQRihp/file35c9835caf0a94/2024-04-16_outlier_test_pool_fragments_report.html
[ FAIL 0 | WARN 0 | SKIP 0 | PASS 834 ]
>
> proc.time()
user system elapsed
84.082 4.873 231.130
ISAnalytics.Rcheck/ISAnalytics-Ex.timings
| name | user | system | elapsed | |
| CIS_grubbs | 1.009 | 0.047 | 1.056 | |
| CIS_grubbs_overtime | 1.260 | 0.080 | 6.019 | |
| CIS_volcano_plot | 1.462 | 0.020 | 1.481 | |
| HSC_population_plot | 0.907 | 0.052 | 5.528 | |
| HSC_population_size_estimate | 0.521 | 0.023 | 5.390 | |
| NGSdataExplorer | 0 | 0 | 0 | |
| aggregate_metadata | 0.108 | 0.000 | 0.109 | |
| aggregate_values_by_key | 0.071 | 0.000 | 0.072 | |
| annotation_issues | 0.028 | 0.000 | 0.028 | |
| as_sparse_matrix | 0.054 | 0.000 | 0.054 | |
| available_outlier_tests | 0.001 | 0.000 | 0.000 | |
| available_tags | 0.023 | 0.000 | 0.023 | |
| blood_lineages_default | 0.023 | 0.000 | 0.023 | |
| circos_genomic_density | 0 | 0 | 0 | |
| clinical_relevant_suspicious_genes | 0.018 | 0.000 | 0.019 | |
| comparison_matrix | 0.029 | 0.000 | 0.029 | |
| compute_abundance | 0.038 | 0.000 | 0.038 | |
| compute_near_integrations | 0.648 | 0.004 | 8.475 | |
| cumulative_count_union | 0 | 0 | 0 | |
| cumulative_is | 0.182 | 0.000 | 0.182 | |
| date_formats | 0.001 | 0.000 | 0.000 | |
| default_af_transform | 0 | 0 | 0 | |
| default_iss_file_prefixes | 0 | 0 | 0 | |
| default_meta_agg | 0.016 | 0.000 | 0.016 | |
| default_rec_agg_lambdas | 0.000 | 0.000 | 0.001 | |
| default_report_path | 0.007 | 0.000 | 0.007 | |
| default_stats | 1.007 | 0.100 | 1.107 | |
| enable_progress_bars | 0.016 | 0.000 | 0.016 | |
| export_ISA_settings | 0.069 | 0.000 | 0.069 | |
| fisher_scatterplot | 1.472 | 0.040 | 1.512 | |
| gene_frequency_fisher | 0.829 | 0.008 | 0.837 | |
| generate_Vispa2_launch_AF | 0.160 | 0.008 | 0.183 | |
| generate_blank_association_file | 0.013 | 0.000 | 0.012 | |
| generate_default_folder_structure | 0.355 | 0.048 | 0.376 | |
| import_ISA_settings | 0.062 | 0.004 | 0.066 | |
| import_Vispa2_stats | 1.101 | 0.129 | 5.232 | |
| import_association_file | 0.562 | 0.112 | 0.638 | |
| import_parallel_Vispa2Matrices | 1.661 | 0.153 | 10.821 | |
| import_single_Vispa2Matrix | 0.769 | 0.156 | 0.898 | |
| inspect_tags | 0.013 | 0.000 | 0.012 | |
| integration_alluvial_plot | 3.060 | 0.083 | 9.605 | |
| is_sharing | 0.718 | 0.033 | 6.589 | |
| iss_source | 0.834 | 0.045 | 5.786 | |
| known_clinical_oncogenes | 0.011 | 0.000 | 0.011 | |
| mandatory_IS_vars | 0.087 | 0.004 | 0.091 | |
| matching_options | 0 | 0 | 0 | |
| outlier_filter | 0.143 | 0.008 | 0.151 | |
| outliers_by_pool_fragments | 0.145 | 0.000 | 0.146 | |
| pcr_id_column | 0.024 | 0.004 | 0.029 | |
| purity_filter | 0.311 | 0.024 | 0.335 | |
| quantification_types | 0 | 0 | 0 | |
| realign_after_collisions | 0.641 | 0.029 | 4.697 | |
| reduced_AF_columns | 0.044 | 0.000 | 0.044 | |
| refGene_table_cols | 0 | 0 | 0 | |
| remove_collisions | 0.600 | 0.016 | 4.722 | |
| reset_mandatory_IS_vars | 0.005 | 0.000 | 0.005 | |
| sample_statistics | 0.306 | 0.040 | 0.346 | |
| separate_quant_matrices | 0.011 | 0.004 | 0.016 | |
| set_mandatory_IS_vars | 0.083 | 0.000 | 0.083 | |
| set_matrix_file_suffixes | 0.025 | 0.000 | 0.025 | |
| sharing_heatmap | 1.639 | 0.112 | 8.215 | |
| sharing_venn | 2.160 | 0.180 | 28.006 | |
| threshold_filter | 0.001 | 0.000 | 0.000 | |
| top_abund_tableGrob | 0.625 | 0.008 | 0.633 | |
| top_cis_overtime_heatmap | 1.176 | 0.100 | 5.744 | |
| top_integrations | 0.022 | 0.008 | 0.030 | |
| top_targeted_genes | 0.426 | 0.020 | 0.446 | |
| transform_columns | 0.019 | 0.000 | 0.018 | |