| Back to Multiple platform build/check report for BioC 3.18: simplified long |
|
This page was generated on 2024-04-17 11:37:51 -0400 (Wed, 17 Apr 2024).
| Hostname | OS | Arch (*) | R version | Installed pkgs |
|---|---|---|---|---|
| nebbiolo2 | Linux (Ubuntu 22.04.3 LTS) | x86_64 | 4.3.3 (2024-02-29) -- "Angel Food Cake" | 4676 |
| palomino4 | Windows Server 2022 Datacenter | x64 | 4.3.3 (2024-02-29 ucrt) -- "Angel Food Cake" | 4414 |
| merida1 | macOS 12.7.1 Monterey | x86_64 | 4.3.3 (2024-02-29) -- "Angel Food Cake" | 4437 |
| Click on any hostname to see more info about the system (e.g. compilers) (*) as reported by 'uname -p', except on Windows and Mac OS X | ||||
| Package 1047/2266 | Hostname | OS / Arch | INSTALL | BUILD | CHECK | BUILD BIN | ||||||||
| ISAnalytics 1.12.0 (landing page) Giulia Pais
| nebbiolo2 | Linux (Ubuntu 22.04.3 LTS) / x86_64 | OK | OK | OK | |||||||||
| palomino4 | Windows Server 2022 Datacenter / x64 | OK | OK | OK | OK | |||||||||
| merida1 | macOS 12.7.1 Monterey / x86_64 | OK | OK | OK | OK | |||||||||
| kjohnson1 | macOS 13.6.1 Ventura / arm64 | see weekly results here | ||||||||||||
|
To the developers/maintainers of the ISAnalytics package: - Allow up to 24 hours (and sometimes 48 hours) for your latest push to git@git.bioconductor.org:packages/ISAnalytics.git to reflect on this report. See Troubleshooting Build Report for more information. - Use the following Renviron settings to reproduce errors and warnings. - If 'R CMD check' started to fail recently on the Linux builder(s) over a missing dependency, add the missing dependency to 'Suggests:' in your DESCRIPTION file. See Renviron.bioc for more information. |
| Package: ISAnalytics |
| Version: 1.12.0 |
| Command: /Library/Frameworks/R.framework/Resources/bin/R CMD check --install=check:ISAnalytics.install-out.txt --library=/Library/Frameworks/R.framework/Resources/library --no-vignettes --timings ISAnalytics_1.12.0.tar.gz |
| StartedAt: 2024-04-16 04:21:23 -0400 (Tue, 16 Apr 2024) |
| EndedAt: 2024-04-16 04:38:04 -0400 (Tue, 16 Apr 2024) |
| EllapsedTime: 1001.3 seconds |
| RetCode: 0 |
| Status: OK |
| CheckDir: ISAnalytics.Rcheck |
| Warnings: 0 |
##############################################################################
##############################################################################
###
### Running command:
###
### /Library/Frameworks/R.framework/Resources/bin/R CMD check --install=check:ISAnalytics.install-out.txt --library=/Library/Frameworks/R.framework/Resources/library --no-vignettes --timings ISAnalytics_1.12.0.tar.gz
###
##############################################################################
##############################################################################
* using log directory ‘/Users/biocbuild/bbs-3.18-bioc/meat/ISAnalytics.Rcheck’
* using R version 4.3.3 (2024-02-29)
* using platform: x86_64-apple-darwin20 (64-bit)
* R was compiled by
Apple clang version 14.0.0 (clang-1400.0.29.202)
GNU Fortran (GCC) 12.2.0
* running under: macOS Monterey 12.7.1
* using session charset: UTF-8
* using option ‘--no-vignettes’
* checking for file ‘ISAnalytics/DESCRIPTION’ ... OK
* this is package ‘ISAnalytics’ version ‘1.12.0’
* package encoding: UTF-8
* checking package namespace information ... OK
* checking package dependencies ... OK
* checking if this is a source package ... OK
* checking if there is a namespace ... OK
* checking for hidden files and directories ... OK
* checking for portable file names ... OK
* checking for sufficient/correct file permissions ... OK
* checking whether package ‘ISAnalytics’ can be installed ... OK
* checking installed package size ... OK
* checking package directory ... OK
* checking ‘build’ directory ... OK
* checking DESCRIPTION meta-information ... OK
* checking top-level files ... OK
* checking for left-over files ... OK
* checking index information ... OK
* checking package subdirectories ... OK
* checking R files for non-ASCII characters ... OK
* checking R files for syntax errors ... OK
* checking whether the package can be loaded ... OK
* checking whether the package can be loaded with stated dependencies ... OK
* checking whether the package can be unloaded cleanly ... OK
* checking whether the namespace can be loaded with stated dependencies ... OK
* checking whether the namespace can be unloaded cleanly ... OK
* checking startup messages can be suppressed ... OK
* checking dependencies in R code ... OK
* checking S3 generic/method consistency ... OK
* checking replacement functions ... OK
* checking foreign function calls ... OK
* checking R code for possible problems ... OK
* checking Rd files ... OK
* checking Rd metadata ... OK
* checking Rd cross-references ... OK
* checking for missing documentation entries ... OK
* checking for code/documentation mismatches ... OK
* checking Rd \usage sections ... OK
* checking Rd contents ... OK
* checking for unstated dependencies in examples ... OK
* checking contents of ‘data’ directory ... OK
* checking data for non-ASCII characters ... OK
* checking data for ASCII and uncompressed saves ... OK
* checking files in ‘vignettes’ ... OK
* checking examples ... OK
Examples with CPU (user + system) or elapsed time > 5s
user system elapsed
integration_alluvial_plot 7.056 0.112 24.270
sharing_venn 4.474 0.215 69.695
sharing_heatmap 3.478 0.062 20.999
import_parallel_Vispa2Matrices 2.824 0.211 26.355
CIS_grubbs_overtime 2.277 0.299 14.428
import_Vispa2_stats 2.073 0.199 12.704
top_cis_overtime_heatmap 2.034 0.075 13.388
HSC_population_plot 1.601 0.029 12.551
iss_source 1.312 0.042 13.706
is_sharing 1.092 0.036 15.704
realign_after_collisions 1.011 0.029 10.949
remove_collisions 0.995 0.025 10.905
compute_near_integrations 0.844 0.028 20.223
HSC_population_size_estimate 0.833 0.022 11.714
* checking for unstated dependencies in ‘tests’ ... OK
* checking tests ...
Running ‘testthat.R’
OK
* checking for unstated dependencies in vignettes ... OK
* checking package vignettes in ‘inst/doc’ ... OK
* checking running R code from vignettes ... SKIPPED
* checking re-building of vignette outputs ... SKIPPED
* checking PDF version of manual ... OK
* DONE
Status: OK
ISAnalytics.Rcheck/00install.out
############################################################################## ############################################################################## ### ### Running command: ### ### /Library/Frameworks/R.framework/Resources/bin/R CMD INSTALL ISAnalytics ### ############################################################################## ############################################################################## * installing to library ‘/Library/Frameworks/R.framework/Versions/4.3-x86_64/Resources/library’ * installing *source* package ‘ISAnalytics’ ... ** using staged installation ** R ** data ** inst ** byte-compile and prepare package for lazy loading ** help *** installing help indices *** copying figures ** building package indices ** installing vignettes ** testing if installed package can be loaded from temporary location ** testing if installed package can be loaded from final location ** testing if installed package keeps a record of temporary installation path * DONE (ISAnalytics)
ISAnalytics.Rcheck/tests/testthat.Rout
R version 4.3.3 (2024-02-29) -- "Angel Food Cake"
Copyright (C) 2024 The R Foundation for Statistical Computing
Platform: x86_64-apple-darwin20 (64-bit)
R is free software and comes with ABSOLUTELY NO WARRANTY.
You are welcome to redistribute it under certain conditions.
Type 'license()' or 'licence()' for distribution details.
R is a collaborative project with many contributors.
Type 'contributors()' for more information and
'citation()' on how to cite R or R packages in publications.
Type 'demo()' for some demos, 'help()' for on-line help, or
'help.start()' for an HTML browser interface to help.
Type 'q()' to quit R.
> library(testthat)
> library(ISAnalytics)
>
> test_check("ISAnalytics")
Loading required namespace: plotly
Loading required namespace: rmarkdown
2024-04-16 04:30:46.108 R[69613:2545334565] XType: com.apple.fonts is not accessible.
2024-04-16 04:30:46.108 R[69613:2545334565] XType: XTFontStaticRegistry is enabled.
Report correctly saved
i Report saved to: /tmp/RtmpY0w5TG/file10fedfb436ec/2024-04-16_collision_removal_report.html
Report correctly saved
i Report saved to: /tmp/RtmpY0w5TG/file10fed751cf720/2024-04-16_outlier_test_pool_fragments_report.html
[ FAIL 0 | WARN 0 | SKIP 0 | PASS 834 ]
>
> proc.time()
user system elapsed
181.018 7.473 533.331
ISAnalytics.Rcheck/ISAnalytics-Ex.timings
| name | user | system | elapsed | |
| CIS_grubbs | 2.257 | 0.107 | 2.620 | |
| CIS_grubbs_overtime | 2.277 | 0.299 | 14.428 | |
| CIS_volcano_plot | 3.439 | 0.039 | 3.923 | |
| HSC_population_plot | 1.601 | 0.029 | 12.551 | |
| HSC_population_size_estimate | 0.833 | 0.022 | 11.714 | |
| NGSdataExplorer | 0.000 | 0.001 | 0.001 | |
| aggregate_metadata | 0.234 | 0.010 | 0.245 | |
| aggregate_values_by_key | 0.140 | 0.003 | 0.156 | |
| annotation_issues | 0.058 | 0.002 | 0.064 | |
| as_sparse_matrix | 0.102 | 0.002 | 0.118 | |
| available_outlier_tests | 0 | 0 | 0 | |
| available_tags | 0.046 | 0.000 | 0.051 | |
| blood_lineages_default | 0.049 | 0.000 | 0.056 | |
| circos_genomic_density | 0.001 | 0.000 | 0.000 | |
| clinical_relevant_suspicious_genes | 0.036 | 0.001 | 0.045 | |
| comparison_matrix | 0.062 | 0.001 | 0.070 | |
| compute_abundance | 0.070 | 0.004 | 0.079 | |
| compute_near_integrations | 0.844 | 0.028 | 20.223 | |
| cumulative_count_union | 0.001 | 0.001 | 0.001 | |
| cumulative_is | 0.340 | 0.004 | 0.361 | |
| date_formats | 0.000 | 0.001 | 0.002 | |
| default_af_transform | 0.001 | 0.001 | 0.001 | |
| default_iss_file_prefixes | 0 | 0 | 0 | |
| default_meta_agg | 0.036 | 0.000 | 0.042 | |
| default_rec_agg_lambdas | 0.000 | 0.001 | 0.002 | |
| default_report_path | 0.014 | 0.002 | 0.016 | |
| default_stats | 2.129 | 0.071 | 2.465 | |
| enable_progress_bars | 0.032 | 0.004 | 0.042 | |
| export_ISA_settings | 0.169 | 0.006 | 0.209 | |
| fisher_scatterplot | 3.180 | 0.082 | 3.788 | |
| gene_frequency_fisher | 2.125 | 0.021 | 2.417 | |
| generate_Vispa2_launch_AF | 0.424 | 0.025 | 0.550 | |
| generate_blank_association_file | 0.027 | 0.002 | 0.032 | |
| generate_default_folder_structure | 0.796 | 0.143 | 0.998 | |
| import_ISA_settings | 0.141 | 0.003 | 0.157 | |
| import_Vispa2_stats | 2.073 | 0.199 | 12.704 | |
| import_association_file | 1.257 | 0.169 | 1.535 | |
| import_parallel_Vispa2Matrices | 2.824 | 0.211 | 26.355 | |
| import_single_Vispa2Matrix | 1.494 | 0.194 | 1.839 | |
| inspect_tags | 0.028 | 0.001 | 0.032 | |
| integration_alluvial_plot | 7.056 | 0.112 | 24.270 | |
| is_sharing | 1.092 | 0.036 | 15.704 | |
| iss_source | 1.312 | 0.042 | 13.706 | |
| known_clinical_oncogenes | 0.023 | 0.003 | 0.028 | |
| mandatory_IS_vars | 0.214 | 0.021 | 0.281 | |
| matching_options | 0 | 0 | 0 | |
| outlier_filter | 0.324 | 0.027 | 0.412 | |
| outliers_by_pool_fragments | 0.344 | 0.003 | 0.404 | |
| pcr_id_column | 0.039 | 0.000 | 0.048 | |
| purity_filter | 0.750 | 0.012 | 0.873 | |
| quantification_types | 0.000 | 0.001 | 0.000 | |
| realign_after_collisions | 1.011 | 0.029 | 10.949 | |
| reduced_AF_columns | 0.089 | 0.000 | 0.090 | |
| refGene_table_cols | 0.001 | 0.001 | 0.001 | |
| remove_collisions | 0.995 | 0.025 | 10.905 | |
| reset_mandatory_IS_vars | 0.014 | 0.002 | 0.015 | |
| sample_statistics | 0.818 | 0.150 | 1.023 | |
| separate_quant_matrices | 0.030 | 0.003 | 0.034 | |
| set_mandatory_IS_vars | 0.212 | 0.013 | 0.240 | |
| set_matrix_file_suffixes | 0.039 | 0.001 | 0.046 | |
| sharing_heatmap | 3.478 | 0.062 | 20.999 | |
| sharing_venn | 4.474 | 0.215 | 69.695 | |
| threshold_filter | 0.000 | 0.002 | 0.004 | |
| top_abund_tableGrob | 1.497 | 0.014 | 1.647 | |
| top_cis_overtime_heatmap | 2.034 | 0.075 | 13.388 | |
| top_integrations | 0.056 | 0.002 | 0.065 | |
| top_targeted_genes | 1.037 | 0.007 | 1.214 | |
| transform_columns | 0.044 | 0.001 | 0.050 | |