| Back to Multiple platform build/check report for BioC 3.18: simplified long |
|
This page was generated on 2024-03-04 11:37:28 -0500 (Mon, 04 Mar 2024).
| Hostname | OS | Arch (*) | R version | Installed pkgs |
|---|---|---|---|---|
| nebbiolo2 | Linux (Ubuntu 22.04.3 LTS) | x86_64 | 4.3.2 Patched (2023-11-13 r85521) -- "Eye Holes" | 4692 |
| palomino4 | Windows Server 2022 Datacenter | x64 | 4.3.2 (2023-10-31 ucrt) -- "Eye Holes" | 4445 |
| lconway | macOS 12.7.1 Monterey | x86_64 | 4.3.2 Patched (2023-11-01 r85457) -- "Eye Holes" | 4466 |
| Click on any hostname to see more info about the system (e.g. compilers) (*) as reported by 'uname -p', except on Windows and Mac OS X | ||||
| Package 1047/2266 | Hostname | OS / Arch | INSTALL | BUILD | CHECK | BUILD BIN | ||||||||
| ISAnalytics 1.12.0 (landing page) Giulia Pais
| nebbiolo2 | Linux (Ubuntu 22.04.3 LTS) / x86_64 | OK | OK | OK | |||||||||
| palomino4 | Windows Server 2022 Datacenter / x64 | OK | OK | OK | OK | |||||||||
| lconway | macOS 12.7.1 Monterey / x86_64 | OK | OK | OK | OK | |||||||||
| kjohnson1 | macOS 13.6.1 Ventura / arm64 | see weekly results here | ||||||||||||
|
To the developers/maintainers of the ISAnalytics package: - Allow up to 24 hours (and sometimes 48 hours) for your latest push to git@git.bioconductor.org:packages/ISAnalytics.git to reflect on this report. See Troubleshooting Build Report for more information. - Use the following Renviron settings to reproduce errors and warnings. - If 'R CMD check' started to fail recently on the Linux builder(s) over a missing dependency, add the missing dependency to 'Suggests:' in your DESCRIPTION file. See Renviron.bioc for more information. |
| Package: ISAnalytics |
| Version: 1.12.0 |
| Command: /Library/Frameworks/R.framework/Resources/bin/R CMD check --install=check:ISAnalytics.install-out.txt --library=/Library/Frameworks/R.framework/Resources/library --no-vignettes --timings ISAnalytics_1.12.0.tar.gz |
| StartedAt: 2024-03-03 21:19:25 -0500 (Sun, 03 Mar 2024) |
| EndedAt: 2024-03-03 21:28:26 -0500 (Sun, 03 Mar 2024) |
| EllapsedTime: 541.3 seconds |
| RetCode: 0 |
| Status: OK |
| CheckDir: ISAnalytics.Rcheck |
| Warnings: 0 |
##############################################################################
##############################################################################
###
### Running command:
###
### /Library/Frameworks/R.framework/Resources/bin/R CMD check --install=check:ISAnalytics.install-out.txt --library=/Library/Frameworks/R.framework/Resources/library --no-vignettes --timings ISAnalytics_1.12.0.tar.gz
###
##############################################################################
##############################################################################
* using log directory ‘/Users/biocbuild/bbs-3.18-bioc/meat/ISAnalytics.Rcheck’
* using R version 4.3.2 Patched (2023-11-01 r85457)
* using platform: x86_64-apple-darwin20 (64-bit)
* R was compiled by
Apple clang version 14.0.3 (clang-1403.0.22.14.1)
GNU Fortran (GCC) 12.2.0
* running under: macOS Monterey 12.7.1
* using session charset: UTF-8
* using option ‘--no-vignettes’
* checking for file ‘ISAnalytics/DESCRIPTION’ ... OK
* this is package ‘ISAnalytics’ version ‘1.12.0’
* package encoding: UTF-8
* checking package namespace information ... OK
* checking package dependencies ... OK
* checking if this is a source package ... OK
* checking if there is a namespace ... OK
* checking for hidden files and directories ... OK
* checking for portable file names ... OK
* checking for sufficient/correct file permissions ... OK
* checking whether package ‘ISAnalytics’ can be installed ... OK
* checking installed package size ... OK
* checking package directory ... OK
* checking ‘build’ directory ... OK
* checking DESCRIPTION meta-information ... OK
* checking top-level files ... OK
* checking for left-over files ... OK
* checking index information ... OK
* checking package subdirectories ... OK
* checking R files for non-ASCII characters ... OK
* checking R files for syntax errors ... OK
* checking whether the package can be loaded ... OK
* checking whether the package can be loaded with stated dependencies ... OK
* checking whether the package can be unloaded cleanly ... OK
* checking whether the namespace can be loaded with stated dependencies ... OK
* checking whether the namespace can be unloaded cleanly ... OK
* checking startup messages can be suppressed ... OK
* checking dependencies in R code ... OK
* checking S3 generic/method consistency ... OK
* checking replacement functions ... OK
* checking foreign function calls ... OK
* checking R code for possible problems ... OK
* checking Rd files ... OK
* checking Rd metadata ... OK
* checking Rd cross-references ... OK
* checking for missing documentation entries ... OK
* checking for code/documentation mismatches ... OK
* checking Rd \usage sections ... OK
* checking Rd contents ... OK
* checking for unstated dependencies in examples ... OK
* checking contents of ‘data’ directory ... OK
* checking data for non-ASCII characters ... OK
* checking data for ASCII and uncompressed saves ... OK
* checking files in ‘vignettes’ ... OK
* checking examples ... OK
Examples with CPU (user + system) or elapsed time > 5s
user system elapsed
integration_alluvial_plot 3.432 0.071 12.053
import_parallel_Vispa2Matrices 1.872 0.172 13.728
sharing_heatmap 1.845 0.047 10.149
CIS_grubbs_overtime 1.536 0.250 8.038
import_Vispa2_stats 1.311 0.145 6.687
sharing_venn 1.358 0.090 38.742
top_cis_overtime_heatmap 1.382 0.059 7.881
HSC_population_plot 0.975 0.030 6.948
iss_source 0.844 0.025 7.311
remove_collisions 0.732 0.021 6.298
is_sharing 0.714 0.025 8.163
realign_after_collisions 0.704 0.024 6.206
compute_near_integrations 0.617 0.023 10.807
HSC_population_size_estimate 0.554 0.021 6.361
* checking for unstated dependencies in ‘tests’ ... OK
* checking tests ...
Running ‘testthat.R’
OK
* checking for unstated dependencies in vignettes ... OK
* checking package vignettes in ‘inst/doc’ ... OK
* checking running R code from vignettes ... SKIPPED
* checking re-building of vignette outputs ... SKIPPED
* checking PDF version of manual ... OK
* DONE
Status: OK
ISAnalytics.Rcheck/00install.out
############################################################################## ############################################################################## ### ### Running command: ### ### /Library/Frameworks/R.framework/Resources/bin/R CMD INSTALL ISAnalytics ### ############################################################################## ############################################################################## * installing to library ‘/Library/Frameworks/R.framework/Versions/4.3-x86_64/Resources/library’ * installing *source* package ‘ISAnalytics’ ... ** using staged installation ** R ** data ** inst ** byte-compile and prepare package for lazy loading ** help *** installing help indices *** copying figures ** building package indices ** installing vignettes ** testing if installed package can be loaded from temporary location ** testing if installed package can be loaded from final location ** testing if installed package keeps a record of temporary installation path * DONE (ISAnalytics)
ISAnalytics.Rcheck/tests/testthat.Rout
R version 4.3.2 Patched (2023-11-01 r85457) -- "Eye Holes"
Copyright (C) 2023 The R Foundation for Statistical Computing
Platform: x86_64-apple-darwin20 (64-bit)
R is free software and comes with ABSOLUTELY NO WARRANTY.
You are welcome to redistribute it under certain conditions.
Type 'license()' or 'licence()' for distribution details.
R is a collaborative project with many contributors.
Type 'contributors()' for more information and
'citation()' on how to cite R or R packages in publications.
Type 'demo()' for some demos, 'help()' for on-line help, or
'help.start()' for an HTML browser interface to help.
Type 'q()' to quit R.
> library(testthat)
> library(ISAnalytics)
>
> test_check("ISAnalytics")
Loading required namespace: plotly
Loading required namespace: rmarkdown
Report correctly saved
i Report saved to: /tmp/Rtmpa2zKIB/file5a7e1c2aca93/2024-03-03_collision_removal_report.html
Report correctly saved
i Report saved to: /tmp/Rtmpa2zKIB/file5a7e266d9e8c/2024-03-03_outlier_test_pool_fragments_report.html
[ FAIL 0 | WARN 0 | SKIP 0 | PASS 834 ]
>
> proc.time()
user system elapsed
101.762 5.648 288.635
ISAnalytics.Rcheck/ISAnalytics-Ex.timings
| name | user | system | elapsed | |
| CIS_grubbs | 1.266 | 0.067 | 1.345 | |
| CIS_grubbs_overtime | 1.536 | 0.250 | 8.038 | |
| CIS_volcano_plot | 1.762 | 0.043 | 1.822 | |
| HSC_population_plot | 0.975 | 0.030 | 6.948 | |
| HSC_population_size_estimate | 0.554 | 0.021 | 6.361 | |
| NGSdataExplorer | 0 | 0 | 0 | |
| aggregate_metadata | 0.118 | 0.003 | 0.123 | |
| aggregate_values_by_key | 0.084 | 0.002 | 0.087 | |
| annotation_issues | 0.031 | 0.001 | 0.033 | |
| as_sparse_matrix | 0.068 | 0.002 | 0.071 | |
| available_outlier_tests | 0.000 | 0.001 | 0.001 | |
| available_tags | 0.029 | 0.001 | 0.030 | |
| blood_lineages_default | 0.022 | 0.000 | 0.023 | |
| circos_genomic_density | 0 | 0 | 0 | |
| clinical_relevant_suspicious_genes | 0.018 | 0.000 | 0.018 | |
| comparison_matrix | 0.027 | 0.000 | 0.028 | |
| compute_abundance | 0.048 | 0.002 | 0.050 | |
| compute_near_integrations | 0.617 | 0.023 | 10.807 | |
| cumulative_count_union | 0 | 0 | 0 | |
| cumulative_is | 0.203 | 0.005 | 0.211 | |
| date_formats | 0.000 | 0.000 | 0.001 | |
| default_af_transform | 0.001 | 0.000 | 0.001 | |
| default_iss_file_prefixes | 0.001 | 0.000 | 0.000 | |
| default_meta_agg | 0.026 | 0.001 | 0.026 | |
| default_rec_agg_lambdas | 0.001 | 0.001 | 0.001 | |
| default_report_path | 0.008 | 0.001 | 0.009 | |
| default_stats | 1.225 | 0.053 | 1.290 | |
| enable_progress_bars | 0.018 | 0.003 | 0.022 | |
| export_ISA_settings | 0.084 | 0.002 | 0.087 | |
| fisher_scatterplot | 1.649 | 0.046 | 1.707 | |
| gene_frequency_fisher | 1.045 | 0.019 | 1.075 | |
| generate_Vispa2_launch_AF | 0.232 | 0.022 | 0.269 | |
| generate_blank_association_file | 0.030 | 0.002 | 0.032 | |
| generate_default_folder_structure | 0.462 | 0.092 | 0.502 | |
| import_ISA_settings | 0.072 | 0.001 | 0.074 | |
| import_Vispa2_stats | 1.311 | 0.145 | 6.687 | |
| import_association_file | 0.686 | 0.115 | 0.740 | |
| import_parallel_Vispa2Matrices | 1.872 | 0.172 | 13.728 | |
| import_single_Vispa2Matrix | 0.967 | 0.111 | 1.039 | |
| inspect_tags | 0.018 | 0.000 | 0.019 | |
| integration_alluvial_plot | 3.432 | 0.071 | 12.053 | |
| is_sharing | 0.714 | 0.025 | 8.163 | |
| iss_source | 0.844 | 0.025 | 7.311 | |
| known_clinical_oncogenes | 0.014 | 0.001 | 0.016 | |
| mandatory_IS_vars | 0.110 | 0.009 | 0.121 | |
| matching_options | 0.000 | 0.000 | 0.001 | |
| outlier_filter | 0.194 | 0.010 | 0.205 | |
| outliers_by_pool_fragments | 0.161 | 0.002 | 0.163 | |
| pcr_id_column | 0.021 | 0.001 | 0.021 | |
| purity_filter | 0.422 | 0.007 | 0.433 | |
| quantification_types | 0 | 0 | 0 | |
| realign_after_collisions | 0.704 | 0.024 | 6.206 | |
| reduced_AF_columns | 0.056 | 0.001 | 0.059 | |
| refGene_table_cols | 0.000 | 0.000 | 0.001 | |
| remove_collisions | 0.732 | 0.021 | 6.298 | |
| reset_mandatory_IS_vars | 0.007 | 0.001 | 0.007 | |
| sample_statistics | 0.444 | 0.064 | 0.513 | |
| separate_quant_matrices | 0.018 | 0.001 | 0.020 | |
| set_mandatory_IS_vars | 0.122 | 0.004 | 0.127 | |
| set_matrix_file_suffixes | 0.027 | 0.000 | 0.028 | |
| sharing_heatmap | 1.845 | 0.047 | 10.149 | |
| sharing_venn | 1.358 | 0.090 | 38.742 | |
| threshold_filter | 0.000 | 0.001 | 0.000 | |
| top_abund_tableGrob | 0.796 | 0.014 | 0.822 | |
| top_cis_overtime_heatmap | 1.382 | 0.059 | 7.881 | |
| top_integrations | 0.037 | 0.002 | 0.040 | |
| top_targeted_genes | 0.626 | 0.007 | 0.636 | |
| transform_columns | 0.022 | 0.002 | 0.027 | |