| Back to Multiple platform build/check report for BioC 3.18: simplified long |
|
This page was generated on 2023-11-02 11:40:37 -0400 (Thu, 02 Nov 2023).
| Hostname | OS | Arch (*) | R version | Installed pkgs |
|---|---|---|---|---|
| nebbiolo2 | Linux (Ubuntu 22.04.2 LTS) | x86_64 | 4.3.1 (2023-06-16) -- "Beagle Scouts" | 4729 |
| palomino4 | Windows Server 2022 Datacenter | x64 | 4.3.1 (2023-06-16 ucrt) -- "Beagle Scouts" | 4463 |
| lconway | macOS 12.6.5 Monterey | x86_64 | 4.3.1 Patched (2023-06-17 r84564) -- "Beagle Scouts" | 4478 |
| kunpeng2 | Linux (openEuler 22.03 LTS-SP1) | aarch64 | 4.3.1 (2023-06-16) -- "Beagle Scouts" | 4464 |
| Click on any hostname to see more info about the system (e.g. compilers) (*) as reported by 'uname -p', except on Windows and Mac OS X | ||||
| Package 561/2266 | Hostname | OS / Arch | INSTALL | BUILD | CHECK | BUILD BIN | ||||||||
| DifferentialRegulation 2.0.1 (landing page) Simone Tiberi
| nebbiolo2 | Linux (Ubuntu 22.04.2 LTS) / x86_64 | OK | OK | OK | |||||||||
| palomino4 | Windows Server 2022 Datacenter / x64 | OK | OK | OK | OK | |||||||||
| lconway | macOS 12.6.5 Monterey / x86_64 | OK | OK | OK | OK | |||||||||
| kjohnson1 | macOS 13.6.1 Ventura / arm64 | see weekly results here | ||||||||||||
| kunpeng2 | Linux (openEuler 22.03 LTS-SP1) / aarch64 | OK | OK | OK | ||||||||||
|
To the developers/maintainers of the DifferentialRegulation package: - Allow up to 24 hours (and sometimes 48 hours) for your latest push to git@git.bioconductor.org:packages/DifferentialRegulation.git to reflect on this report. See Troubleshooting Build Report for more information. - Use the following Renviron settings to reproduce errors and warnings. - If 'R CMD check' started to fail recently on the Linux builder(s) over a missing dependency, add the missing dependency to 'Suggests:' in your DESCRIPTION file. See Renviron.bioc for more information. - See Martin Grigorov's blog post for how to debug Linux ARM64 related issues on a x86_64 host. |
| Package: DifferentialRegulation |
| Version: 2.0.1 |
| Command: /home/biocbuild/R/R-4.3.1/bin/R CMD check --install=check:DifferentialRegulation.install-out.txt --library=/home/biocbuild/R/R-4.3.1/site-library --no-vignettes --timings DifferentialRegulation_2.0.1.tar.gz |
| StartedAt: 2023-11-02 09:59:01 -0000 (Thu, 02 Nov 2023) |
| EndedAt: 2023-11-02 10:06:51 -0000 (Thu, 02 Nov 2023) |
| EllapsedTime: 469.9 seconds |
| RetCode: 0 |
| Status: OK |
| CheckDir: DifferentialRegulation.Rcheck |
| Warnings: 0 |
##############################################################################
##############################################################################
###
### Running command:
###
### /home/biocbuild/R/R-4.3.1/bin/R CMD check --install=check:DifferentialRegulation.install-out.txt --library=/home/biocbuild/R/R-4.3.1/site-library --no-vignettes --timings DifferentialRegulation_2.0.1.tar.gz
###
##############################################################################
##############################################################################
* using log directory ‘/home/biocbuild/bbs-3.18-bioc/meat/DifferentialRegulation.Rcheck’
* using R version 4.3.1 (2023-06-16)
* using platform: aarch64-unknown-linux-gnu (64-bit)
* R was compiled by
gcc (GCC) 10.3.1
GNU Fortran (GCC) 10.3.1
* running under: openEuler 22.03 (LTS-SP1)
* using session charset: UTF-8
* using option ‘--no-vignettes’
* checking for file ‘DifferentialRegulation/DESCRIPTION’ ... OK
* checking extension type ... Package
* this is package ‘DifferentialRegulation’ version ‘2.0.1’
* package encoding: UTF-8
* checking package namespace information ... OK
* checking package dependencies ... OK
* checking if this is a source package ... OK
* checking if there is a namespace ... OK
* checking for hidden files and directories ... OK
* checking for portable file names ... OK
* checking for sufficient/correct file permissions ... OK
* checking whether package ‘DifferentialRegulation’ can be installed ... OK
* used C++ compiler: ‘g++ (GCC) 10.3.1’
* checking C++ specification ... NOTE
Specified C++11: please drop specification unless essential
* checking installed package size ... NOTE
installed size is 7.4Mb
sub-directories of 1Mb or more:
extdata 3.1Mb
libs 4.0Mb
* checking package directory ... OK
* checking ‘build’ directory ... OK
* checking DESCRIPTION meta-information ... OK
* checking top-level files ... OK
* checking for left-over files ... OK
* checking index information ... OK
* checking package subdirectories ... OK
* checking R files for non-ASCII characters ... OK
* checking R files for syntax errors ... OK
* checking whether the package can be loaded ... OK
* checking whether the package can be loaded with stated dependencies ... OK
* checking whether the package can be unloaded cleanly ... OK
* checking whether the namespace can be loaded with stated dependencies ... OK
* checking whether the namespace can be unloaded cleanly ... OK
* checking loading without being on the library search path ... OK
* checking dependencies in R code ... OK
* checking S3 generic/method consistency ... OK
* checking replacement functions ... OK
* checking foreign function calls ... OK
* checking R code for possible problems ... NOTE
MCMC_ECs: no visible binding for global variable ‘cl’
Undefined global functions or variables:
cl
* checking Rd files ... OK
* checking Rd metadata ... OK
* checking Rd cross-references ... OK
* checking for missing documentation entries ... OK
* checking for code/documentation mismatches ... OK
* checking Rd \usage sections ... OK
* checking Rd contents ... OK
* checking for unstated dependencies in examples ... OK
* checking line endings in C/C++/Fortran sources/headers ... OK
* checking line endings in Makefiles ... OK
* checking compilation flags in Makevars ... OK
* checking for GNU extensions in Makefiles ... OK
* checking for portable use of $(BLAS_LIBS) and $(LAPACK_LIBS) ... OK
* checking use of PKG_*FLAGS in Makefiles ... OK
* checking compiled code ... NOTE
Note: information on .o files is not available
* checking files in ‘vignettes’ ... OK
* checking examples ... OK
Examples with CPU (user + system) or elapsed time > 5s
user system elapsed
DifferentialRegulation_bulk 131.205 29.192 153.172
DifferentialRegulation 6.205 0.315 27.388
load_bulk_EC 0.149 0.035 14.836
* checking for unstated dependencies in ‘tests’ ... OK
* checking tests ...
Running ‘testhat.R’
OK
* checking for unstated dependencies in vignettes ... OK
* checking package vignettes in ‘inst/doc’ ... OK
* checking running R code from vignettes ... SKIPPED
* checking re-building of vignette outputs ... SKIPPED
* checking PDF version of manual ... OK
* DONE
Status: 4 NOTEs
See
‘/home/biocbuild/bbs-3.18-bioc/meat/DifferentialRegulation.Rcheck/00check.log’
for details.
DifferentialRegulation.Rcheck/00install.out
##############################################################################
##############################################################################
###
### Running command:
###
### /home/biocbuild/R/R-4.3.1/bin/R CMD INSTALL DifferentialRegulation
###
##############################################################################
##############################################################################
* installing to library ‘/home/biocbuild/R/R-4.3.1/site-library’
* installing *source* package ‘DifferentialRegulation’ ...
** using staged installation
** libs
using C++ compiler: ‘g++ (GCC) 10.3.1’
using C++11
g++ -std=gnu++11 -I"/home/biocbuild/R/R-4.3.1/include" -DNDEBUG -I'/home/biocbuild/R/R-4.3.1/site-library/Rcpp/include' -I'/home/biocbuild/R/R-4.3.1/site-library/RcppArmadillo/include' -I/usr/local/include -fPIC -g -O2 -Wall -c RcppExports.cpp -o RcppExports.o
g++ -std=gnu++11 -I"/home/biocbuild/R/R-4.3.1/include" -DNDEBUG -I'/home/biocbuild/R/R-4.3.1/site-library/Rcpp/include' -I'/home/biocbuild/R/R-4.3.1/site-library/RcppArmadillo/include' -I/usr/local/include -fPIC -g -O2 -Wall -c Rcpp_MCMC.cpp -o Rcpp_MCMC.o
Rcpp_MCMC.cpp: In function ‘Rcpp::NumericVector Rcpp_MCMC(const unsigned int&, const unsigned int&, const unsigned int&, const unsigned int&, const IntegerVector&, const IntegerVector&, const Rcpp::ListOf<Rcpp::Vector<13> >&, const IntegerVector&, const unsigned int&, const unsigned int&, Rcpp::NumericMatrix&, Rcpp::ListOf<Rcpp::Matrix<14> >&, const NumericMatrix&, const Rcpp::ListOf<Rcpp::ListOf<Rcpp::Vector<13> > >&, const Rcpp::ListOf<Rcpp::Vector<13> >&, Rcpp::ListOf<Rcpp::Matrix<14> >&, Rcpp::ListOf<Rcpp::Matrix<14> >&, Rcpp::ListOf<Rcpp::Matrix<14> >&, Rcpp::ListOf<Rcpp::Matrix<14> >&, const NumericVector&, const NumericVector&, const IntegerVector&, Rcpp::ListOf<Rcpp::Matrix<14> >&, const IntegerVector&, const double&)’:
Rcpp_MCMC.cpp:305:32: warning: comparison of integer expressions of different signedness: ‘unsigned int’ and ‘const type’ {aka ‘const int’} [-Wsign-compare]
305 | for(sample = 0; sample < n_samples_per_group[ gr ]; sample ++){
Rcpp_MCMC.cpp:135:10: warning: unused variable ‘tmp_1’ [-Wunused-variable]
135 | double tmp_1, tmp_2, tmp_3;
| ^~~~~
Rcpp_MCMC.cpp:135:17: warning: unused variable ‘tmp_2’ [-Wunused-variable]
135 | double tmp_1, tmp_2, tmp_3;
| ^~~~~
Rcpp_MCMC.cpp:135:24: warning: unused variable ‘tmp_3’ [-Wunused-variable]
135 | double tmp_1, tmp_2, tmp_3;
| ^~~~~
Rcpp_MCMC.cpp:394:10: warning: ‘ll_original’ may be used uninitialized in this function [-Wmaybe-uninitialized]
394 | ll += ll_original;
| ~~~^~~~~~~~~~~~~~
g++ -std=gnu++11 -I"/home/biocbuild/R/R-4.3.1/include" -DNDEBUG -I'/home/biocbuild/R/R-4.3.1/site-library/Rcpp/include' -I'/home/biocbuild/R/R-4.3.1/site-library/RcppArmadillo/include' -I/usr/local/include -fPIC -g -O2 -Wall -c Rcpp_MCMC_EC_US.cpp -o Rcpp_MCMC_EC_US.o
Rcpp_MCMC_EC_US.cpp: In function ‘Rcpp::NumericVector Rcpp_MCMC_EC_US(const unsigned int&, const unsigned int&, const unsigned int&, const unsigned int&, const IntegerVector&, const IntegerVector&, const Rcpp::ListOf<Rcpp::Vector<13> >&, const IntegerVector&, const unsigned int&, const unsigned int&, Rcpp::NumericMatrix&, Rcpp::ListOf<Rcpp::Matrix<14> >&, const NumericMatrix&, const Rcpp::ListOf<Rcpp::ListOf<Rcpp::Vector<13> > >&, const Rcpp::ListOf<Rcpp::Vector<13> >&, Rcpp::ListOf<Rcpp::Matrix<14> >&, Rcpp::ListOf<Rcpp::Matrix<14> >&, Rcpp::ListOf<Rcpp::Matrix<14> >&, const NumericVector&, const NumericVector&, const IntegerVector&, const IntegerVector&, const NumericVector&, const NumericVector&, const double&)’:
Rcpp_MCMC_EC_US.cpp:310:32: warning: comparison of integer expressions of different signedness: ‘unsigned int’ and ‘const type’ {aka ‘const int’} [-Wsign-compare]
310 | for(sample = 0; sample < n_samples_per_group[ gr ]; sample ++){
Rcpp_MCMC_EC_US.cpp:130:10: warning: unused variable ‘tmp_1’ [-Wunused-variable]
130 | double tmp_1, tmp_2, tmp;
| ^~~~~
Rcpp_MCMC_EC_US.cpp:130:17: warning: unused variable ‘tmp_2’ [-Wunused-variable]
130 | double tmp_1, tmp_2, tmp;
| ^~~~~
Rcpp_MCMC_EC_US.cpp:399:12: warning: ‘ll_original’ may be used uninitialized in this function [-Wmaybe-uninitialized]
399 | ll += ll_original;
| ~~~^~~~~~~~~~~~~~
g++ -std=gnu++11 -shared -L/home/biocbuild/R/R-4.3.1/lib -L/usr/local/lib -o DifferentialRegulation.so RcppExports.o Rcpp_MCMC.o Rcpp_MCMC_EC_US.o -llapack -lblas -lgfortran -lm -L/home/biocbuild/R/R-4.3.1/lib -lR
installing to /home/biocbuild/R/R-4.3.1/site-library/00LOCK-DifferentialRegulation/00new/DifferentialRegulation/libs
** R
** inst
** byte-compile and prepare package for lazy loading
** help
*** installing help indices
** building package indices
** installing vignettes
** testing if installed package can be loaded from temporary location
** checking absolute paths in shared objects and dynamic libraries
** testing if installed package can be loaded from final location
** testing if installed package keeps a record of temporary installation path
* DONE (DifferentialRegulation)
DifferentialRegulation.Rcheck/tests/testhat.Rout
R version 4.3.1 (2023-06-16) -- "Beagle Scouts"
Copyright (C) 2023 The R Foundation for Statistical Computing
Platform: aarch64-unknown-linux-gnu (64-bit)
R is free software and comes with ABSOLUTELY NO WARRANTY.
You are welcome to redistribute it under certain conditions.
Type 'license()' or 'licence()' for distribution details.
R is a collaborative project with many contributors.
Type 'contributors()' for more information and
'citation()' on how to cite R or R packages in publications.
Type 'demo()' for some demos, 'help()' for on-line help, or
'help.start()' for an HTML browser interface to help.
Type 'q()' to quit R.
> library(testthat)
> library(DifferentialRegulation)
> test_check("DifferentialRegulation")
[ FAIL 0 | WARN 0 | SKIP 0 | PASS 8 ]
Warning messages:
1: In for (i in 1L:d2) { : closing unused connection 5 (<-localhost:11340)
2: In for (i in 1L:d2) { : closing unused connection 4 (<-localhost:11340)
>
> proc.time()
user system elapsed
15.199 0.598 31.174
DifferentialRegulation.Rcheck/DifferentialRegulation-Ex.timings
| name | user | system | elapsed | |
| DifferentialRegulation | 6.205 | 0.315 | 27.388 | |
| DifferentialRegulation_bulk | 131.205 | 29.192 | 153.172 | |
| compute_PB_counts | 3.412 | 0.080 | 3.538 | |
| load_EC | 1.601 | 0.024 | 1.628 | |
| load_USA | 0.266 | 0.000 | 0.267 | |
| load_bulk_EC | 0.149 | 0.035 | 14.836 | |
| load_bulk_US | 0.384 | 0.012 | 0.407 | |
| plot_bulk_pi | 0.122 | 0.018 | 0.219 | |
| plot_bulk_traceplot | 0.094 | 0.015 | 0.109 | |
| plot_pi | 0.089 | 0.015 | 0.104 | |
| plot_traceplot | 0.096 | 0.010 | 0.107 | |