| Back to Multiple platform build/check report for BioC 3.18: simplified long |
|
This page was generated on 2024-03-04 11:37:17 -0500 (Mon, 04 Mar 2024).
| Hostname | OS | Arch (*) | R version | Installed pkgs |
|---|---|---|---|---|
| nebbiolo2 | Linux (Ubuntu 22.04.3 LTS) | x86_64 | 4.3.2 Patched (2023-11-13 r85521) -- "Eye Holes" | 4692 |
| palomino4 | Windows Server 2022 Datacenter | x64 | 4.3.2 (2023-10-31 ucrt) -- "Eye Holes" | 4445 |
| lconway | macOS 12.7.1 Monterey | x86_64 | 4.3.2 Patched (2023-11-01 r85457) -- "Eye Holes" | 4466 |
| Click on any hostname to see more info about the system (e.g. compilers) (*) as reported by 'uname -p', except on Windows and Mac OS X | ||||
| Package 561/2266 | Hostname | OS / Arch | INSTALL | BUILD | CHECK | BUILD BIN | ||||||||
| DifferentialRegulation 2.0.3 (landing page) Simone Tiberi
| nebbiolo2 | Linux (Ubuntu 22.04.3 LTS) / x86_64 | OK | OK | OK | |||||||||
| palomino4 | Windows Server 2022 Datacenter / x64 | OK | OK | OK | OK | |||||||||
| lconway | macOS 12.7.1 Monterey / x86_64 | OK | OK | OK | OK | |||||||||
| kjohnson1 | macOS 13.6.1 Ventura / arm64 | see weekly results here | ||||||||||||
|
To the developers/maintainers of the DifferentialRegulation package: - Allow up to 24 hours (and sometimes 48 hours) for your latest push to git@git.bioconductor.org:packages/DifferentialRegulation.git to reflect on this report. See Troubleshooting Build Report for more information. - Use the following Renviron settings to reproduce errors and warnings. - If 'R CMD check' started to fail recently on the Linux builder(s) over a missing dependency, add the missing dependency to 'Suggests:' in your DESCRIPTION file. See Renviron.bioc for more information. |
| Package: DifferentialRegulation |
| Version: 2.0.3 |
| Command: /Library/Frameworks/R.framework/Resources/bin/R CMD check --install=check:DifferentialRegulation.install-out.txt --library=/Library/Frameworks/R.framework/Resources/library --no-vignettes --timings DifferentialRegulation_2.0.3.tar.gz |
| StartedAt: 2024-03-03 20:12:14 -0500 (Sun, 03 Mar 2024) |
| EndedAt: 2024-03-03 20:18:51 -0500 (Sun, 03 Mar 2024) |
| EllapsedTime: 396.8 seconds |
| RetCode: 0 |
| Status: OK |
| CheckDir: DifferentialRegulation.Rcheck |
| Warnings: 0 |
##############################################################################
##############################################################################
###
### Running command:
###
### /Library/Frameworks/R.framework/Resources/bin/R CMD check --install=check:DifferentialRegulation.install-out.txt --library=/Library/Frameworks/R.framework/Resources/library --no-vignettes --timings DifferentialRegulation_2.0.3.tar.gz
###
##############################################################################
##############################################################################
* using log directory ‘/Users/biocbuild/bbs-3.18-bioc/meat/DifferentialRegulation.Rcheck’
* using R version 4.3.2 Patched (2023-11-01 r85457)
* using platform: x86_64-apple-darwin20 (64-bit)
* R was compiled by
Apple clang version 14.0.3 (clang-1403.0.22.14.1)
GNU Fortran (GCC) 12.2.0
* running under: macOS Monterey 12.7.1
* using session charset: UTF-8
* using option ‘--no-vignettes’
* checking for file ‘DifferentialRegulation/DESCRIPTION’ ... OK
* checking extension type ... Package
* this is package ‘DifferentialRegulation’ version ‘2.0.3’
* package encoding: UTF-8
* checking package namespace information ... OK
* checking package dependencies ... OK
* checking if this is a source package ... OK
* checking if there is a namespace ... OK
* checking for hidden files and directories ... OK
* checking for portable file names ... OK
* checking for sufficient/correct file permissions ... OK
* checking whether package ‘DifferentialRegulation’ can be installed ... OK
* used C++ compiler: ‘Apple clang version 14.0.0 (clang-1400.0.29.202)’
* used SDK: ‘MacOSX11.3.sdk’
* checking C++ specification ... OK
Not all R platforms support C++17
* checking installed package size ... OK
* checking package directory ... OK
* checking ‘build’ directory ... OK
* checking DESCRIPTION meta-information ... OK
* checking top-level files ... OK
* checking for left-over files ... OK
* checking index information ... OK
* checking package subdirectories ... OK
* checking R files for non-ASCII characters ... OK
* checking R files for syntax errors ... OK
* checking whether the package can be loaded ... OK
* checking whether the package can be loaded with stated dependencies ... OK
* checking whether the package can be unloaded cleanly ... OK
* checking whether the namespace can be loaded with stated dependencies ... OK
* checking whether the namespace can be unloaded cleanly ... OK
* checking dependencies in R code ... OK
* checking S3 generic/method consistency ... OK
* checking replacement functions ... OK
* checking foreign function calls ... OK
* checking R code for possible problems ... NOTE
MCMC_ECs: no visible binding for global variable ‘cl’
Undefined global functions or variables:
cl
* checking Rd files ... OK
* checking Rd metadata ... OK
* checking Rd cross-references ... OK
* checking for missing documentation entries ... OK
* checking for code/documentation mismatches ... OK
* checking Rd \usage sections ... OK
* checking Rd contents ... OK
* checking for unstated dependencies in examples ... OK
* checking line endings in C/C++/Fortran sources/headers ... OK
* checking line endings in Makefiles ... OK
* checking compilation flags in Makevars ... OK
* checking for GNU extensions in Makefiles ... OK
* checking for portable use of $(BLAS_LIBS) and $(LAPACK_LIBS) ... OK
* checking use of PKG_*FLAGS in Makefiles ... OK
* checking compiled code ... NOTE
Note: information on .o files is not available
* checking files in ‘vignettes’ ... OK
* checking examples ... OK
Examples with CPU (user + system) or elapsed time > 5s
user system elapsed
DifferentialRegulation_bulk 93.594 23.868 110.645
DifferentialRegulation 5.199 0.262 21.542
load_bulk_EC 0.164 0.052 14.862
* checking for unstated dependencies in ‘tests’ ... OK
* checking tests ...
Running ‘testhat.R’
OK
* checking for unstated dependencies in vignettes ... OK
* checking package vignettes in ‘inst/doc’ ... OK
* checking running R code from vignettes ... SKIPPED
* checking re-building of vignette outputs ... SKIPPED
* checking PDF version of manual ... OK
* DONE
Status: 2 NOTEs
See
‘/Users/biocbuild/bbs-3.18-bioc/meat/DifferentialRegulation.Rcheck/00check.log’
for details.
DifferentialRegulation.Rcheck/00install.out
##############################################################################
##############################################################################
###
### Running command:
###
### /Library/Frameworks/R.framework/Resources/bin/R CMD INSTALL DifferentialRegulation
###
##############################################################################
##############################################################################
* installing to library ‘/Library/Frameworks/R.framework/Versions/4.3-x86_64/Resources/library’
* installing *source* package ‘DifferentialRegulation’ ...
** using staged installation
** libs
using C++ compiler: ‘Apple clang version 14.0.0 (clang-1400.0.29.202)’
using C++17
using SDK: ‘MacOSX11.3.sdk’
clang++ -arch x86_64 -std=gnu++17 -I"/Library/Frameworks/R.framework/Resources/include" -DNDEBUG -I'/Library/Frameworks/R.framework/Versions/4.3-x86_64/Resources/library/Rcpp/include' -I'/Library/Frameworks/R.framework/Versions/4.3-x86_64/Resources/library/RcppArmadillo/include' -I/opt/R/x86_64/include -fPIC -falign-functions=64 -Wall -g -O2 -c RcppExports.cpp -o RcppExports.o
clang++ -arch x86_64 -std=gnu++17 -I"/Library/Frameworks/R.framework/Resources/include" -DNDEBUG -I'/Library/Frameworks/R.framework/Versions/4.3-x86_64/Resources/library/Rcpp/include' -I'/Library/Frameworks/R.framework/Versions/4.3-x86_64/Resources/library/RcppArmadillo/include' -I/opt/R/x86_64/include -fPIC -falign-functions=64 -Wall -g -O2 -c Rcpp_MCMC.cpp -o Rcpp_MCMC.o
Rcpp_MCMC.cpp:135:24: warning: unused variable 'tmp_3' [-Wunused-variable]
double tmp_1, tmp_2, tmp_3;
^
Rcpp_MCMC.cpp:135:10: warning: unused variable 'tmp_1' [-Wunused-variable]
double tmp_1, tmp_2, tmp_3;
^
Rcpp_MCMC.cpp:135:17: warning: unused variable 'tmp_2' [-Wunused-variable]
double tmp_1, tmp_2, tmp_3;
^
3 warnings generated.
clang++ -arch x86_64 -std=gnu++17 -I"/Library/Frameworks/R.framework/Resources/include" -DNDEBUG -I'/Library/Frameworks/R.framework/Versions/4.3-x86_64/Resources/library/Rcpp/include' -I'/Library/Frameworks/R.framework/Versions/4.3-x86_64/Resources/library/RcppArmadillo/include' -I/opt/R/x86_64/include -fPIC -falign-functions=64 -Wall -g -O2 -c Rcpp_MCMC_EC_US.cpp -o Rcpp_MCMC_EC_US.o
Rcpp_MCMC_EC_US.cpp:130:17: warning: unused variable 'tmp_2' [-Wunused-variable]
double tmp_1, tmp_2, tmp;
^
Rcpp_MCMC_EC_US.cpp:130:10: warning: unused variable 'tmp_1' [-Wunused-variable]
double tmp_1, tmp_2, tmp;
^
2 warnings generated.
clang++ -arch x86_64 -std=gnu++17 -dynamiclib -Wl,-headerpad_max_install_names -undefined dynamic_lookup -L/Library/Frameworks/R.framework/Resources/lib -L/opt/R/x86_64/lib -o DifferentialRegulation.so RcppExports.o Rcpp_MCMC.o Rcpp_MCMC_EC_US.o -L/Library/Frameworks/R.framework/Resources/lib -lRlapack -L/Library/Frameworks/R.framework/Resources/lib -lRblas -L/opt/gfortran/lib/gcc/x86_64-apple-darwin20.0/12.2.0 -L/opt/gfortran/lib -lgfortran -lquadmath -F/Library/Frameworks/R.framework/.. -framework R -Wl,-framework -Wl,CoreFoundation
installing to /Library/Frameworks/R.framework/Versions/4.3-x86_64/Resources/library/00LOCK-DifferentialRegulation/00new/DifferentialRegulation/libs
** R
** inst
** byte-compile and prepare package for lazy loading
** help
*** installing help indices
** building package indices
** installing vignettes
** testing if installed package can be loaded from temporary location
** checking absolute paths in shared objects and dynamic libraries
** testing if installed package can be loaded from final location
** testing if installed package keeps a record of temporary installation path
* DONE (DifferentialRegulation)
DifferentialRegulation.Rcheck/tests/testhat.Rout
R version 4.3.2 Patched (2023-11-01 r85457) -- "Eye Holes"
Copyright (C) 2023 The R Foundation for Statistical Computing
Platform: x86_64-apple-darwin20 (64-bit)
R is free software and comes with ABSOLUTELY NO WARRANTY.
You are welcome to redistribute it under certain conditions.
Type 'license()' or 'licence()' for distribution details.
R is a collaborative project with many contributors.
Type 'contributors()' for more information and
'citation()' on how to cite R or R packages in publications.
Type 'demo()' for some demos, 'help()' for on-line help, or
'help.start()' for an HTML browser interface to help.
Type 'q()' to quit R.
> library(testthat)
> library(DifferentialRegulation)
> test_check("DifferentialRegulation")
[ FAIL 0 | WARN 0 | SKIP 0 | PASS 8 ]
Warning messages:
1: closing unused connection 5 (<-localhost:11827)
2: closing unused connection 4 (<-localhost:11827)
>
> proc.time()
user system elapsed
13.687 1.099 28.925
DifferentialRegulation.Rcheck/DifferentialRegulation-Ex.timings
| name | user | system | elapsed | |
| DifferentialRegulation | 5.199 | 0.262 | 21.542 | |
| DifferentialRegulation_bulk | 93.594 | 23.868 | 110.645 | |
| compute_PB_counts | 2.579 | 0.089 | 3.075 | |
| load_EC | 1.326 | 0.075 | 1.580 | |
| load_USA | 0.243 | 0.010 | 0.307 | |
| load_bulk_EC | 0.164 | 0.052 | 14.862 | |
| load_bulk_US | 0.322 | 0.095 | 0.383 | |
| plot_bulk_pi | 0.144 | 0.088 | 0.364 | |
| plot_bulk_traceplot | 0.143 | 0.072 | 0.262 | |
| plot_pi | 0.101 | 0.052 | 0.182 | |
| plot_traceplot | 0.109 | 0.066 | 0.259 | |