| Back to Multiple platform build/check report for BioC 3.18: simplified long |
|
This page was generated on 2024-04-17 11:36:43 -0400 (Wed, 17 Apr 2024).
| Hostname | OS | Arch (*) | R version | Installed pkgs |
|---|---|---|---|---|
| nebbiolo2 | Linux (Ubuntu 22.04.3 LTS) | x86_64 | 4.3.3 (2024-02-29) -- "Angel Food Cake" | 4676 |
| palomino4 | Windows Server 2022 Datacenter | x64 | 4.3.3 (2024-02-29 ucrt) -- "Angel Food Cake" | 4414 |
| merida1 | macOS 12.7.1 Monterey | x86_64 | 4.3.3 (2024-02-29) -- "Angel Food Cake" | 4437 |
| Click on any hostname to see more info about the system (e.g. compilers) (*) as reported by 'uname -p', except on Windows and Mac OS X | ||||
| Package 561/2266 | Hostname | OS / Arch | INSTALL | BUILD | CHECK | BUILD BIN | ||||||||
| DifferentialRegulation 2.0.3 (landing page) Simone Tiberi
| nebbiolo2 | Linux (Ubuntu 22.04.3 LTS) / x86_64 | OK | OK | OK | |||||||||
| palomino4 | Windows Server 2022 Datacenter / x64 | OK | OK | OK | OK | |||||||||
| merida1 | macOS 12.7.1 Monterey / x86_64 | OK | OK | OK | OK | |||||||||
| kjohnson1 | macOS 13.6.1 Ventura / arm64 | see weekly results here | ||||||||||||
|
To the developers/maintainers of the DifferentialRegulation package: - Allow up to 24 hours (and sometimes 48 hours) for your latest push to git@git.bioconductor.org:packages/DifferentialRegulation.git to reflect on this report. See Troubleshooting Build Report for more information. - Use the following Renviron settings to reproduce errors and warnings. - If 'R CMD check' started to fail recently on the Linux builder(s) over a missing dependency, add the missing dependency to 'Suggests:' in your DESCRIPTION file. See Renviron.bioc for more information. |
| Package: DifferentialRegulation |
| Version: 2.0.3 |
| Command: F:\biocbuild\bbs-3.18-bioc\R\bin\R.exe CMD check --no-multiarch --install=check:DifferentialRegulation.install-out.txt --library=F:\biocbuild\bbs-3.18-bioc\R\library --no-vignettes --timings DifferentialRegulation_2.0.3.tar.gz |
| StartedAt: 2024-04-16 00:11:55 -0400 (Tue, 16 Apr 2024) |
| EndedAt: 2024-04-16 00:18:43 -0400 (Tue, 16 Apr 2024) |
| EllapsedTime: 408.6 seconds |
| RetCode: 0 |
| Status: OK |
| CheckDir: DifferentialRegulation.Rcheck |
| Warnings: 0 |
##############################################################################
##############################################################################
###
### Running command:
###
### F:\biocbuild\bbs-3.18-bioc\R\bin\R.exe CMD check --no-multiarch --install=check:DifferentialRegulation.install-out.txt --library=F:\biocbuild\bbs-3.18-bioc\R\library --no-vignettes --timings DifferentialRegulation_2.0.3.tar.gz
###
##############################################################################
##############################################################################
* using log directory 'F:/biocbuild/bbs-3.18-bioc/meat/DifferentialRegulation.Rcheck'
* using R version 4.3.3 (2024-02-29 ucrt)
* using platform: x86_64-w64-mingw32 (64-bit)
* R was compiled by
gcc.exe (GCC) 12.3.0
GNU Fortran (GCC) 12.3.0
* running under: Windows Server 2022 x64 (build 20348)
* using session charset: UTF-8
* using option '--no-vignettes'
* checking for file 'DifferentialRegulation/DESCRIPTION' ... OK
* checking extension type ... Package
* this is package 'DifferentialRegulation' version '2.0.3'
* package encoding: UTF-8
* checking package namespace information ... OK
* checking package dependencies ... OK
* checking if this is a source package ... OK
* checking if there is a namespace ... OK
* checking for hidden files and directories ... OK
* checking for portable file names ... OK
* checking whether package 'DifferentialRegulation' can be installed ... OK
* used C++ compiler: 'G__~1.EXE (GCC) 12.3.0'
* checking C++ specification ... OK
Not all R platforms support C++17
* checking installed package size ... OK
* checking package directory ... OK
* checking 'build' directory ... OK
* checking DESCRIPTION meta-information ... OK
* checking top-level files ... OK
* checking for left-over files ... OK
* checking index information ... OK
* checking package subdirectories ... OK
* checking R files for non-ASCII characters ... OK
* checking R files for syntax errors ... OK
* checking whether the package can be loaded ... OK
* checking whether the package can be loaded with stated dependencies ... OK
* checking whether the package can be unloaded cleanly ... OK
* checking whether the namespace can be loaded with stated dependencies ... OK
* checking whether the namespace can be unloaded cleanly ... OK
* checking dependencies in R code ... OK
* checking S3 generic/method consistency ... OK
* checking replacement functions ... OK
* checking foreign function calls ... OK
* checking R code for possible problems ... NOTE
MCMC_ECs: no visible binding for global variable 'cl'
Undefined global functions or variables:
cl
* checking Rd files ... OK
* checking Rd metadata ... OK
* checking Rd cross-references ... OK
* checking for missing documentation entries ... OK
* checking for code/documentation mismatches ... OK
* checking Rd \usage sections ... OK
* checking Rd contents ... OK
* checking for unstated dependencies in examples ... OK
* checking line endings in C/C++/Fortran sources/headers ... OK
* checking line endings in Makefiles ... OK
* checking compilation flags in Makevars ... OK
* checking for GNU extensions in Makefiles ... OK
* checking for portable use of $(BLAS_LIBS) and $(LAPACK_LIBS) ... OK
* checking use of PKG_*FLAGS in Makefiles ... OK
* checking compiled code ... NOTE
Note: information on .o files for x64 is not available
File 'F:/biocbuild/bbs-3.18-bioc/R/library/DifferentialRegulation/libs/x64/DifferentialRegulation.dll':
Found 'abort', possibly from 'abort' (C), 'runtime' (Fortran)
Found 'exit', possibly from 'exit' (C), 'stop' (Fortran)
Compiled code should not call entry points which might terminate R nor
write to stdout/stderr instead of to the console, nor use Fortran I/O
nor system RNGs nor [v]sprintf. The detected symbols are linked into
the code but might come from libraries and not actually be called.
See 'Writing portable packages' in the 'Writing R Extensions' manual.
* checking files in 'vignettes' ... OK
* checking examples ... OK
Examples with CPU (user + system) or elapsed time > 5s
user system elapsed
DifferentialRegulation_bulk 87.24 0.69 103.45
DifferentialRegulation 5.78 1.53 28.30
load_bulk_EC 0.24 0.03 16.28
* checking for unstated dependencies in 'tests' ... OK
* checking tests ...
Running 'testhat.R'
OK
* checking for unstated dependencies in vignettes ... OK
* checking package vignettes in 'inst/doc' ... OK
* checking running R code from vignettes ... SKIPPED
* checking re-building of vignette outputs ... SKIPPED
* checking PDF version of manual ... OK
* DONE
Status: 2 NOTEs
See
'F:/biocbuild/bbs-3.18-bioc/meat/DifferentialRegulation.Rcheck/00check.log'
for details.
DifferentialRegulation.Rcheck/00install.out
##############################################################################
##############################################################################
###
### Running command:
###
### F:\biocbuild\bbs-3.18-bioc\R\bin\R.exe CMD INSTALL DifferentialRegulation
###
##############################################################################
##############################################################################
* installing to library 'F:/biocbuild/bbs-3.18-bioc/R/library'
* installing *source* package 'DifferentialRegulation' ...
** using staged installation
** libs
using C++ compiler: 'G__~1.EXE (GCC) 12.3.0'
using C++17
g++ -std=gnu++17 -I"F:/biocbuild/bbs-3.18-bioc/R/include" -DNDEBUG -I'F:/biocbuild/bbs-3.18-bioc/R/library/Rcpp/include' -I'F:/biocbuild/bbs-3.18-bioc/R/library/RcppArmadillo/include' -I"C:/rtools43/x86_64-w64-mingw32.static.posix/include" -O2 -Wall -mfpmath=sse -msse2 -mstackrealign -c RcppExports.cpp -o RcppExports.o
g++ -std=gnu++17 -I"F:/biocbuild/bbs-3.18-bioc/R/include" -DNDEBUG -I'F:/biocbuild/bbs-3.18-bioc/R/library/Rcpp/include' -I'F:/biocbuild/bbs-3.18-bioc/R/library/RcppArmadillo/include' -I"C:/rtools43/x86_64-w64-mingw32.static.posix/include" -O2 -Wall -mfpmath=sse -msse2 -mstackrealign -c Rcpp_MCMC.cpp -o Rcpp_MCMC.o
Rcpp_MCMC.cpp: In function 'Rcpp::NumericVector Rcpp_MCMC(const unsigned int&, const unsigned int&, const unsigned int&, const unsigned int&, const Rcpp::IntegerVector&, const Rcpp::IntegerVector&, const Rcpp::ListOf<Rcpp::Vector<13> >&, const Rcpp::IntegerVector&, const unsigned int&, const unsigned int&, Rcpp::NumericMatrix&, Rcpp::ListOf<Rcpp::Matrix<14> >&, const Rcpp::NumericMatrix&, const Rcpp::ListOf<Rcpp::ListOf<Rcpp::Vector<13> > >&, const Rcpp::ListOf<Rcpp::Vector<13> >&, Rcpp::ListOf<Rcpp::Matrix<14> >&, Rcpp::ListOf<Rcpp::Matrix<14> >&, Rcpp::ListOf<Rcpp::Matrix<14> >&, Rcpp::ListOf<Rcpp::Matrix<14> >&, const Rcpp::NumericVector&, const Rcpp::NumericVector&, const Rcpp::IntegerVector&, Rcpp::ListOf<Rcpp::Matrix<14> >&, const Rcpp::IntegerVector&, const double&)':
Rcpp_MCMC.cpp:305:32: warning: comparison of integer expressions of different signedness: 'unsigned int' and 'const Rcpp::traits::storage_type<13>::type' {aka 'const int'} [-Wsign-compare]
305 | for(sample = 0; sample < n_samples_per_group[ gr ]; sample ++){
Rcpp_MCMC.cpp:135:10: warning: unused variable 'tmp_1' [-Wunused-variable]
135 | double tmp_1, tmp_2, tmp_3;
| ^~~~~
Rcpp_MCMC.cpp:135:17: warning: unused variable 'tmp_2' [-Wunused-variable]
135 | double tmp_1, tmp_2, tmp_3;
| ^~~~~
Rcpp_MCMC.cpp:135:24: warning: unused variable 'tmp_3' [-Wunused-variable]
135 | double tmp_1, tmp_2, tmp_3;
| ^~~~~
Rcpp_MCMC.cpp:394:10: warning: 'll_original' may be used uninitialized [-Wmaybe-uninitialized]
394 | ll += ll_original;
| ~~~^~~~~~~~~~~~~~
Rcpp_MCMC.cpp:296:21: note: 'll_original' was declared here
296 | double ll_prop, ll_original, ll = 0;
| ^~~~~~~~~~~
g++ -std=gnu++17 -I"F:/biocbuild/bbs-3.18-bioc/R/include" -DNDEBUG -I'F:/biocbuild/bbs-3.18-bioc/R/library/Rcpp/include' -I'F:/biocbuild/bbs-3.18-bioc/R/library/RcppArmadillo/include' -I"C:/rtools43/x86_64-w64-mingw32.static.posix/include" -O2 -Wall -mfpmath=sse -msse2 -mstackrealign -c Rcpp_MCMC_EC_US.cpp -o Rcpp_MCMC_EC_US.o
Rcpp_MCMC_EC_US.cpp: In function 'Rcpp::NumericVector Rcpp_MCMC_EC_US(const unsigned int&, const unsigned int&, const unsigned int&, const unsigned int&, const Rcpp::IntegerVector&, const Rcpp::IntegerVector&, const Rcpp::ListOf<Rcpp::Vector<13> >&, const Rcpp::IntegerVector&, const unsigned int&, const unsigned int&, Rcpp::NumericMatrix&, Rcpp::ListOf<Rcpp::Matrix<14> >&, const Rcpp::NumericMatrix&, const Rcpp::ListOf<Rcpp::ListOf<Rcpp::Vector<13> > >&, const Rcpp::ListOf<Rcpp::Vector<13> >&, Rcpp::ListOf<Rcpp::Matrix<14> >&, Rcpp::ListOf<Rcpp::Matrix<14> >&, Rcpp::ListOf<Rcpp::Matrix<14> >&, const Rcpp::NumericVector&, const Rcpp::NumericVector&, const Rcpp::IntegerVector&, const Rcpp::IntegerVector&, const Rcpp::NumericVector&, const Rcpp::NumericVector&, const double&)':
Rcpp_MCMC_EC_US.cpp:310:32: warning: comparison of integer expressions of different signedness: 'unsigned int' and 'const Rcpp::traits::storage_type<13>::type' {aka 'const int'} [-Wsign-compare]
310 | for(sample = 0; sample < n_samples_per_group[ gr ]; sample ++){
Rcpp_MCMC_EC_US.cpp:130:10: warning: unused variable 'tmp_1' [-Wunused-variable]
130 | double tmp_1, tmp_2, tmp;
| ^~~~~
Rcpp_MCMC_EC_US.cpp:130:17: warning: unused variable 'tmp_2' [-Wunused-variable]
130 | double tmp_1, tmp_2, tmp;
| ^~~~~
Rcpp_MCMC_EC_US.cpp:399:12: warning: 'll_original' may be used uninitialized [-Wmaybe-uninitialized]
399 | ll += ll_original;
| ~~~^~~~~~~~~~~~~~
Rcpp_MCMC_EC_US.cpp:290:21: note: 'll_original' was declared here
290 | double ll_prop, ll_original, ll = 0;
| ^~~~~~~~~~~
g++ -shared -s -static-libgcc -o DifferentialRegulation.dll tmp.def RcppExports.o Rcpp_MCMC.o Rcpp_MCMC_EC_US.o -LF:/biocbuild/bbs-3.18-bioc/R/bin/x64 -lRlapack -LF:/biocbuild/bbs-3.18-bioc/R/bin/x64 -lRblas -lgfortran -lm -lquadmath -LC:/rtools43/x86_64-w64-mingw32.static.posix/lib/x64 -LC:/rtools43/x86_64-w64-mingw32.static.posix/lib -LF:/biocbuild/bbs-3.18-bioc/R/bin/x64 -lR
installing to F:/biocbuild/bbs-3.18-bioc/R/library/00LOCK-DifferentialRegulation/00new/DifferentialRegulation/libs/x64
** R
** inst
** byte-compile and prepare package for lazy loading
** help
*** installing help indices
** building package indices
** installing vignettes
** testing if installed package can be loaded from temporary location
** testing if installed package can be loaded from final location
** testing if installed package keeps a record of temporary installation path
* DONE (DifferentialRegulation)
DifferentialRegulation.Rcheck/tests/testhat.Rout
R version 4.3.3 (2024-02-29 ucrt) -- "Angel Food Cake"
Copyright (C) 2024 The R Foundation for Statistical Computing
Platform: x86_64-w64-mingw32/x64 (64-bit)
R is free software and comes with ABSOLUTELY NO WARRANTY.
You are welcome to redistribute it under certain conditions.
Type 'license()' or 'licence()' for distribution details.
R is a collaborative project with many contributors.
Type 'contributors()' for more information and
'citation()' on how to cite R or R packages in publications.
Type 'demo()' for some demos, 'help()' for on-line help, or
'help.start()' for an HTML browser interface to help.
Type 'q()' to quit R.
> library(testthat)
> library(DifferentialRegulation)
> test_check("DifferentialRegulation")
[ FAIL 0 | WARN 0 | SKIP 0 | PASS 8 ]
Warning messages:
1: In for (i in seq_len(n)) { :
closing unused connection 5 (<-palomino4:11364)
2: In for (i in seq_len(n)) { :
closing unused connection 4 (<-palomino4:11364)
>
> proc.time()
user system elapsed
12.96 2.75 35.98
DifferentialRegulation.Rcheck/DifferentialRegulation-Ex.timings
| name | user | system | elapsed | |
| DifferentialRegulation | 5.78 | 1.53 | 28.30 | |
| DifferentialRegulation_bulk | 87.24 | 0.69 | 103.45 | |
| compute_PB_counts | 2.38 | 0.27 | 3.10 | |
| load_EC | 1.32 | 0.06 | 1.59 | |
| load_USA | 0.16 | 0.03 | 0.24 | |
| load_bulk_EC | 0.24 | 0.03 | 16.28 | |
| load_bulk_US | 0.45 | 0.21 | 0.50 | |
| plot_bulk_pi | 0.17 | 0.07 | 0.93 | |
| plot_bulk_traceplot | 0.14 | 0.05 | 0.19 | |
| plot_pi | 0.14 | 0.06 | 0.22 | |
| plot_traceplot | 0.16 | 0.05 | 0.22 | |