| Back to Multiple platform build/check report for BioC 3.18: simplified long |
|
This page was generated on 2024-04-17 11:34:48 -0400 (Wed, 17 Apr 2024).
| Hostname | OS | Arch (*) | R version | Installed pkgs |
|---|---|---|---|---|
| nebbiolo2 | Linux (Ubuntu 22.04.3 LTS) | x86_64 | 4.3.3 (2024-02-29) -- "Angel Food Cake" | 4676 |
| palomino4 | Windows Server 2022 Datacenter | x64 | 4.3.3 (2024-02-29 ucrt) -- "Angel Food Cake" | 4414 |
| merida1 | macOS 12.7.1 Monterey | x86_64 | 4.3.3 (2024-02-29) -- "Angel Food Cake" | 4437 |
| Click on any hostname to see more info about the system (e.g. compilers) (*) as reported by 'uname -p', except on Windows and Mac OS X | ||||
|
To the developers/maintainers of the BiocFileCache package: - Allow up to 24 hours (and sometimes 48 hours) for your latest push to git@git.bioconductor.org:packages/BiocFileCache.git to reflect on this report. See Troubleshooting Build Report for more information. - Use the following Renviron settings to reproduce errors and warnings. - If 'R CMD check' started to fail recently on the Linux builder(s) over a missing dependency, add the missing dependency to 'Suggests:' in your DESCRIPTION file. See Renviron.bioc for more information. |
| Package 176/2266 | Hostname | OS / Arch | INSTALL | BUILD | CHECK | BUILD BIN | ||||||||
| BiocFileCache 2.10.2 (landing page) Lori Shepherd
| nebbiolo2 | Linux (Ubuntu 22.04.3 LTS) / x86_64 | OK | OK | OK | |||||||||
| palomino4 | Windows Server 2022 Datacenter / x64 | OK | OK | OK | OK | |||||||||
| merida1 | macOS 12.7.1 Monterey / x86_64 | OK | OK | ERROR | OK | |||||||||
| kjohnson1 | macOS 13.6.1 Ventura / arm64 | see weekly results here | ||||||||||||
| QUICK STATS | OS / Arch | INSTALL | BUILD | CHECK | BUILD BIN | |||||||||||||||||
| nebbiolo2 | Linux (Ubuntu 22.04.3 LTS) / x86_64 |
|
|
| ||||||||||||||||||
| palomino4 | Windows Server 2022 Datacenter / x64 |
|
|
|
| |||||||||||||||||
| merida1 | macOS 12.7.1 Monterey / x86_64 |
|
|
|
| |||||||||||||||||
| Package 1/63 | Hostname | OS / Arch | INSTALL | BUILD | CHECK | BUILD BIN | ||||||||||||||||
| AMARETTO 1.18.0 (landing page) Olivier Gevaert
| nebbiolo2 | Linux (Ubuntu 22.04.3 LTS) / x86_64 | OK | OK | WARNINGS | |||||||||||||||||
| palomino4 | Windows Server 2022 Datacenter / x64 | OK | OK | WARNINGS | OK | |||||||||||||||||
| merida1 | macOS 12.7.1 Monterey / x86_64 | OK | OK | WARNINGS | OK | |||||||||||||||||
| kjohnson1 | macOS 13.6.1 Ventura / arm64 | see weekly results here | ||||||||||||||||||||
| Package 2/63 | Hostname | OS / Arch | INSTALL | BUILD | CHECK | BUILD BIN | ||||||||||||||||
| AnnotationHub 3.10.1 (landing page) Bioconductor Package Maintainer
| nebbiolo2 | Linux (Ubuntu 22.04.3 LTS) / x86_64 | OK | OK | WARNINGS | |||||||||||||||||
| palomino4 | Windows Server 2022 Datacenter / x64 | OK | OK | WARNINGS | OK | |||||||||||||||||
| merida1 | macOS 12.7.1 Monterey / x86_64 | OK | OK | WARNINGS | OK | |||||||||||||||||
| kjohnson1 | macOS 13.6.1 Ventura / arm64 | see weekly results here | ||||||||||||||||||||
| Package 3/63 | Hostname | OS / Arch | INSTALL | BUILD | CHECK | BUILD BIN | ||||||||||||||||
| atSNP 1.18.0 (landing page) Sunyoung Shin
| nebbiolo2 | Linux (Ubuntu 22.04.3 LTS) / x86_64 | OK | OK | OK | |||||||||||||||||
| palomino4 | Windows Server 2022 Datacenter / x64 | OK | OK | OK | OK | |||||||||||||||||
| merida1 | macOS 12.7.1 Monterey / x86_64 | OK | OK | OK | OK | |||||||||||||||||
| kjohnson1 | macOS 13.6.1 Ventura / arm64 | see weekly results here | ||||||||||||||||||||
| Package 4/63 | Hostname | OS / Arch | INSTALL | BUILD | CHECK | BUILD BIN | ||||||||||||||||
| autonomics 1.10.2 (landing page) Aditya Bhagwat
| nebbiolo2 | Linux (Ubuntu 22.04.3 LTS) / x86_64 | OK | ERROR | skipped | |||||||||||||||||
| palomino4 | Windows Server 2022 Datacenter / x64 | OK | OK | OK | OK | |||||||||||||||||
| merida1 | macOS 12.7.1 Monterey / x86_64 | OK | ERROR | skipped | skipped | |||||||||||||||||
| kjohnson1 | macOS 13.6.1 Ventura / arm64 | see weekly results here | ||||||||||||||||||||
| Package 5/63 | Hostname | OS / Arch | INSTALL | BUILD | CHECK | BUILD BIN | ||||||||||||||||
| BayesSpace 1.12.0 (landing page) Matt Stone
| nebbiolo2 | Linux (Ubuntu 22.04.3 LTS) / x86_64 | OK | OK | OK | |||||||||||||||||
| palomino4 | Windows Server 2022 Datacenter / x64 | OK | OK | OK | OK | |||||||||||||||||
| merida1 | macOS 12.7.1 Monterey / x86_64 | OK | OK | OK | OK | |||||||||||||||||
| kjohnson1 | macOS 13.6.1 Ventura / arm64 | see weekly results here | ||||||||||||||||||||
| Package 6/63 | Hostname | OS / Arch | INSTALL | BUILD | CHECK | BUILD BIN | ||||||||||||||||
| BiocCheck 1.38.2 (landing page) Marcel Ramos
| nebbiolo2 | Linux (Ubuntu 22.04.3 LTS) / x86_64 | OK | OK | OK | |||||||||||||||||
| palomino4 | Windows Server 2022 Datacenter / x64 | OK | OK | OK | OK | |||||||||||||||||
| merida1 | macOS 12.7.1 Monterey / x86_64 | OK | OK | OK | OK | |||||||||||||||||
| kjohnson1 | macOS 13.6.1 Ventura / arm64 | see weekly results here | ||||||||||||||||||||
| Package 7/63 | Hostname | OS / Arch | INSTALL | BUILD | CHECK | BUILD BIN | ||||||||||||||||
| BiocHail 1.2.0 (landing page) Vincent Carey
| nebbiolo2 | Linux (Ubuntu 22.04.3 LTS) / x86_64 | OK | OK | OK | |||||||||||||||||
| palomino4 | Windows Server 2022 Datacenter / x64 | ... NOT SUPPORTED ... | ||||||||||||||||||||
| merida1 | macOS 12.7.1 Monterey / x86_64 | ... NOT SUPPORTED ... | ||||||||||||||||||||
| kjohnson1 | macOS 13.6.1 Ventura / arm64 | see weekly results here | ||||||||||||||||||||
| Package 8/63 | Hostname | OS / Arch | INSTALL | BUILD | CHECK | BUILD BIN | ||||||||||||||||
| BiocPkgTools 1.20.0 (landing page) Sean Davis
| nebbiolo2 | Linux (Ubuntu 22.04.3 LTS) / x86_64 | OK | OK | OK | |||||||||||||||||
| palomino4 | Windows Server 2022 Datacenter / x64 | OK | OK | OK | OK | |||||||||||||||||
| merida1 | macOS 12.7.1 Monterey / x86_64 | OK | OK | OK | OK | |||||||||||||||||
| kjohnson1 | macOS 13.6.1 Ventura / arm64 | see weekly results here | ||||||||||||||||||||
| Package 9/63 | Hostname | OS / Arch | INSTALL | BUILD | CHECK | BUILD BIN | ||||||||||||||||
| biodb 1.10.0 (landing page) Pierrick Roger
| nebbiolo2 | Linux (Ubuntu 22.04.3 LTS) / x86_64 | OK | OK | WARNINGS | |||||||||||||||||
| palomino4 | Windows Server 2022 Datacenter / x64 | OK | OK | WARNINGS | OK | |||||||||||||||||
| merida1 | macOS 12.7.1 Monterey / x86_64 | OK | OK | OK | OK | |||||||||||||||||
| kjohnson1 | macOS 13.6.1 Ventura / arm64 | see weekly results here | ||||||||||||||||||||
| Package 10/63 | Hostname | OS / Arch | INSTALL | BUILD | CHECK | BUILD BIN | ||||||||||||||||
| biomaRt 2.58.2 (landing page) Mike Smith
| nebbiolo2 | Linux (Ubuntu 22.04.3 LTS) / x86_64 | OK | OK | ERROR | |||||||||||||||||
| palomino4 | Windows Server 2022 Datacenter / x64 | OK | OK | OK | OK | |||||||||||||||||
| merida1 | macOS 12.7.1 Monterey / x86_64 | OK | OK | OK | OK | |||||||||||||||||
| kjohnson1 | macOS 13.6.1 Ventura / arm64 | see weekly results here | ||||||||||||||||||||
| Package 11/63 | Hostname | OS / Arch | INSTALL | BUILD | CHECK | BUILD BIN | ||||||||||||||||
| brendaDb 1.16.0 (landing page) Yi Zhou
| nebbiolo2 | Linux (Ubuntu 22.04.3 LTS) / x86_64 | OK | OK | OK | |||||||||||||||||
| palomino4 | Windows Server 2022 Datacenter / x64 | OK | OK | OK | OK | |||||||||||||||||
| merida1 | macOS 12.7.1 Monterey / x86_64 | OK | OK | OK | OK | |||||||||||||||||
| kjohnson1 | macOS 13.6.1 Ventura / arm64 | see weekly results here | ||||||||||||||||||||
| Package 12/63 | Hostname | OS / Arch | INSTALL | BUILD | CHECK | BUILD BIN | ||||||||||||||||
| bugsigdbr 1.8.4 (landing page) Ludwig Geistlinger
| nebbiolo2 | Linux (Ubuntu 22.04.3 LTS) / x86_64 | OK | OK | OK | |||||||||||||||||
| palomino4 | Windows Server 2022 Datacenter / x64 | OK | OK | OK | OK | |||||||||||||||||
| merida1 | macOS 12.7.1 Monterey / x86_64 | OK | OK | OK | OK | |||||||||||||||||
| kjohnson1 | macOS 13.6.1 Ventura / arm64 | see weekly results here | ||||||||||||||||||||
| Package 13/63 | Hostname | OS / Arch | INSTALL | BUILD | CHECK | BUILD BIN | ||||||||||||||||
| cbaf 1.24.0 (landing page) Arman Shahrisa
| nebbiolo2 | Linux (Ubuntu 22.04.3 LTS) / x86_64 | OK | OK | OK | |||||||||||||||||
| palomino4 | Windows Server 2022 Datacenter / x64 | OK | OK | OK | OK | |||||||||||||||||
| merida1 | macOS 12.7.1 Monterey / x86_64 | OK | OK | OK | OK | |||||||||||||||||
| kjohnson1 | macOS 13.6.1 Ventura / arm64 | see weekly results here | ||||||||||||||||||||
| Package 14/63 | Hostname | OS / Arch | INSTALL | BUILD | CHECK | BUILD BIN | ||||||||||||||||
| cBioPortalData 2.14.2 (landing page) Marcel Ramos
| nebbiolo2 | Linux (Ubuntu 22.04.3 LTS) / x86_64 | OK | OK | OK | |||||||||||||||||
| palomino4 | Windows Server 2022 Datacenter / x64 | OK | OK | OK | OK | |||||||||||||||||
| merida1 | macOS 12.7.1 Monterey / x86_64 | OK | OK | OK | OK | |||||||||||||||||
| kjohnson1 | macOS 13.6.1 Ventura / arm64 | see weekly results here | ||||||||||||||||||||
| Package 15/63 | Hostname | OS / Arch | INSTALL | BUILD | CHECK | BUILD BIN | ||||||||||||||||
| CBNplot 1.2.1 (landing page) Noriaki Sato
| nebbiolo2 | Linux (Ubuntu 22.04.3 LTS) / x86_64 | OK | OK | ERROR | |||||||||||||||||
| palomino4 | Windows Server 2022 Datacenter / x64 | OK | OK | OK | OK | |||||||||||||||||
| merida1 | macOS 12.7.1 Monterey / x86_64 | OK | OK | OK | OK | |||||||||||||||||
| kjohnson1 | macOS 13.6.1 Ventura / arm64 | see weekly results here | ||||||||||||||||||||
| Package 16/63 | Hostname | OS / Arch | INSTALL | BUILD | CHECK | BUILD BIN | ||||||||||||||||
| CellBench 1.18.0 (landing page) Shian Su
| nebbiolo2 | Linux (Ubuntu 22.04.3 LTS) / x86_64 | OK | OK | OK | |||||||||||||||||
| palomino4 | Windows Server 2022 Datacenter / x64 | OK | OK | OK | OK | |||||||||||||||||
| merida1 | macOS 12.7.1 Monterey / x86_64 | OK | OK | OK | OK | |||||||||||||||||
| kjohnson1 | macOS 13.6.1 Ventura / arm64 | see weekly results here | ||||||||||||||||||||
| Package 17/63 | Hostname | OS / Arch | INSTALL | BUILD | CHECK | BUILD BIN | ||||||||||||||||
| CTDquerier 2.10.0 (landing page) Xavier Escribà -Montagut
| nebbiolo2 | Linux (Ubuntu 22.04.3 LTS) / x86_64 | OK | OK | WARNINGS | |||||||||||||||||
| palomino4 | Windows Server 2022 Datacenter / x64 | OK | OK | WARNINGS | OK | |||||||||||||||||
| merida1 | macOS 12.7.1 Monterey / x86_64 | OK | OK | WARNINGS | OK | |||||||||||||||||
| kjohnson1 | macOS 13.6.1 Ventura / arm64 | see weekly results here | ||||||||||||||||||||
| Package 18/63 | Hostname | OS / Arch | INSTALL | BUILD | CHECK | BUILD BIN | ||||||||||||||||
| customCMPdb 1.12.0 (landing page) Yuzhu Duan
| nebbiolo2 | Linux (Ubuntu 22.04.3 LTS) / x86_64 | OK | OK | OK | |||||||||||||||||
| palomino4 | Windows Server 2022 Datacenter / x64 | OK | OK | OK | OK | |||||||||||||||||
| merida1 | macOS 12.7.1 Monterey / x86_64 | OK | OK | OK | OK | |||||||||||||||||
| kjohnson1 | macOS 13.6.1 Ventura / arm64 | see weekly results here | ||||||||||||||||||||
| Package 19/63 | Hostname | OS / Arch | INSTALL | BUILD | CHECK | BUILD BIN | ||||||||||||||||
| CytoPipeline 1.2.0 (landing page) Philippe Hauchamps
| nebbiolo2 | Linux (Ubuntu 22.04.3 LTS) / x86_64 | OK | OK | OK | |||||||||||||||||
| palomino4 | Windows Server 2022 Datacenter / x64 | OK | OK | OK | OK | |||||||||||||||||
| merida1 | macOS 12.7.1 Monterey / x86_64 | OK | OK | OK | OK | |||||||||||||||||
| kjohnson1 | macOS 13.6.1 Ventura / arm64 | see weekly results here | ||||||||||||||||||||
| Package 20/63 | Hostname | OS / Arch | INSTALL | BUILD | CHECK | BUILD BIN | ||||||||||||||||
| drugTargetInteractions 1.10.1 (landing page) Thomas Girke
| nebbiolo2 | Linux (Ubuntu 22.04.3 LTS) / x86_64 | OK | OK | OK | |||||||||||||||||
| palomino4 | Windows Server 2022 Datacenter / x64 | OK | OK | OK | OK | |||||||||||||||||
| merida1 | macOS 12.7.1 Monterey / x86_64 | OK | OK | OK | OK | |||||||||||||||||
| kjohnson1 | macOS 13.6.1 Ventura / arm64 | see weekly results here | ||||||||||||||||||||
| Package 21/63 | Hostname | OS / Arch | INSTALL | BUILD | CHECK | BUILD BIN | ||||||||||||||||
| easylift 1.0.0 (landing page) Abdullah Al Nahid
| nebbiolo2 | Linux (Ubuntu 22.04.3 LTS) / x86_64 | OK | OK | OK | |||||||||||||||||
| palomino4 | Windows Server 2022 Datacenter / x64 | OK | OK | OK | OK | |||||||||||||||||
| merida1 | macOS 12.7.1 Monterey / x86_64 | OK | OK | OK | OK | |||||||||||||||||
| kjohnson1 | macOS 13.6.1 Ventura / arm64 | see weekly results here | ||||||||||||||||||||
| Package 22/63 | Hostname | OS / Arch | INSTALL | BUILD | CHECK | BUILD BIN | ||||||||||||||||
| easyRNASeq 2.38.0 (landing page) Nicolas Delhomme
| nebbiolo2 | Linux (Ubuntu 22.04.3 LTS) / x86_64 | OK | OK | OK | |||||||||||||||||
| palomino4 | Windows Server 2022 Datacenter / x64 | OK | OK | OK | OK | |||||||||||||||||
| merida1 | macOS 12.7.1 Monterey / x86_64 | OK | OK | OK | OK | |||||||||||||||||
| kjohnson1 | macOS 13.6.1 Ventura / arm64 | see weekly results here | ||||||||||||||||||||
| Package 23/63 | Hostname | OS / Arch | INSTALL | BUILD | CHECK | BUILD BIN | ||||||||||||||||
| enhancerHomologSearch 1.8.3 (landing page) Jianhong Ou
| nebbiolo2 | Linux (Ubuntu 22.04.3 LTS) / x86_64 | OK | OK | OK | |||||||||||||||||
| palomino4 | Windows Server 2022 Datacenter / x64 | OK | OK | OK | OK | |||||||||||||||||
| merida1 | macOS 12.7.1 Monterey / x86_64 | OK | OK | OK | OK | |||||||||||||||||
| kjohnson1 | macOS 13.6.1 Ventura / arm64 | see weekly results here | ||||||||||||||||||||
| Package 24/63 | Hostname | OS / Arch | INSTALL | BUILD | CHECK | BUILD BIN | ||||||||||||||||
| EnMCB 1.14.0 (landing page) Xin Yu
| nebbiolo2 | Linux (Ubuntu 22.04.3 LTS) / x86_64 | OK | OK | OK | |||||||||||||||||
| palomino4 | Windows Server 2022 Datacenter / x64 | OK | OK | OK | OK | |||||||||||||||||
| merida1 | macOS 12.7.1 Monterey / x86_64 | OK | OK | OK | OK | |||||||||||||||||
| kjohnson1 | macOS 13.6.1 Ventura / arm64 | see weekly results here | ||||||||||||||||||||
| Package 25/63 | Hostname | OS / Arch | INSTALL | BUILD | CHECK | BUILD BIN | ||||||||||||||||
| EnrichmentBrowser 2.32.0 (landing page) Ludwig Geistlinger
| nebbiolo2 | Linux (Ubuntu 22.04.3 LTS) / x86_64 | OK | OK | OK | |||||||||||||||||
| palomino4 | Windows Server 2022 Datacenter / x64 | OK | OK | OK | OK | |||||||||||||||||
| merida1 | macOS 12.7.1 Monterey / x86_64 | OK | OK | OK | OK | |||||||||||||||||
| kjohnson1 | macOS 13.6.1 Ventura / arm64 | see weekly results here | ||||||||||||||||||||
| Package 26/63 | Hostname | OS / Arch | INSTALL | BUILD | CHECK | BUILD BIN | ||||||||||||||||
| EpiTxDb 1.14.1 (landing page) Felix G.M. Ernst
| nebbiolo2 | Linux (Ubuntu 22.04.3 LTS) / x86_64 | OK | OK | OK | |||||||||||||||||
| palomino4 | Windows Server 2022 Datacenter / x64 | OK | OK | OK | OK | |||||||||||||||||
| merida1 | macOS 12.7.1 Monterey / x86_64 | OK | OK | OK | OK | |||||||||||||||||
| kjohnson1 | macOS 13.6.1 Ventura / arm64 | see weekly results here | ||||||||||||||||||||
| Package 27/63 | Hostname | OS / Arch | INSTALL | BUILD | CHECK | BUILD BIN | ||||||||||||||||
| ExperimentHub 2.10.0 (landing page) Bioconductor Package Maintainer
| nebbiolo2 | Linux (Ubuntu 22.04.3 LTS) / x86_64 | OK | OK | WARNINGS | |||||||||||||||||
| palomino4 | Windows Server 2022 Datacenter / x64 | OK | OK | WARNINGS | OK | |||||||||||||||||
| merida1 | macOS 12.7.1 Monterey / x86_64 | OK | OK | WARNINGS | OK | |||||||||||||||||
| kjohnson1 | macOS 13.6.1 Ventura / arm64 | see weekly results here | ||||||||||||||||||||
| Package 28/63 | Hostname | OS / Arch | INSTALL | BUILD | CHECK | BUILD BIN | ||||||||||||||||
| fenr 1.0.6 (landing page) Marek Gierlinski
| nebbiolo2 | Linux (Ubuntu 22.04.3 LTS) / x86_64 | OK | ERROR | skipped | |||||||||||||||||
| palomino4 | Windows Server 2022 Datacenter / x64 | OK | ERROR | skipped | skipped | |||||||||||||||||
| merida1 | macOS 12.7.1 Monterey / x86_64 | OK | ERROR | skipped | skipped | |||||||||||||||||
| kjohnson1 | macOS 13.6.1 Ventura / arm64 | see weekly results here | ||||||||||||||||||||
| Package 29/63 | Hostname | OS / Arch | INSTALL | BUILD | CHECK | BUILD BIN | ||||||||||||||||
| fgga 1.10.2 (landing page) Flavio Spetale
| nebbiolo2 | Linux (Ubuntu 22.04.3 LTS) / x86_64 | OK | OK | OK | |||||||||||||||||
| palomino4 | Windows Server 2022 Datacenter / x64 | OK | OK | OK | OK | |||||||||||||||||
| merida1 | macOS 12.7.1 Monterey / x86_64 | OK | OK | OK | OK | |||||||||||||||||
| kjohnson1 | macOS 13.6.1 Ventura / arm64 | see weekly results here | ||||||||||||||||||||
| Package 30/63 | Hostname | OS / Arch | INSTALL | BUILD | CHECK | BUILD BIN | ||||||||||||||||
| GenomicScores 2.14.3 (landing page) Robert Castelo
| nebbiolo2 | Linux (Ubuntu 22.04.3 LTS) / x86_64 | OK | OK | OK | |||||||||||||||||
| palomino4 | Windows Server 2022 Datacenter / x64 | OK | OK | OK | OK | |||||||||||||||||
| merida1 | macOS 12.7.1 Monterey / x86_64 | OK | OK | OK | OK | |||||||||||||||||
| kjohnson1 | macOS 13.6.1 Ventura / arm64 | see weekly results here | ||||||||||||||||||||
| Package 31/63 | Hostname | OS / Arch | INSTALL | BUILD | CHECK | BUILD BIN | ||||||||||||||||
| GenomicSuperSignature 1.10.0 (landing page) Sehyun Oh
| nebbiolo2 | Linux (Ubuntu 22.04.3 LTS) / x86_64 | OK | OK | WARNINGS | |||||||||||||||||
| palomino4 | Windows Server 2022 Datacenter / x64 | OK | OK | WARNINGS | OK | |||||||||||||||||
| merida1 | macOS 12.7.1 Monterey / x86_64 | OK | OK | WARNINGS | OK | |||||||||||||||||
| kjohnson1 | macOS 13.6.1 Ventura / arm64 | see weekly results here | ||||||||||||||||||||
| Package 32/63 | Hostname | OS / Arch | INSTALL | BUILD | CHECK | BUILD BIN | ||||||||||||||||
| ggkegg 1.0.13 (landing page) Noriaki Sato
| nebbiolo2 | Linux (Ubuntu 22.04.3 LTS) / x86_64 | OK | OK | OK | |||||||||||||||||
| palomino4 | Windows Server 2022 Datacenter / x64 | OK | OK | OK | OK | |||||||||||||||||
| merida1 | macOS 12.7.1 Monterey / x86_64 | OK | OK | OK | OK | |||||||||||||||||
| kjohnson1 | macOS 13.6.1 Ventura / arm64 | see weekly results here | ||||||||||||||||||||
| Package 33/63 | Hostname | OS / Arch | INSTALL | BUILD | CHECK | BUILD BIN | ||||||||||||||||
| GSEABenchmarkeR 1.22.0 (landing page) Ludwig Geistlinger
| nebbiolo2 | Linux (Ubuntu 22.04.3 LTS) / x86_64 | OK | OK | OK | |||||||||||||||||
| palomino4 | Windows Server 2022 Datacenter / x64 | OK | OK | OK | OK | |||||||||||||||||
| merida1 | macOS 12.7.1 Monterey / x86_64 | OK | OK | OK | OK | |||||||||||||||||
| kjohnson1 | macOS 13.6.1 Ventura / arm64 | see weekly results here | ||||||||||||||||||||
| Package 34/63 | Hostname | OS / Arch | INSTALL | BUILD | CHECK | BUILD BIN | ||||||||||||||||
| gwascat 2.34.0 (landing page) VJ Carey
| nebbiolo2 | Linux (Ubuntu 22.04.3 LTS) / x86_64 | OK | OK | OK | |||||||||||||||||
| palomino4 | Windows Server 2022 Datacenter / x64 | OK | OK | OK | OK | |||||||||||||||||
| merida1 | macOS 12.7.1 Monterey / x86_64 | OK | OK | OK | OK | |||||||||||||||||
| kjohnson1 | macOS 13.6.1 Ventura / arm64 | see weekly results here | ||||||||||||||||||||
| Package 35/63 | Hostname | OS / Arch | INSTALL | BUILD | CHECK | BUILD BIN | ||||||||||||||||
| hca 1.10.1 (landing page) Martin Morgan
| nebbiolo2 | Linux (Ubuntu 22.04.3 LTS) / x86_64 | OK | OK | OK | |||||||||||||||||
| palomino4 | Windows Server 2022 Datacenter / x64 | OK | OK | OK | OK | |||||||||||||||||
| merida1 | macOS 12.7.1 Monterey / x86_64 | OK | OK | OK | OK | |||||||||||||||||
| kjohnson1 | macOS 13.6.1 Ventura / arm64 | see weekly results here | ||||||||||||||||||||
| Package 36/63 | Hostname | OS / Arch | INSTALL | BUILD | CHECK | BUILD BIN | ||||||||||||||||
| iSEEindex 1.0.0 (landing page) Kevin Rue-Albrecht
| nebbiolo2 | Linux (Ubuntu 22.04.3 LTS) / x86_64 | OK | OK | OK | |||||||||||||||||
| palomino4 | Windows Server 2022 Datacenter / x64 | OK | OK | OK | OK | |||||||||||||||||
| merida1 | macOS 12.7.1 Monterey / x86_64 | OK | OK | OK | OK | |||||||||||||||||
| kjohnson1 | macOS 13.6.1 Ventura / arm64 | see weekly results here | ||||||||||||||||||||
| Package 37/63 | Hostname | OS / Arch | INSTALL | BUILD | CHECK | BUILD BIN | ||||||||||||||||
| MBQN 2.14.0 (landing page) Eva Brombacher
| nebbiolo2 | Linux (Ubuntu 22.04.3 LTS) / x86_64 | OK | OK | OK | |||||||||||||||||
| palomino4 | Windows Server 2022 Datacenter / x64 | OK | OK | OK | OK | |||||||||||||||||
| merida1 | macOS 12.7.1 Monterey / x86_64 | OK | OK | OK | OK | |||||||||||||||||
| kjohnson1 | macOS 13.6.1 Ventura / arm64 | see weekly results here | ||||||||||||||||||||
| Package 38/63 | Hostname | OS / Arch | INSTALL | BUILD | CHECK | BUILD BIN | ||||||||||||||||
| netDx 1.14.0 (landing page) Shraddha Pai
| nebbiolo2 | Linux (Ubuntu 22.04.3 LTS) / x86_64 | OK | OK | TIMEOUT | |||||||||||||||||
| palomino4 | Windows Server 2022 Datacenter / x64 | ... NOT SUPPORTED ... | ||||||||||||||||||||
| merida1 | macOS 12.7.1 Monterey / x86_64 | OK | ERROR | skipped | skipped | |||||||||||||||||
| kjohnson1 | macOS 13.6.1 Ventura / arm64 | see weekly results here | ||||||||||||||||||||
| Package 39/63 | Hostname | OS / Arch | INSTALL | BUILD | CHECK | BUILD BIN | ||||||||||||||||
| ontoProc 1.24.0 (landing page) Vincent Carey
| nebbiolo2 | Linux (Ubuntu 22.04.3 LTS) / x86_64 | OK | OK | OK | |||||||||||||||||
| palomino4 | Windows Server 2022 Datacenter / x64 | OK | OK | OK | OK | |||||||||||||||||
| merida1 | macOS 12.7.1 Monterey / x86_64 | OK | OK | OK | OK | |||||||||||||||||
| kjohnson1 | macOS 13.6.1 Ventura / arm64 | see weekly results here | ||||||||||||||||||||
| Package 40/63 | Hostname | OS / Arch | INSTALL | BUILD | CHECK | BUILD BIN | ||||||||||||||||
| Organism.dplyr 1.30.1 (landing page) Martin Morgan
| nebbiolo2 | Linux (Ubuntu 22.04.3 LTS) / x86_64 | OK | OK | OK | |||||||||||||||||
| palomino4 | Windows Server 2022 Datacenter / x64 | OK | OK | OK | OK | |||||||||||||||||
| merida1 | macOS 12.7.1 Monterey / x86_64 | OK | OK | OK | OK | |||||||||||||||||
| kjohnson1 | macOS 13.6.1 Ventura / arm64 | see weekly results here | ||||||||||||||||||||
| Package 41/63 | Hostname | OS / Arch | INSTALL | BUILD | CHECK | BUILD BIN | ||||||||||||||||
| PhIPData 1.10.0 (landing page) Athena Chen
| nebbiolo2 | Linux (Ubuntu 22.04.3 LTS) / x86_64 | OK | OK | ERROR | |||||||||||||||||
| palomino4 | Windows Server 2022 Datacenter / x64 | OK | OK | OK | OK | |||||||||||||||||
| merida1 | macOS 12.7.1 Monterey / x86_64 | OK | OK | OK | OK | |||||||||||||||||
| kjohnson1 | macOS 13.6.1 Ventura / arm64 | see weekly results here | ||||||||||||||||||||
| Package 42/63 | Hostname | OS / Arch | INSTALL | BUILD | CHECK | BUILD BIN | ||||||||||||||||
| psichomics 1.28.1 (landing page) Nuno Saraiva-Agostinho
| nebbiolo2 | Linux (Ubuntu 22.04.3 LTS) / x86_64 | OK | OK | OK | |||||||||||||||||
| palomino4 | Windows Server 2022 Datacenter / x64 | OK | OK | OK | OK | |||||||||||||||||
| merida1 | macOS 12.7.1 Monterey / x86_64 | OK | ERROR | skipped | skipped | |||||||||||||||||
| kjohnson1 | macOS 13.6.1 Ventura / arm64 | see weekly results here | ||||||||||||||||||||
| Package 43/63 | Hostname | OS / Arch | INSTALL | BUILD | CHECK | BUILD BIN | ||||||||||||||||
| RcwlPipelines 1.18.1 (landing page) Qiang Hu
| nebbiolo2 | Linux (Ubuntu 22.04.3 LTS) / x86_64 | OK | OK | OK | |||||||||||||||||
| palomino4 | Windows Server 2022 Datacenter / x64 | ... NOT SUPPORTED ... | ||||||||||||||||||||
| merida1 | macOS 12.7.1 Monterey / x86_64 | OK | OK | OK | OK | |||||||||||||||||
| kjohnson1 | macOS 13.6.1 Ventura / arm64 | see weekly results here | ||||||||||||||||||||
| Package 44/63 | Hostname | OS / Arch | INSTALL | BUILD | CHECK | BUILD BIN | ||||||||||||||||
| recount3 1.12.0 (landing page) Leonardo Collado-Torres
| nebbiolo2 | Linux (Ubuntu 22.04.3 LTS) / x86_64 | OK | OK | OK | |||||||||||||||||
| palomino4 | Windows Server 2022 Datacenter / x64 | OK | OK | OK | OK | |||||||||||||||||
| merida1 | macOS 12.7.1 Monterey / x86_64 | OK | OK | OK | OK | |||||||||||||||||
| kjohnson1 | macOS 13.6.1 Ventura / arm64 | see weekly results here | ||||||||||||||||||||
| Package 45/63 | Hostname | OS / Arch | INSTALL | BUILD | CHECK | BUILD BIN | ||||||||||||||||
| recountmethylation 1.12.0 (landing page) Sean K Maden
| nebbiolo2 | Linux (Ubuntu 22.04.3 LTS) / x86_64 | OK | OK | WARNINGS | |||||||||||||||||
| palomino4 | Windows Server 2022 Datacenter / x64 | OK | OK | OK | OK | |||||||||||||||||
| merida1 | macOS 12.7.1 Monterey / x86_64 | OK | OK | OK | OK | |||||||||||||||||
| kjohnson1 | macOS 13.6.1 Ventura / arm64 | see weekly results here | ||||||||||||||||||||
| Package 46/63 | Hostname | OS / Arch | INSTALL | BUILD | CHECK | BUILD BIN | ||||||||||||||||
| regutools 1.14.0 (landing page) Joselyn Chavez
| nebbiolo2 | Linux (Ubuntu 22.04.3 LTS) / x86_64 | OK | OK | OK | |||||||||||||||||
| palomino4 | Windows Server 2022 Datacenter / x64 | OK | OK | OK | OK | |||||||||||||||||
| merida1 | macOS 12.7.1 Monterey / x86_64 | OK | OK | OK | OK | |||||||||||||||||
| kjohnson1 | macOS 13.6.1 Ventura / arm64 | see weekly results here | ||||||||||||||||||||
| Package 47/63 | Hostname | OS / Arch | INSTALL | BUILD | CHECK | BUILD BIN | ||||||||||||||||
| ReUseData 1.2.2 (landing page) Qian Liu
| nebbiolo2 | Linux (Ubuntu 22.04.3 LTS) / x86_64 | OK | OK | OK | |||||||||||||||||
| palomino4 | Windows Server 2022 Datacenter / x64 | ... NOT SUPPORTED ... | ||||||||||||||||||||
| merida1 | macOS 12.7.1 Monterey / x86_64 | OK | OK | OK | OK | |||||||||||||||||
| kjohnson1 | macOS 13.6.1 Ventura / arm64 | see weekly results here | ||||||||||||||||||||
| Package 48/63 | Hostname | OS / Arch | INSTALL | BUILD | CHECK | BUILD BIN | ||||||||||||||||
| RiboDiPA 1.10.0 (landing page) Ji-Ping Wang
| nebbiolo2 | Linux (Ubuntu 22.04.3 LTS) / x86_64 | OK | OK | OK | |||||||||||||||||
| palomino4 | Windows Server 2022 Datacenter / x64 | OK | OK | OK | OK | |||||||||||||||||
| merida1 | macOS 12.7.1 Monterey / x86_64 | OK | OK | OK | OK | |||||||||||||||||
| kjohnson1 | macOS 13.6.1 Ventura / arm64 | see weekly results here | ||||||||||||||||||||
| Package 49/63 | Hostname | OS / Arch | INSTALL | BUILD | CHECK | BUILD BIN | ||||||||||||||||
| rpx 2.10.0 (landing page) Laurent Gatto
| nebbiolo2 | Linux (Ubuntu 22.04.3 LTS) / x86_64 | OK | OK | OK | |||||||||||||||||
| palomino4 | Windows Server 2022 Datacenter / x64 | OK | OK | OK | OK | |||||||||||||||||
| merida1 | macOS 12.7.1 Monterey / x86_64 | OK | OK | OK | OK | |||||||||||||||||
| kjohnson1 | macOS 13.6.1 Ventura / arm64 | see weekly results here | ||||||||||||||||||||
| Package 50/63 | Hostname | OS / Arch | INSTALL | BUILD | CHECK | BUILD BIN | ||||||||||||||||
| scviR 1.2.0 (landing page) Vincent Carey
| nebbiolo2 | Linux (Ubuntu 22.04.3 LTS) / x86_64 | OK | OK | OK | |||||||||||||||||
| palomino4 | Windows Server 2022 Datacenter / x64 | ... NOT SUPPORTED ... | ||||||||||||||||||||
| merida1 | macOS 12.7.1 Monterey / x86_64 | OK | ERROR | skipped | skipped | |||||||||||||||||
| kjohnson1 | macOS 13.6.1 Ventura / arm64 | see weekly results here | ||||||||||||||||||||
| Package 51/63 | Hostname | OS / Arch | INSTALL | BUILD | CHECK | BUILD BIN | ||||||||||||||||
| sesame 1.20.0 (landing page) Wanding Zhou
| nebbiolo2 | Linux (Ubuntu 22.04.3 LTS) / x86_64 | OK | OK | OK | |||||||||||||||||
| palomino4 | Windows Server 2022 Datacenter / x64 | OK | OK | OK | OK | |||||||||||||||||
| merida1 | macOS 12.7.1 Monterey / x86_64 | OK | OK | OK | OK | |||||||||||||||||
| kjohnson1 | macOS 13.6.1 Ventura / arm64 | see weekly results here | ||||||||||||||||||||
| Package 52/63 | Hostname | OS / Arch | INSTALL | BUILD | CHECK | BUILD BIN | ||||||||||||||||
| signeR 2.4.0 (landing page) Renan Valieris
| nebbiolo2 | Linux (Ubuntu 22.04.3 LTS) / x86_64 | OK | OK | OK | |||||||||||||||||
| palomino4 | Windows Server 2022 Datacenter / x64 | OK | OK | OK | OK | |||||||||||||||||
| merida1 | macOS 12.7.1 Monterey / x86_64 | OK | OK | OK | OK | |||||||||||||||||
| kjohnson1 | macOS 13.6.1 Ventura / arm64 | see weekly results here | ||||||||||||||||||||
| Package 53/63 | Hostname | OS / Arch | INSTALL | BUILD | CHECK | BUILD BIN | ||||||||||||||||
| SpatialExperiment 1.12.0 (landing page) Dario Righelli
| nebbiolo2 | Linux (Ubuntu 22.04.3 LTS) / x86_64 | OK | OK | ERROR | |||||||||||||||||
| palomino4 | Windows Server 2022 Datacenter / x64 | OK | OK | OK | OK | |||||||||||||||||
| merida1 | macOS 12.7.1 Monterey / x86_64 | OK | OK | OK | OK | |||||||||||||||||
| kjohnson1 | macOS 13.6.1 Ventura / arm64 | see weekly results here | ||||||||||||||||||||
| Package 54/63 | Hostname | OS / Arch | INSTALL | BUILD | CHECK | BUILD BIN | ||||||||||||||||
| SpatialOmicsOverlay 1.2.1 (landing page) Maddy Griswold
| nebbiolo2 | Linux (Ubuntu 22.04.3 LTS) / x86_64 | OK | OK | OK | |||||||||||||||||
| palomino4 | Windows Server 2022 Datacenter / x64 | OK | OK | OK | OK | |||||||||||||||||
| merida1 | macOS 12.7.1 Monterey / x86_64 | OK | OK | OK | OK | |||||||||||||||||
| kjohnson1 | macOS 13.6.1 Ventura / arm64 | see weekly results here | ||||||||||||||||||||
| Package 55/63 | Hostname | OS / Arch | INSTALL | BUILD | CHECK | BUILD BIN | ||||||||||||||||
| SpliceWiz 1.4.1 (landing page) Alex Chit Hei Wong
| nebbiolo2 | Linux (Ubuntu 22.04.3 LTS) / x86_64 | OK | OK | OK | |||||||||||||||||
| palomino4 | Windows Server 2022 Datacenter / x64 | OK | OK | OK | OK | |||||||||||||||||
| merida1 | macOS 12.7.1 Monterey / x86_64 | OK | OK | OK | OK | |||||||||||||||||
| kjohnson1 | macOS 13.6.1 Ventura / arm64 | see weekly results here | ||||||||||||||||||||
| Package 56/63 | Hostname | OS / Arch | INSTALL | BUILD | CHECK | BUILD BIN | ||||||||||||||||
| terraTCGAdata 1.6.0 (landing page) Marcel Ramos
| nebbiolo2 | Linux (Ubuntu 22.04.3 LTS) / x86_64 | OK | OK | OK | |||||||||||||||||
| palomino4 | Windows Server 2022 Datacenter / x64 | OK | OK | OK | OK | |||||||||||||||||
| merida1 | macOS 12.7.1 Monterey / x86_64 | OK | OK | OK | OK | |||||||||||||||||
| kjohnson1 | macOS 13.6.1 Ventura / arm64 | see weekly results here | ||||||||||||||||||||
| Package 57/63 | Hostname | OS / Arch | INSTALL | BUILD | CHECK | BUILD BIN | ||||||||||||||||
| TFutils 1.22.0 (landing page) Vincent Carey
| nebbiolo2 | Linux (Ubuntu 22.04.3 LTS) / x86_64 | OK | OK | OK | |||||||||||||||||
| palomino4 | Windows Server 2022 Datacenter / x64 | OK | OK | OK | OK | |||||||||||||||||
| merida1 | macOS 12.7.1 Monterey / x86_64 | OK | OK | OK | OK | |||||||||||||||||
| kjohnson1 | macOS 13.6.1 Ventura / arm64 | see weekly results here | ||||||||||||||||||||
| Package 58/63 | Hostname | OS / Arch | INSTALL | BUILD | CHECK | BUILD BIN | ||||||||||||||||
| tomoseqr 1.6.0 (landing page) Ryosuke Matsuzawa
| nebbiolo2 | Linux (Ubuntu 22.04.3 LTS) / x86_64 | OK | OK | OK | |||||||||||||||||
| palomino4 | Windows Server 2022 Datacenter / x64 | OK | OK | OK | OK | |||||||||||||||||
| merida1 | macOS 12.7.1 Monterey / x86_64 | OK | OK | OK | OK | |||||||||||||||||
| kjohnson1 | macOS 13.6.1 Ventura / arm64 | see weekly results here | ||||||||||||||||||||
| Package 59/63 | Hostname | OS / Arch | INSTALL | BUILD | CHECK | BUILD BIN | ||||||||||||||||
| tximeta 1.20.3 (landing page) Michael Love
| nebbiolo2 | Linux (Ubuntu 22.04.3 LTS) / x86_64 | OK | OK | OK | |||||||||||||||||
| palomino4 | Windows Server 2022 Datacenter / x64 | OK | OK | OK | OK | |||||||||||||||||
| merida1 | macOS 12.7.1 Monterey / x86_64 | OK | OK | OK | OK | |||||||||||||||||
| kjohnson1 | macOS 13.6.1 Ventura / arm64 | see weekly results here | ||||||||||||||||||||
| Package 60/63 | Hostname | OS / Arch | INSTALL | BUILD | CHECK | BUILD BIN | ||||||||||||||||
| UMI4Cats 1.12.0 (landing page) Mireia Ramos-Rodriguez
| nebbiolo2 | Linux (Ubuntu 22.04.3 LTS) / x86_64 | OK | OK | ERROR | |||||||||||||||||
| palomino4 | Windows Server 2022 Datacenter / x64 | OK | OK | OK | OK | |||||||||||||||||
| merida1 | macOS 12.7.1 Monterey / x86_64 | OK | OK | OK | OK | |||||||||||||||||
| kjohnson1 | macOS 13.6.1 Ventura / arm64 | see weekly results here | ||||||||||||||||||||
| Package 61/63 | Hostname | OS / Arch | INSTALL | BUILD | CHECK | BUILD BIN | ||||||||||||||||
| uncoverappLib 1.12.0 (landing page) Emanuela Iovino
| nebbiolo2 | Linux (Ubuntu 22.04.3 LTS) / x86_64 | OK | OK | OK | |||||||||||||||||
| palomino4 | Windows Server 2022 Datacenter / x64 | OK | OK | OK | OK | |||||||||||||||||
| merida1 | macOS 12.7.1 Monterey / x86_64 | OK | OK | OK | OK | |||||||||||||||||
| kjohnson1 | macOS 13.6.1 Ventura / arm64 | see weekly results here | ||||||||||||||||||||
| Package 62/63 | Hostname | OS / Arch | INSTALL | BUILD | CHECK | BUILD BIN | ||||||||||||||||
| UniProt.ws 2.42.0 (landing page) Marcel Ramos
| nebbiolo2 | Linux (Ubuntu 22.04.3 LTS) / x86_64 | OK | OK | OK | |||||||||||||||||
| palomino4 | Windows Server 2022 Datacenter / x64 | OK | OK | OK | OK | |||||||||||||||||
| merida1 | macOS 12.7.1 Monterey / x86_64 | OK | OK | OK | OK | |||||||||||||||||
| kjohnson1 | macOS 13.6.1 Ventura / arm64 | see weekly results here | ||||||||||||||||||||
| Package 63/63 | Hostname | OS / Arch | INSTALL | BUILD | CHECK | BUILD BIN | ||||||||||||||||
| waddR 1.16.0 (landing page) Julian Flesch
| nebbiolo2 | Linux (Ubuntu 22.04.3 LTS) / x86_64 | OK | OK | OK | |||||||||||||||||
| palomino4 | Windows Server 2022 Datacenter / x64 | OK | OK | ERROR | OK | |||||||||||||||||
| merida1 | macOS 12.7.1 Monterey / x86_64 | OK | ERROR | skipped | skipped | |||||||||||||||||
| kjohnson1 | macOS 13.6.1 Ventura / arm64 | see weekly results here | ||||||||||||||||||||