| Back to Multiple platform build/check report for BioC 3.18: simplified long |
|
This page was generated on 2024-04-17 11:38:14 -0400 (Wed, 17 Apr 2024).
| Hostname | OS | Arch (*) | R version | Installed pkgs |
|---|---|---|---|---|
| nebbiolo2 | Linux (Ubuntu 22.04.3 LTS) | x86_64 | 4.3.3 (2024-02-29) -- "Angel Food Cake" | 4676 |
| palomino4 | Windows Server 2022 Datacenter | x64 | 4.3.3 (2024-02-29 ucrt) -- "Angel Food Cake" | 4414 |
| merida1 | macOS 12.7.1 Monterey | x86_64 | 4.3.3 (2024-02-29) -- "Angel Food Cake" | 4437 |
| Click on any hostname to see more info about the system (e.g. compilers) (*) as reported by 'uname -p', except on Windows and Mac OS X | ||||
| Package 1934/2266 | Hostname | OS / Arch | INSTALL | BUILD | CHECK | BUILD BIN | ||||||||
| sesame 1.20.0 (landing page) Wanding Zhou
| nebbiolo2 | Linux (Ubuntu 22.04.3 LTS) / x86_64 | OK | OK | OK | |||||||||
| palomino4 | Windows Server 2022 Datacenter / x64 | OK | OK | OK | OK | |||||||||
| merida1 | macOS 12.7.1 Monterey / x86_64 | OK | OK | OK | OK | |||||||||
| kjohnson1 | macOS 13.6.1 Ventura / arm64 | see weekly results here | ||||||||||||
|
To the developers/maintainers of the sesame package: - Allow up to 24 hours (and sometimes 48 hours) for your latest push to git@git.bioconductor.org:packages/sesame.git to reflect on this report. See Troubleshooting Build Report for more information. - Use the following Renviron settings to reproduce errors and warnings. - If 'R CMD check' started to fail recently on the Linux builder(s) over a missing dependency, add the missing dependency to 'Suggests:' in your DESCRIPTION file. See Renviron.bioc for more information. |
| Package: sesame |
| Version: 1.20.0 |
| Command: /Library/Frameworks/R.framework/Resources/bin/R CMD check --install=check:sesame.install-out.txt --library=/Library/Frameworks/R.framework/Resources/library --no-vignettes --timings sesame_1.20.0.tar.gz |
| StartedAt: 2024-04-16 08:51:19 -0400 (Tue, 16 Apr 2024) |
| EndedAt: 2024-04-16 09:19:43 -0400 (Tue, 16 Apr 2024) |
| EllapsedTime: 1703.8 seconds |
| RetCode: 0 |
| Status: OK |
| CheckDir: sesame.Rcheck |
| Warnings: 0 |
##############################################################################
##############################################################################
###
### Running command:
###
### /Library/Frameworks/R.framework/Resources/bin/R CMD check --install=check:sesame.install-out.txt --library=/Library/Frameworks/R.framework/Resources/library --no-vignettes --timings sesame_1.20.0.tar.gz
###
##############################################################################
##############################################################################
* using log directory ‘/Users/biocbuild/bbs-3.18-bioc/meat/sesame.Rcheck’
* using R version 4.3.3 (2024-02-29)
* using platform: x86_64-apple-darwin20 (64-bit)
* R was compiled by
Apple clang version 14.0.0 (clang-1400.0.29.202)
GNU Fortran (GCC) 12.2.0
* running under: macOS Monterey 12.7.1
* using session charset: UTF-8
* using option ‘--no-vignettes’
* checking for file ‘sesame/DESCRIPTION’ ... OK
* checking extension type ... Package
* this is package ‘sesame’ version ‘1.20.0’
* package encoding: UTF-8
* checking package namespace information ... OK
* checking package dependencies ... OK
* checking if this is a source package ... OK
* checking if there is a namespace ... OK
* checking for hidden files and directories ... OK
* checking for portable file names ... OK
* checking for sufficient/correct file permissions ... OK
* checking whether package ‘sesame’ can be installed ... OK
* checking installed package size ... OK
* checking package directory ... OK
* checking ‘build’ directory ... OK
* checking DESCRIPTION meta-information ... OK
* checking top-level files ... OK
* checking for left-over files ... OK
* checking index information ... OK
* checking package subdirectories ... OK
* checking R files for non-ASCII characters ... OK
* checking R files for syntax errors ... OK
* checking whether the package can be loaded ... OK
* checking whether the package can be loaded with stated dependencies ... OK
* checking whether the package can be unloaded cleanly ... OK
* checking whether the namespace can be loaded with stated dependencies ... OK
* checking whether the namespace can be unloaded cleanly ... OK
* checking startup messages can be suppressed ... OK
* checking dependencies in R code ... OK
* checking S3 generic/method consistency ... OK
* checking replacement functions ... OK
* checking foreign function calls ... OK
* checking R code for possible problems ... OK
* checking Rd files ... OK
* checking Rd metadata ... OK
* checking Rd cross-references ... OK
* checking for missing documentation entries ... OK
* checking for code/documentation mismatches ... OK
* checking Rd \usage sections ... OK
* checking Rd contents ... OK
* checking for unstated dependencies in examples ... OK
* checking files in ‘vignettes’ ... OK
* checking examples ... OK
Examples with CPU (user + system) or elapsed time > 5s
user system elapsed
testEnrichmentGene 175.243 7.356 196.168
sesameQC_calcStats 35.500 1.511 38.794
KYCG_plotMeta 33.043 1.225 36.879
KYCG_plotEnrichAll 29.863 1.509 33.709
sesameQC_plotHeatSNPs 28.876 1.964 32.417
compareMouseStrainReference 29.546 0.581 32.098
compareReference 26.005 0.778 28.387
ELBAR 21.755 3.220 25.825
matchDesign 23.773 0.953 25.910
inferSpecies 23.782 0.919 26.373
KYCG_annoProbes 22.294 0.975 25.114
diffRefSet 21.319 0.683 23.155
convertTo 20.780 0.775 22.628
sesameQC_plotBar 19.703 0.476 21.677
testEnrichmentSEA 18.667 1.071 21.108
sesameQC_plotBetaByDesign 17.587 1.490 20.213
getRefSet 18.382 0.621 23.090
DML 16.521 1.719 19.227
KYCG_plotMetaEnrichment 17.250 0.799 20.092
inferTissue 16.141 1.468 18.750
KYCG_buildGeneDBs 15.867 0.598 17.649
visualizeGene 15.817 0.583 18.107
sdf_read_table 14.756 0.845 21.661
DMR 14.262 0.429 15.082
getSexInfo 13.790 0.599 15.183
inferStrain 13.229 0.881 14.722
deidentify 13.479 0.481 14.680
dbStats 11.699 0.940 13.543
reIdentify 12.002 0.406 13.158
createUCSCtrack 11.338 0.411 12.562
dyeBiasNL 10.291 0.664 11.593
estimateLeukocyte 10.075 0.600 11.411
KYCG_plotSetEnrichment 9.479 0.597 10.840
probeSuccessRate 9.103 0.611 10.721
openSesame 9.103 0.571 10.391
dyeBiasCorrMostBalanced 9.222 0.342 10.433
testEnrichment 8.412 0.905 9.695
getMask 8.133 0.533 9.471
inferSex 7.775 0.477 8.690
bisConversionControl 7.496 0.345 8.324
visualizeProbes 7.388 0.211 8.310
KYCG_plotWaterfall 6.592 0.262 7.220
scrubSoft 5.544 0.839 6.609
print.DMLSummary 5.242 1.137 7.061
prepSesame 6.154 0.171 6.769
sesameQC_rankStats 5.327 0.538 6.232
KYCG_plotPointRange 5.291 0.259 6.580
sdf_write_table 5.164 0.383 8.659
parseGEOsignalMU 5.082 0.461 6.008
inferSexKaryotypes 5.016 0.289 5.611
totalIntensities 4.901 0.396 5.943
updateSigDF 4.914 0.355 5.984
detectionPnegEcdf 4.969 0.179 5.444
mapToMammal40 4.752 0.385 5.470
checkLevels 4.449 0.535 5.415
qualityMask 4.608 0.339 5.447
KYCG_getDBs 4.544 0.374 5.213
dyeBiasCorr 4.496 0.330 5.383
summaryExtractTest 4.065 0.743 5.301
meanIntensity 4.372 0.284 5.529
sesame-package 4.060 0.537 5.114
* checking for unstated dependencies in ‘tests’ ... OK
* checking tests ...
Running ‘testthat.R’
OK
* checking for unstated dependencies in vignettes ... OK
* checking package vignettes in ‘inst/doc’ ... OK
* checking running R code from vignettes ... SKIPPED
* checking re-building of vignette outputs ... SKIPPED
* checking PDF version of manual ... OK
* DONE
Status: OK
sesame.Rcheck/00install.out
############################################################################## ############################################################################## ### ### Running command: ### ### /Library/Frameworks/R.framework/Resources/bin/R CMD INSTALL sesame ### ############################################################################## ############################################################################## * installing to library ‘/Library/Frameworks/R.framework/Versions/4.3-x86_64/Resources/library’ * installing *source* package ‘sesame’ ... ** using staged installation ** R ** inst ** byte-compile and prepare package for lazy loading ** help *** installing help indices ** building package indices ** installing vignettes ** testing if installed package can be loaded from temporary location ** testing if installed package can be loaded from final location ** testing if installed package keeps a record of temporary installation path * DONE (sesame)
sesame.Rcheck/tests/testthat.Rout
R version 4.3.3 (2024-02-29) -- "Angel Food Cake"
Copyright (C) 2024 The R Foundation for Statistical Computing
Platform: x86_64-apple-darwin20 (64-bit)
R is free software and comes with ABSOLUTELY NO WARRANTY.
You are welcome to redistribute it under certain conditions.
Type 'license()' or 'licence()' for distribution details.
R is a collaborative project with many contributors.
Type 'contributors()' for more information and
'citation()' on how to cite R or R packages in publications.
Type 'demo()' for some demos, 'help()' for on-line help, or
'help.start()' for an HTML browser interface to help.
Type 'q()' to quit R.
> library(testthat)
> library(sesame)
Loading required package: sesameData
Loading required package: ExperimentHub
Loading required package: BiocGenerics
Attaching package: 'BiocGenerics'
The following objects are masked from 'package:stats':
IQR, mad, sd, var, xtabs
The following objects are masked from 'package:base':
Filter, Find, Map, Position, Reduce, anyDuplicated, aperm, append,
as.data.frame, basename, cbind, colnames, dirname, do.call,
duplicated, eval, evalq, get, grep, grepl, intersect, is.unsorted,
lapply, mapply, match, mget, order, paste, pmax, pmax.int, pmin,
pmin.int, rank, rbind, rownames, sapply, setdiff, sort, table,
tapply, union, unique, unsplit, which.max, which.min
Loading required package: AnnotationHub
Loading required package: BiocFileCache
Loading required package: dbplyr
Loading sesameData.
----------------------------------------------------------
| SEnsible Step-wise Analysis of DNA MEthylation (SeSAMe)
| --------------------------------------------------------
| Please cache auxiliary data by "sesameDataCache()".
| This needs to be done only once per SeSAMe installation.
----------------------------------------------------------
>
> test_check("sesame")
[ FAIL 0 | WARN 0 | SKIP 0 | PASS 1 ]
>
> proc.time()
user system elapsed
35.098 2.797 39.710
sesame.Rcheck/sesame-Ex.timings
| name | user | system | elapsed | |
| BetaValueToMValue | 0.000 | 0.000 | 0.001 | |
| DML | 16.521 | 1.719 | 19.227 | |
| DMLpredict | 2.294 | 0.158 | 2.538 | |
| DMR | 14.262 | 0.429 | 15.082 | |
| ELBAR | 21.755 | 3.220 | 25.825 | |
| KYCG_annoProbes | 22.294 | 0.975 | 25.114 | |
| KYCG_buildGeneDBs | 15.867 | 0.598 | 17.649 | |
| KYCG_getDBs | 4.544 | 0.374 | 5.213 | |
| KYCG_listDBGroups | 0.056 | 0.006 | 0.065 | |
| KYCG_loadDBs | 0.000 | 0.001 | 0.001 | |
| KYCG_plotBar | 0.392 | 0.043 | 0.460 | |
| KYCG_plotDot | 1.066 | 0.143 | 1.320 | |
| KYCG_plotEnrichAll | 29.863 | 1.509 | 33.709 | |
| KYCG_plotLollipop | 0.369 | 0.008 | 0.456 | |
| KYCG_plotManhattan | 1.498 | 0.286 | 1.896 | |
| KYCG_plotMeta | 33.043 | 1.225 | 36.879 | |
| KYCG_plotMetaEnrichment | 17.250 | 0.799 | 20.092 | |
| KYCG_plotPointRange | 5.291 | 0.259 | 6.580 | |
| KYCG_plotSetEnrichment | 9.479 | 0.597 | 10.840 | |
| KYCG_plotVolcano | 0.309 | 0.006 | 0.332 | |
| KYCG_plotWaterfall | 6.592 | 0.262 | 7.220 | |
| MValueToBetaValue | 0.000 | 0.001 | 0.001 | |
| SigDF | 0.543 | 0.073 | 0.691 | |
| addMask | 0.147 | 0.001 | 0.153 | |
| aggregateTestEnrichments | 2.685 | 0.054 | 2.989 | |
| betasCollapseToPfx | 0.004 | 0.001 | 0.005 | |
| bisConversionControl | 7.496 | 0.345 | 8.324 | |
| calcEffectSize | 2.055 | 0.158 | 2.378 | |
| checkLevels | 4.449 | 0.535 | 5.415 | |
| cnSegmentation | 0.556 | 0.097 | 0.828 | |
| compareMouseStrainReference | 29.546 | 0.581 | 32.098 | |
| compareMouseTissueReference | 0.000 | 0.001 | 0.000 | |
| compareReference | 26.005 | 0.778 | 28.387 | |
| controls | 3.538 | 0.306 | 4.234 | |
| convertTo | 20.780 | 0.775 | 22.628 | |
| createUCSCtrack | 11.338 | 0.411 | 12.562 | |
| dataFrame2sesameQC | 1.957 | 0.187 | 2.440 | |
| dbStats | 11.699 | 0.940 | 13.543 | |
| deidentify | 13.479 | 0.481 | 14.680 | |
| detectionPnegEcdf | 4.969 | 0.179 | 5.444 | |
| diffRefSet | 21.319 | 0.683 | 23.155 | |
| dmContrasts | 3.166 | 0.451 | 3.854 | |
| dyeBiasCorr | 4.496 | 0.330 | 5.383 | |
| dyeBiasCorrMostBalanced | 9.222 | 0.342 | 10.433 | |
| dyeBiasL | 2.613 | 0.159 | 2.937 | |
| dyeBiasNL | 10.291 | 0.664 | 11.593 | |
| estimateLeukocyte | 10.075 | 0.600 | 11.411 | |
| formatVCF | 3.578 | 0.313 | 4.454 | |
| getAFTypeIbySumAlleles | 2.840 | 0.253 | 3.396 | |
| getAFs | 1.656 | 0.127 | 1.919 | |
| getBetas | 1.337 | 0.137 | 1.755 | |
| getMask | 8.133 | 0.533 | 9.471 | |
| getRefSet | 18.382 | 0.621 | 23.090 | |
| getSexInfo | 13.790 | 0.599 | 15.183 | |
| imputeTo | 2.821 | 0.237 | 3.347 | |
| inferEthnicity | 4.154 | 0.290 | 4.667 | |
| inferInfiniumIChannel | 0.892 | 1.496 | 2.507 | |
| inferSex | 7.775 | 0.477 | 8.690 | |
| inferSexKaryotypes | 5.016 | 0.289 | 5.611 | |
| inferSpecies | 23.782 | 0.919 | 26.373 | |
| inferStrain | 13.229 | 0.881 | 14.722 | |
| inferTissue | 16.141 | 1.468 | 18.750 | |
| initFileSet | 2.072 | 0.301 | 2.615 | |
| listAvailableMasks | 2.833 | 0.201 | 3.571 | |
| mapFileSet | 0.061 | 0.005 | 0.066 | |
| mapToMammal40 | 4.752 | 0.385 | 5.470 | |
| matchDesign | 23.773 | 0.953 | 25.910 | |
| meanIntensity | 4.372 | 0.284 | 5.529 | |
| medianTotalIntensity | 1.404 | 0.116 | 1.720 | |
| noMasked | 3.325 | 0.474 | 4.045 | |
| noob | 3.508 | 0.354 | 4.033 | |
| openSesame | 9.103 | 0.571 | 10.391 | |
| openSesameToFile | 2.715 | 0.029 | 2.845 | |
| pOOBAH | 2.363 | 0.013 | 2.488 | |
| palgen | 0.071 | 0.012 | 0.088 | |
| parseGEOsignalMU | 5.082 | 0.461 | 6.008 | |
| predictAge | 3.871 | 0.196 | 4.321 | |
| predictAgeHorvath353 | 0.001 | 0.001 | 0.001 | |
| predictAgeSkinBlood | 0.001 | 0.000 | 0.001 | |
| predictMouseAgeInMonth | 0.000 | 0.000 | 0.001 | |
| prefixMask | 1.075 | 0.005 | 1.118 | |
| prefixMaskButC | 0.314 | 0.001 | 0.324 | |
| prefixMaskButCG | 0.133 | 0.001 | 0.142 | |
| prepSesame | 6.154 | 0.171 | 6.769 | |
| prepSesameList | 0.003 | 0.001 | 0.005 | |
| print.DMLSummary | 5.242 | 1.137 | 7.061 | |
| print.fileSet | 2.122 | 0.315 | 2.699 | |
| probeID_designType | 0.000 | 0.000 | 0.002 | |
| probeSuccessRate | 9.103 | 0.611 | 10.721 | |
| qualityMask | 4.608 | 0.339 | 5.447 | |
| reIdentify | 12.002 | 0.406 | 13.158 | |
| readFileSet | 0.091 | 0.013 | 0.106 | |
| readIDATpair | 0.223 | 0.004 | 0.246 | |
| recommendedMaskNames | 0.000 | 0.001 | 0.002 | |
| resetMask | 0.740 | 0.071 | 3.137 | |
| scrub | 3.799 | 0.316 | 4.228 | |
| scrubSoft | 5.544 | 0.839 | 6.609 | |
| sdfPlatform | 0.522 | 0.116 | 2.044 | |
| sdf_read_table | 14.756 | 0.845 | 21.661 | |
| sdf_write_table | 5.164 | 0.383 | 8.659 | |
| searchIDATprefixes | 0.007 | 0.005 | 0.013 | |
| sesame-package | 4.060 | 0.537 | 5.114 | |
| sesameAnno_buildAddressFile | 0.000 | 0.000 | 0.001 | |
| sesameAnno_buildManifestGRanges | 0.000 | 0.001 | 0.001 | |
| sesameAnno_download | 0.001 | 0.000 | 0.001 | |
| sesameAnno_get | 0.000 | 0.001 | 0.001 | |
| sesameAnno_readManifestTSV | 0.001 | 0.000 | 0.001 | |
| sesameData_getAnno | 0.001 | 0.001 | 0.001 | |
| sesameQC_calcStats | 35.500 | 1.511 | 38.794 | |
| sesameQC_getStats | 3.494 | 0.016 | 3.781 | |
| sesameQC_plotBar | 19.703 | 0.476 | 21.677 | |
| sesameQC_plotBetaByDesign | 17.587 | 1.490 | 20.213 | |
| sesameQC_plotHeatSNPs | 28.876 | 1.964 | 32.417 | |
| sesameQC_plotIntensVsBetas | 3.120 | 0.231 | 3.767 | |
| sesameQC_plotRedGrnQQ | 2.228 | 0.296 | 3.242 | |
| sesameQC_rankStats | 5.327 | 0.538 | 6.232 | |
| sesame_checkVersion | 0.006 | 0.002 | 0.013 | |
| sesamize | 0.000 | 0.001 | 0.001 | |
| setMask | 0.421 | 0.183 | 0.639 | |
| signalMU | 1.220 | 0.114 | 1.541 | |
| sliceFileSet | 0.059 | 0.010 | 0.235 | |
| summaryExtractTest | 4.065 | 0.743 | 5.301 | |
| testEnrichment | 8.412 | 0.905 | 9.695 | |
| testEnrichmentGene | 175.243 | 7.356 | 196.168 | |
| testEnrichmentSEA | 18.667 | 1.071 | 21.108 | |
| totalIntensities | 4.901 | 0.396 | 5.943 | |
| updateSigDF | 4.914 | 0.355 | 5.984 | |
| visualizeGene | 15.817 | 0.583 | 18.107 | |
| visualizeProbes | 7.388 | 0.211 | 8.310 | |
| visualizeRegion | 0.734 | 0.004 | 0.804 | |
| visualizeSegments | 2.461 | 0.660 | 3.297 | |