| Back to Multiple platform build/check report for BioC 3.18: simplified long |
|
This page was generated on 2024-04-17 11:37:18 -0400 (Wed, 17 Apr 2024).
| Hostname | OS | Arch (*) | R version | Installed pkgs |
|---|---|---|---|---|
| nebbiolo2 | Linux (Ubuntu 22.04.3 LTS) | x86_64 | 4.3.3 (2024-02-29) -- "Angel Food Cake" | 4676 |
| palomino4 | Windows Server 2022 Datacenter | x64 | 4.3.3 (2024-02-29 ucrt) -- "Angel Food Cake" | 4414 |
| merida1 | macOS 12.7.1 Monterey | x86_64 | 4.3.3 (2024-02-29) -- "Angel Food Cake" | 4437 |
| Click on any hostname to see more info about the system (e.g. compilers) (*) as reported by 'uname -p', except on Windows and Mac OS X | ||||
| Package 1934/2266 | Hostname | OS / Arch | INSTALL | BUILD | CHECK | BUILD BIN | ||||||||
| sesame 1.20.0 (landing page) Wanding Zhou
| nebbiolo2 | Linux (Ubuntu 22.04.3 LTS) / x86_64 | OK | OK | OK | |||||||||
| palomino4 | Windows Server 2022 Datacenter / x64 | OK | OK | OK | OK | |||||||||
| merida1 | macOS 12.7.1 Monterey / x86_64 | OK | OK | OK | OK | |||||||||
| kjohnson1 | macOS 13.6.1 Ventura / arm64 | see weekly results here | ||||||||||||
|
To the developers/maintainers of the sesame package: - Allow up to 24 hours (and sometimes 48 hours) for your latest push to git@git.bioconductor.org:packages/sesame.git to reflect on this report. See Troubleshooting Build Report for more information. - Use the following Renviron settings to reproduce errors and warnings. - If 'R CMD check' started to fail recently on the Linux builder(s) over a missing dependency, add the missing dependency to 'Suggests:' in your DESCRIPTION file. See Renviron.bioc for more information. |
| Package: sesame |
| Version: 1.20.0 |
| Command: F:\biocbuild\bbs-3.18-bioc\R\bin\R.exe CMD check --no-multiarch --install=check:sesame.install-out.txt --library=F:\biocbuild\bbs-3.18-bioc\R\library --no-vignettes --timings sesame_1.20.0.tar.gz |
| StartedAt: 2024-04-16 05:04:45 -0400 (Tue, 16 Apr 2024) |
| EndedAt: 2024-04-16 05:22:42 -0400 (Tue, 16 Apr 2024) |
| EllapsedTime: 1076.8 seconds |
| RetCode: 0 |
| Status: OK |
| CheckDir: sesame.Rcheck |
| Warnings: 0 |
##############################################################################
##############################################################################
###
### Running command:
###
### F:\biocbuild\bbs-3.18-bioc\R\bin\R.exe CMD check --no-multiarch --install=check:sesame.install-out.txt --library=F:\biocbuild\bbs-3.18-bioc\R\library --no-vignettes --timings sesame_1.20.0.tar.gz
###
##############################################################################
##############################################################################
* using log directory 'F:/biocbuild/bbs-3.18-bioc/meat/sesame.Rcheck'
* using R version 4.3.3 (2024-02-29 ucrt)
* using platform: x86_64-w64-mingw32 (64-bit)
* R was compiled by
gcc.exe (GCC) 12.3.0
GNU Fortran (GCC) 12.3.0
* running under: Windows Server 2022 x64 (build 20348)
* using session charset: UTF-8
* using option '--no-vignettes'
* checking for file 'sesame/DESCRIPTION' ... OK
* checking extension type ... Package
* this is package 'sesame' version '1.20.0'
* package encoding: UTF-8
* checking package namespace information ... OK
* checking package dependencies ... OK
* checking if this is a source package ... OK
* checking if there is a namespace ... OK
* checking for hidden files and directories ... OK
* checking for portable file names ... OK
* checking whether package 'sesame' can be installed ... OK
* checking installed package size ... OK
* checking package directory ... OK
* checking 'build' directory ... OK
* checking DESCRIPTION meta-information ... OK
* checking top-level files ... OK
* checking for left-over files ... OK
* checking index information ... OK
* checking package subdirectories ... OK
* checking R files for non-ASCII characters ... OK
* checking R files for syntax errors ... OK
* checking whether the package can be loaded ... OK
* checking whether the package can be loaded with stated dependencies ... OK
* checking whether the package can be unloaded cleanly ... OK
* checking whether the namespace can be loaded with stated dependencies ... OK
* checking whether the namespace can be unloaded cleanly ... OK
* checking startup messages can be suppressed ... OK
* checking dependencies in R code ... OK
* checking S3 generic/method consistency ... OK
* checking replacement functions ... OK
* checking foreign function calls ... OK
* checking R code for possible problems ... OK
* checking Rd files ... OK
* checking Rd metadata ... OK
* checking Rd cross-references ... OK
* checking for missing documentation entries ... OK
* checking for code/documentation mismatches ... OK
* checking Rd \usage sections ... OK
* checking Rd contents ... OK
* checking for unstated dependencies in examples ... OK
* checking files in 'vignettes' ... OK
* checking examples ... OK
Examples with CPU (user + system) or elapsed time > 5s
user system elapsed
testEnrichmentGene 114.72 4.74 126.84
sesameQC_calcStats 27.14 0.88 28.03
sesameQC_plotHeatSNPs 26.79 1.01 27.84
KYCG_plotEnrichAll 19.89 1.34 22.51
KYCG_plotMeta 20.27 0.63 21.50
matchDesign 18.61 0.69 19.33
inferSpecies 17.39 0.70 18.92
ELBAR 16.03 1.55 17.89
sdf_read_table 15.78 0.52 16.38
KYCG_annoProbes 14.53 0.95 15.89
testEnrichmentSEA 14.48 0.67 15.36
convertTo 14.42 0.55 16.53
sesameQC_plotBar 13.80 0.30 14.15
inferTissue 12.14 0.72 13.03
diffRefSet 12.09 0.66 13.81
compareReference 11.96 0.50 12.51
compareMouseStrainReference 11.71 0.68 12.60
getRefSet 12.00 0.39 12.46
sesameQC_plotBetaByDesign 11.61 0.69 12.30
KYCG_buildGeneDBs 11.50 0.54 12.69
DML 9.18 1.88 11.16
KYCG_plotMetaEnrichment 10.25 0.59 10.94
visualizeGene 9.52 0.45 10.03
inferStrain 9.35 0.55 9.94
DMR 8.86 0.37 9.42
dbStats 8.54 0.67 9.64
getSexInfo 8.72 0.42 9.34
sdf_write_table 8.50 0.21 8.77
createUCSCtrack 8.14 0.37 8.77
estimateLeukocyte 7.20 0.43 8.28
testEnrichment 6.84 0.59 7.52
openSesame 6.45 0.56 7.13
deidentify 6.53 0.36 7.06
dyeBiasNL 6.30 0.29 6.61
KYCG_plotSetEnrichment 5.61 0.55 6.27
dyeBiasCorrMostBalanced 5.79 0.24 6.09
probeSuccessRate 5.60 0.36 6.04
inferSex 5.31 0.39 5.77
bisConversionControl 5.05 0.25 5.82
getMask 4.85 0.39 5.46
prepSesame 4.68 0.32 5.02
* checking for unstated dependencies in 'tests' ... OK
* checking tests ...
Running 'testthat.R'
OK
* checking for unstated dependencies in vignettes ... OK
* checking package vignettes in 'inst/doc' ... OK
* checking running R code from vignettes ... SKIPPED
* checking re-building of vignette outputs ... SKIPPED
* checking PDF version of manual ... OK
* DONE
Status: OK
sesame.Rcheck/00install.out
############################################################################## ############################################################################## ### ### Running command: ### ### F:\biocbuild\bbs-3.18-bioc\R\bin\R.exe CMD INSTALL sesame ### ############################################################################## ############################################################################## * installing to library 'F:/biocbuild/bbs-3.18-bioc/R/library' * installing *source* package 'sesame' ... ** using staged installation ** R ** inst ** byte-compile and prepare package for lazy loading ** help *** installing help indices ** building package indices ** installing vignettes ** testing if installed package can be loaded from temporary location ** testing if installed package can be loaded from final location ** testing if installed package keeps a record of temporary installation path * DONE (sesame)
sesame.Rcheck/tests/testthat.Rout
R version 4.3.3 (2024-02-29 ucrt) -- "Angel Food Cake"
Copyright (C) 2024 The R Foundation for Statistical Computing
Platform: x86_64-w64-mingw32/x64 (64-bit)
R is free software and comes with ABSOLUTELY NO WARRANTY.
You are welcome to redistribute it under certain conditions.
Type 'license()' or 'licence()' for distribution details.
R is a collaborative project with many contributors.
Type 'contributors()' for more information and
'citation()' on how to cite R or R packages in publications.
Type 'demo()' for some demos, 'help()' for on-line help, or
'help.start()' for an HTML browser interface to help.
Type 'q()' to quit R.
> library(testthat)
> library(sesame)
Loading required package: sesameData
Loading required package: ExperimentHub
Loading required package: BiocGenerics
Attaching package: 'BiocGenerics'
The following objects are masked from 'package:stats':
IQR, mad, sd, var, xtabs
The following objects are masked from 'package:base':
Filter, Find, Map, Position, Reduce, anyDuplicated, aperm, append,
as.data.frame, basename, cbind, colnames, dirname, do.call,
duplicated, eval, evalq, get, grep, grepl, intersect, is.unsorted,
lapply, mapply, match, mget, order, paste, pmax, pmax.int, pmin,
pmin.int, rank, rbind, rownames, sapply, setdiff, sort, table,
tapply, union, unique, unsplit, which.max, which.min
Loading required package: AnnotationHub
Loading required package: BiocFileCache
Loading required package: dbplyr
Loading sesameData.
----------------------------------------------------------
| SEnsible Step-wise Analysis of DNA MEthylation (SeSAMe)
| --------------------------------------------------------
| Please cache auxiliary data by "sesameDataCache()".
| This needs to be done only once per SeSAMe installation.
----------------------------------------------------------
>
> test_check("sesame")
[ FAIL 0 | WARN 0 | SKIP 0 | PASS 1 ]
>
> proc.time()
user system elapsed
21.95 2.73 24.84
sesame.Rcheck/sesame-Ex.timings
| name | user | system | elapsed | |
| BetaValueToMValue | 0 | 0 | 0 | |
| DML | 9.18 | 1.88 | 11.16 | |
| DMLpredict | 1.72 | 0.09 | 1.96 | |
| DMR | 8.86 | 0.37 | 9.42 | |
| ELBAR | 16.03 | 1.55 | 17.89 | |
| KYCG_annoProbes | 14.53 | 0.95 | 15.89 | |
| KYCG_buildGeneDBs | 11.50 | 0.54 | 12.69 | |
| KYCG_getDBs | 3.32 | 0.36 | 3.78 | |
| KYCG_listDBGroups | 0.03 | 0.00 | 0.04 | |
| KYCG_loadDBs | 0 | 0 | 0 | |
| KYCG_plotBar | 0.22 | 0.02 | 0.23 | |
| KYCG_plotDot | 0.87 | 0.00 | 0.88 | |
| KYCG_plotEnrichAll | 19.89 | 1.34 | 22.51 | |
| KYCG_plotLollipop | 0.14 | 0.00 | 0.14 | |
| KYCG_plotManhattan | 1.47 | 0.06 | 1.53 | |
| KYCG_plotMeta | 20.27 | 0.63 | 21.50 | |
| KYCG_plotMetaEnrichment | 10.25 | 0.59 | 10.94 | |
| KYCG_plotPointRange | 3.70 | 0.22 | 4.06 | |
| KYCG_plotSetEnrichment | 5.61 | 0.55 | 6.27 | |
| KYCG_plotVolcano | 0.12 | 0.00 | 0.12 | |
| KYCG_plotWaterfall | 3.61 | 0.25 | 3.93 | |
| MValueToBetaValue | 0 | 0 | 0 | |
| SigDF | 0.30 | 0.07 | 0.40 | |
| addMask | 0.06 | 0.00 | 0.06 | |
| aggregateTestEnrichments | 1.66 | 0.11 | 1.77 | |
| betasCollapseToPfx | 0 | 0 | 0 | |
| bisConversionControl | 5.05 | 0.25 | 5.82 | |
| calcEffectSize | 1.65 | 0.19 | 1.88 | |
| checkLevels | 2.78 | 0.14 | 3.12 | |
| cnSegmentation | 0.30 | 0.11 | 0.57 | |
| compareMouseStrainReference | 11.71 | 0.68 | 12.60 | |
| compareMouseTissueReference | 0 | 0 | 0 | |
| compareReference | 11.96 | 0.50 | 12.51 | |
| controls | 1.97 | 0.19 | 2.22 | |
| convertTo | 14.42 | 0.55 | 16.53 | |
| createUCSCtrack | 8.14 | 0.37 | 8.77 | |
| dataFrame2sesameQC | 1.26 | 0.19 | 1.47 | |
| dbStats | 8.54 | 0.67 | 9.64 | |
| deidentify | 6.53 | 0.36 | 7.06 | |
| detectionPnegEcdf | 3.47 | 0.14 | 3.64 | |
| diffRefSet | 12.09 | 0.66 | 13.81 | |
| dmContrasts | 2.39 | 0.20 | 2.63 | |
| dyeBiasCorr | 3.27 | 0.28 | 3.61 | |
| dyeBiasCorrMostBalanced | 5.79 | 0.24 | 6.09 | |
| dyeBiasL | 3.00 | 0.15 | 3.19 | |
| dyeBiasNL | 6.30 | 0.29 | 6.61 | |
| estimateLeukocyte | 7.20 | 0.43 | 8.28 | |
| formatVCF | 2.39 | 0.22 | 2.65 | |
| getAFTypeIbySumAlleles | 1.99 | 0.27 | 2.32 | |
| getAFs | 1.28 | 0.11 | 1.42 | |
| getBetas | 1.01 | 0.13 | 1.18 | |
| getMask | 4.85 | 0.39 | 5.46 | |
| getRefSet | 12.00 | 0.39 | 12.46 | |
| getSexInfo | 8.72 | 0.42 | 9.34 | |
| imputeTo | 2.97 | 0.14 | 3.27 | |
| inferEthnicity | 2.51 | 0.16 | 2.68 | |
| inferInfiniumIChannel | 1.00 | 0.33 | 1.33 | |
| inferSex | 5.31 | 0.39 | 5.77 | |
| inferSexKaryotypes | 3.08 | 0.14 | 3.25 | |
| inferSpecies | 17.39 | 0.70 | 18.92 | |
| inferStrain | 9.35 | 0.55 | 9.94 | |
| inferTissue | 12.14 | 0.72 | 13.03 | |
| initFileSet | 1.25 | 0.28 | 1.56 | |
| listAvailableMasks | 1.68 | 0.17 | 1.88 | |
| mapFileSet | 0.02 | 0.00 | 0.03 | |
| mapToMammal40 | 3.20 | 0.37 | 3.78 | |
| matchDesign | 18.61 | 0.69 | 19.33 | |
| meanIntensity | 2.72 | 0.20 | 2.99 | |
| medianTotalIntensity | 0.97 | 0.13 | 1.12 | |
| noMasked | 2.32 | 0.06 | 2.41 | |
| noob | 3.30 | 0.16 | 3.45 | |
| openSesame | 6.45 | 0.56 | 7.13 | |
| openSesameToFile | 2.10 | 0.18 | 2.28 | |
| pOOBAH | 1.72 | 0.02 | 1.74 | |
| palgen | 0.03 | 0.03 | 0.11 | |
| parseGEOsignalMU | 3.70 | 0.30 | 4.03 | |
| predictAge | 2.45 | 0.15 | 2.64 | |
| predictAgeHorvath353 | 0 | 0 | 0 | |
| predictAgeSkinBlood | 0 | 0 | 0 | |
| predictMouseAgeInMonth | 0 | 0 | 0 | |
| prefixMask | 0.41 | 0.00 | 0.41 | |
| prefixMaskButC | 0.11 | 0.00 | 0.10 | |
| prefixMaskButCG | 0.05 | 0.00 | 0.05 | |
| prepSesame | 4.68 | 0.32 | 5.02 | |
| prepSesameList | 0 | 0 | 0 | |
| print.DMLSummary | 3.38 | 0.26 | 3.70 | |
| print.fileSet | 1.09 | 0.17 | 1.30 | |
| probeID_designType | 0 | 0 | 0 | |
| probeSuccessRate | 5.60 | 0.36 | 6.04 | |
| qualityMask | 2.55 | 0.11 | 2.75 | |
| reIdentify | 4.78 | 0.19 | 5.00 | |
| readFileSet | 0.05 | 0.00 | 0.06 | |
| readIDATpair | 0.15 | 0.00 | 0.16 | |
| recommendedMaskNames | 0 | 0 | 0 | |
| resetMask | 0.35 | 0.05 | 0.53 | |
| scrub | 3.17 | 0.12 | 3.29 | |
| scrubSoft | 4.42 | 0.28 | 4.70 | |
| sdfPlatform | 0.27 | 0.05 | 0.34 | |
| sdf_read_table | 15.78 | 0.52 | 16.38 | |
| sdf_write_table | 8.50 | 0.21 | 8.77 | |
| searchIDATprefixes | 0.01 | 0.00 | 0.01 | |
| sesame-package | 2.96 | 0.27 | 3.22 | |
| sesameAnno_buildAddressFile | 0 | 0 | 0 | |
| sesameAnno_buildManifestGRanges | 0 | 0 | 0 | |
| sesameAnno_download | 0 | 0 | 0 | |
| sesameAnno_get | 0 | 0 | 0 | |
| sesameAnno_readManifestTSV | 0 | 0 | 0 | |
| sesameData_getAnno | 0 | 0 | 0 | |
| sesameQC_calcStats | 27.14 | 0.88 | 28.03 | |
| sesameQC_getStats | 2.53 | 0.01 | 2.55 | |
| sesameQC_plotBar | 13.80 | 0.30 | 14.15 | |
| sesameQC_plotBetaByDesign | 11.61 | 0.69 | 12.30 | |
| sesameQC_plotHeatSNPs | 26.79 | 1.01 | 27.84 | |
| sesameQC_plotIntensVsBetas | 1.80 | 0.11 | 1.94 | |
| sesameQC_plotRedGrnQQ | 1.66 | 0.16 | 1.85 | |
| sesameQC_rankStats | 3.91 | 0.32 | 4.30 | |
| sesame_checkVersion | 0 | 0 | 0 | |
| sesamize | 0 | 0 | 0 | |
| setMask | 0.09 | 0.00 | 0.09 | |
| signalMU | 0.92 | 0.08 | 1.03 | |
| sliceFileSet | 0.05 | 0.00 | 0.05 | |
| summaryExtractTest | 2.77 | 0.19 | 3.11 | |
| testEnrichment | 6.84 | 0.59 | 7.52 | |
| testEnrichmentGene | 114.72 | 4.74 | 126.84 | |
| testEnrichmentSEA | 14.48 | 0.67 | 15.36 | |
| totalIntensities | 3.74 | 0.30 | 4.20 | |
| updateSigDF | 3.01 | 0.39 | 3.78 | |
| visualizeGene | 9.52 | 0.45 | 10.03 | |
| visualizeProbes | 4.03 | 0.20 | 4.38 | |
| visualizeRegion | 0.47 | 0.02 | 0.48 | |
| visualizeSegments | 2.56 | 0.22 | 2.80 | |