| Back to Multiple platform build/check report for BioC 3.18: simplified long |
|
This page was generated on 2024-04-17 11:37:41 -0400 (Wed, 17 Apr 2024).
| Hostname | OS | Arch (*) | R version | Installed pkgs |
|---|---|---|---|---|
| nebbiolo2 | Linux (Ubuntu 22.04.3 LTS) | x86_64 | 4.3.3 (2024-02-29) -- "Angel Food Cake" | 4676 |
| palomino4 | Windows Server 2022 Datacenter | x64 | 4.3.3 (2024-02-29 ucrt) -- "Angel Food Cake" | 4414 |
| merida1 | macOS 12.7.1 Monterey | x86_64 | 4.3.3 (2024-02-29) -- "Angel Food Cake" | 4437 |
| Click on any hostname to see more info about the system (e.g. compilers) (*) as reported by 'uname -p', except on Windows and Mac OS X | ||||
| Package 615/2266 | Hostname | OS / Arch | INSTALL | BUILD | CHECK | BUILD BIN | ||||||||
| easyRNASeq 2.38.0 (landing page) Nicolas Delhomme
| nebbiolo2 | Linux (Ubuntu 22.04.3 LTS) / x86_64 | OK | OK | OK | |||||||||
| palomino4 | Windows Server 2022 Datacenter / x64 | OK | OK | OK | OK | |||||||||
| merida1 | macOS 12.7.1 Monterey / x86_64 | OK | OK | OK | OK | |||||||||
| kjohnson1 | macOS 13.6.1 Ventura / arm64 | see weekly results here | ||||||||||||
|
To the developers/maintainers of the easyRNASeq package: - Allow up to 24 hours (and sometimes 48 hours) for your latest push to git@git.bioconductor.org:packages/easyRNASeq.git to reflect on this report. See Troubleshooting Build Report for more information. - Use the following Renviron settings to reproduce errors and warnings. - If 'R CMD check' started to fail recently on the Linux builder(s) over a missing dependency, add the missing dependency to 'Suggests:' in your DESCRIPTION file. See Renviron.bioc for more information. |
| Package: easyRNASeq |
| Version: 2.38.0 |
| Command: /Library/Frameworks/R.framework/Resources/bin/R CMD check --install=check:easyRNASeq.install-out.txt --library=/Library/Frameworks/R.framework/Resources/library --no-vignettes --timings easyRNASeq_2.38.0.tar.gz |
| StartedAt: 2024-04-16 02:18:19 -0400 (Tue, 16 Apr 2024) |
| EndedAt: 2024-04-16 02:39:30 -0400 (Tue, 16 Apr 2024) |
| EllapsedTime: 1271.1 seconds |
| RetCode: 0 |
| Status: OK |
| CheckDir: easyRNASeq.Rcheck |
| Warnings: 0 |
##############################################################################
##############################################################################
###
### Running command:
###
### /Library/Frameworks/R.framework/Resources/bin/R CMD check --install=check:easyRNASeq.install-out.txt --library=/Library/Frameworks/R.framework/Resources/library --no-vignettes --timings easyRNASeq_2.38.0.tar.gz
###
##############################################################################
##############################################################################
* using log directory ‘/Users/biocbuild/bbs-3.18-bioc/meat/easyRNASeq.Rcheck’
* using R version 4.3.3 (2024-02-29)
* using platform: x86_64-apple-darwin20 (64-bit)
* R was compiled by
Apple clang version 14.0.0 (clang-1400.0.29.202)
GNU Fortran (GCC) 12.2.0
* running under: macOS Monterey 12.7.1
* using session charset: UTF-8
* using option ‘--no-vignettes’
* checking for file ‘easyRNASeq/DESCRIPTION’ ... OK
* checking extension type ... Package
* this is package ‘easyRNASeq’ version ‘2.38.0’
* package encoding: UTF-8
* checking package namespace information ... OK
* checking package dependencies ... NOTE
Files named as vignettes but with no recognized vignette engine:
‘inst/doc/01-Introduction.Rmd’
‘inst/doc/02-AnnotParam.Rmd’
‘inst/doc/03-SyntheticTranscripts.Rmd’
‘inst/doc/04-BamParam.Rmd’
‘inst/doc/05-RnaSeqParam.Rmd’
‘inst/doc/06-simpleRNASeq.Rmd’
‘inst/doc/07-cleanUp.Rmd’
‘inst/doc/08-Session-Info.Rmd’
‘inst/doc/09-Acknowledgments.Rmd’
‘inst/doc/10-Foonotes.Rmd’
‘inst/doc/11-Images.Rmd’
‘inst/doc/12-Appendix.Rmd’
(Is a VignetteBuilder field missing?)
* checking if this is a source package ... OK
* checking if there is a namespace ... OK
* checking for hidden files and directories ... OK
* checking for portable file names ... OK
* checking for sufficient/correct file permissions ... OK
* checking whether package ‘easyRNASeq’ can be installed ... OK
* checking installed package size ... OK
* checking package directory ... OK
* checking ‘build’ directory ... OK
* checking DESCRIPTION meta-information ... OK
* checking top-level files ... OK
* checking for left-over files ... OK
* checking index information ... OK
* checking package subdirectories ... OK
* checking R files for non-ASCII characters ... OK
* checking R files for syntax errors ... OK
* checking whether the package can be loaded ... OK
* checking whether the package can be loaded with stated dependencies ... OK
* checking whether the package can be unloaded cleanly ... OK
* checking whether the namespace can be loaded with stated dependencies ... OK
* checking whether the namespace can be unloaded cleanly ... OK
* checking startup messages can be suppressed ... NOTE
No methods found in package ‘BiocGenerics’ for request: ‘clusterApply’ when loading ‘easyRNASeq’
It looks like this package (or a package it requires) has a startup
message which cannot be suppressed: see ?packageStartupMessage.
* checking dependencies in R code ... NOTE
Namespace in Imports field not imported from: ‘locfit’
All declared Imports should be used.
* checking S3 generic/method consistency ... OK
* checking replacement functions ... OK
* checking foreign function calls ... OK
* checking R code for possible problems ... NOTE
.parallelize: no visible global function definition for ‘clusterApply’
Undefined global functions or variables:
clusterApply
* checking Rd files ... OK
* checking Rd metadata ... OK
* checking Rd cross-references ... OK
* checking for missing documentation entries ... OK
* checking for code/documentation mismatches ... OK
* checking Rd \usage sections ... OK
* checking Rd contents ... OK
* checking for unstated dependencies in examples ... OK
* checking contents of ‘data’ directory ... OK
* checking data for non-ASCII characters ... OK
* checking data for ASCII and uncompressed saves ... OK
* checking line endings in Makefiles ... OK
* checking for GNU extensions in Makefiles ... OK
* checking include directives in Makefiles ... OK
* checking sizes of PDF files under ‘inst/doc’ ... OK
* checking files in ‘vignettes’ ... OK
* checking examples ... OK
Examples with CPU (user + system) or elapsed time > 5s
user system elapsed
easyRNASeq-simpleRNASeq 184.234 4.448 202.758
easyRNASeq-package 108.955 4.022 119.915
easyRNASeq-synthetic-transcripts 87.726 2.075 100.875
BiocFileCache-methods 17.454 2.185 33.994
easyRNASeq-BamFileList 11.504 1.131 13.782
Rsamtools-methods 8.961 0.932 10.877
genomeIntervals-methods 2.668 2.387 5.677
* checking for unstated dependencies in ‘tests’ ... OK
* checking tests ...
Running ‘runTests.R’
OK
* checking for unstated dependencies in vignettes ... OK
* checking package vignettes in ‘inst/doc’ ... OK
* checking running R code from vignettes ... SKIPPED
* checking re-building of vignette outputs ... SKIPPED
* checking PDF version of manual ... OK
* DONE
Status: 4 NOTEs
See
‘/Users/biocbuild/bbs-3.18-bioc/meat/easyRNASeq.Rcheck/00check.log’
for details.
easyRNASeq.Rcheck/00install.out
############################################################################## ############################################################################## ### ### Running command: ### ### /Library/Frameworks/R.framework/Resources/bin/R CMD INSTALL easyRNASeq ### ############################################################################## ############################################################################## * installing to library ‘/Library/Frameworks/R.framework/Versions/4.3-x86_64/Resources/library’ * installing *source* package ‘easyRNASeq’ ... ** using staged installation ** R ** data ** inst ** byte-compile and prepare package for lazy loading No methods found in package ‘BiocGenerics’ for request: ‘clusterApply’ when loading ‘easyRNASeq’ Creating a generic function for ‘basename’ from package ‘base’ in package ‘easyRNASeq’ Creating a generic function for ‘file.exists’ from package ‘base’ in package ‘easyRNASeq’ ** help *** installing help indices ** building package indices ** installing vignettes ** testing if installed package can be loaded from temporary location No methods found in package ‘BiocGenerics’ for request: ‘clusterApply’ when loading ‘easyRNASeq’ ** testing if installed package can be loaded from final location No methods found in package ‘BiocGenerics’ for request: ‘clusterApply’ when loading ‘easyRNASeq’ ** testing if installed package keeps a record of temporary installation path * DONE (easyRNASeq)
easyRNASeq.Rcheck/tests/runTests.Rout
R version 4.3.3 (2024-02-29) -- "Angel Food Cake"
Copyright (C) 2024 The R Foundation for Statistical Computing
Platform: x86_64-apple-darwin20 (64-bit)
R is free software and comes with ABSOLUTELY NO WARRANTY.
You are welcome to redistribute it under certain conditions.
Type 'license()' or 'licence()' for distribution details.
R is a collaborative project with many contributors.
Type 'contributors()' for more information and
'citation()' on how to cite R or R packages in publications.
Type 'demo()' for some demos, 'help()' for on-line help, or
'help.start()' for an HTML browser interface to help.
Type 'q()' to quit R.
> # get the example data
> library(easyRNASeq)
No methods found in package 'BiocGenerics' for request: 'clusterApply' when loading 'easyRNASeq'
> tutorialData()
[1] "/Users/biocbuild/Library/Caches/easyRNASeq"
>
> # set the env.var
> #TUTORIAL.DATA <- get("TUTORIAL.DATA",envir=as.environment("package:easyRNASeq"))
>
> # run the tests
> BiocGenerics:::testPackage("easyRNASeq")
Loading required package: GenomicRanges
Loading required package: stats4
Loading required package: BiocGenerics
Attaching package: 'BiocGenerics'
The following object is masked from 'package:easyRNASeq':
basename
The following objects are masked from 'package:stats':
IQR, mad, sd, var, xtabs
The following objects are masked from 'package:base':
Filter, Find, Map, Position, Reduce, anyDuplicated, aperm, append,
as.data.frame, basename, cbind, colnames, dirname, do.call,
duplicated, eval, evalq, get, grep, grepl, intersect, is.unsorted,
lapply, mapply, match, mget, order, paste, pmax, pmax.int, pmin,
pmin.int, rank, rbind, rownames, sapply, setdiff, sort, table,
tapply, union, unique, unsplit, which.max, which.min
Loading required package: S4Vectors
Attaching package: 'S4Vectors'
The following object is masked from 'package:utils':
findMatches
The following objects are masked from 'package:base':
I, expand.grid, unname
Loading required package: IRanges
Loading required package: GenomeInfoDb
No validation performed at that stage
Validated a datasource of type biomaRt
No validation performed at that stage
Validated a datasource of type rda
Read 1000 records
Validated a datasource of type gtf
Read 999 records
Validated a datasource of type gff3
RUNIT TEST PROTOCOL -- Tue Apr 16 02:39:13 2024
***********************************************
Number of test functions: 20
Number of errors: 0
Number of failures: 0
1 Test Suite :
easyRNASeq RUnit Tests - 20 test functions, 0 errors, 0 failures
Number of test functions: 20
Number of errors: 0
Number of failures: 0
Warning messages:
1: In FUN(X[[i]], ...) :
Bam file: 3a502c7bdab2_TTGCGA.bam is considered unstranded.
2: In FUN(X[[i]], ...) :
Bam file: 3a502c7bdab2_TTGCGA.bam Strandedness could not be determined using 19659 regions spanning 1381886 bp on either strand at a 90% cutoff; 73.37 percent appear to be stranded.
3: In FUN(X[[i]], ...) :
Bam file: 3a504e6eeea0_ACTAGC.bam is considered unstranded.
4: In FUN(X[[i]], ...) :
Bam file: 3a504e6eeea0_ACTAGC.bam Strandedness could not be determined using 14772 regions spanning 1023473 bp on either strand at a 90% cutoff; 76.6 percent appear to be stranded.
5: In FUN(X[[i]], ...) :
Bam file: 3a506a431983_ACACTG.bam is considered unstranded.
6: In FUN(X[[i]], ...) :
Bam file: 3a506a431983_ACACTG.bam Strandedness could not be determined using 18615 regions spanning 1300192 bp on either strand at a 90% cutoff; 73.67 percent appear to be stranded.
7: In FUN(X[[i]], ...) :
Bam file: 3a507c900808_ATGGCT.bam is considered unstranded.
8: In FUN(X[[i]], ...) :
Bam file: 3a507c900808_ATGGCT.bam Strandedness could not be determined using 18462 regions spanning 1280337 bp on either strand at a 90% cutoff; 74.26 percent appear to be stranded.
9: In simpleRNASeq(bamFiles = bamFiles, param = param, verbose = FALSE) :
As of version 2.15.5, easyRNASeq assumes that, if the data is strand specific, the sequencing was done using a protocol such as the Illumina TruSeq, where the reverse strand is quantified - i.e. the strandProtocol argument of the BamParam class defaults to 'reverse'.
>
> # cleanup
> # removebfc(easyRNASeq:::.get_cache(),ask=FALSE)
>
> proc.time()
user system elapsed
135.706 5.692 197.287
easyRNASeq.Rcheck/easyRNASeq-Ex.timings
| name | user | system | elapsed | |
| BiocFileCache-methods | 17.454 | 2.185 | 33.994 | |
| GenomicRanges-methods | 0.657 | 0.038 | 0.707 | |
| IRanges-methods | 0.000 | 0.001 | 0.001 | |
| Rsamtools-methods | 8.961 | 0.932 | 10.877 | |
| ShortRead-methods | 0.001 | 0.002 | 0.002 | |
| easyRNASeq-AnnotParam-accessors | 0.551 | 0.073 | 0.679 | |
| easyRNASeq-AnnotParam-class | 0.001 | 0.000 | 0.002 | |
| easyRNASeq-AnnotParam | 0.544 | 0.056 | 0.661 | |
| easyRNASeq-BamFileList | 11.504 | 1.131 | 13.782 | |
| easyRNASeq-BamParam-accessors | 0.002 | 0.001 | 0.004 | |
| easyRNASeq-BamParam-class | 0.001 | 0.001 | 0.003 | |
| easyRNASeq-BamParam | 0.004 | 0.002 | 0.006 | |
| easyRNASeq-RnaSeqParam-accessors | 0.006 | 0.001 | 0.006 | |
| easyRNASeq-RnaSeqParam-class | 0.000 | 0.001 | 0.001 | |
| easyRNASeq-RnaSeqParam | 0.007 | 0.002 | 0.009 | |
| easyRNASeq-accessors | 0.001 | 0.001 | 0.001 | |
| easyRNASeq-annotation-methods | 0.001 | 0.001 | 0.001 | |
| easyRNASeq-class | 0.001 | 0.002 | 0.003 | |
| easyRNASeq-correction-methods | 0.000 | 0.001 | 0.002 | |
| easyRNASeq-coverage-methods | 0.000 | 0.001 | 0.001 | |
| easyRNASeq-easyRNASeq | 0.000 | 0.002 | 0.001 | |
| easyRNASeq-island-methods | 0.001 | 0.001 | 0.001 | |
| easyRNASeq-package | 108.955 | 4.022 | 119.915 | |
| easyRNASeq-simpleRNASeq | 184.234 | 4.448 | 202.758 | |
| easyRNASeq-summarization-methods | 0.000 | 0.001 | 0.001 | |
| easyRNASeq-synthetic-transcripts | 87.726 | 2.075 | 100.875 | |
| edgeR-methods | 0.000 | 0.001 | 0.001 | |
| genomeIntervals-methods | 2.668 | 2.387 | 5.677 | |
| parallel-methods | 0.000 | 0.001 | 0.001 | |