| Back to Multiple platform build/check report for BioC 3.16: simplified long |
|
This page was generated on 2023-03-20 11:05:09 -0400 (Mon, 20 Mar 2023).
| Hostname | OS | Arch (*) | R version | Installed pkgs |
|---|---|---|---|---|
| nebbiolo2 | Linux (Ubuntu 20.04.5 LTS) | x86_64 | 4.2.2 (2022-10-31) -- "Innocent and Trusting" | 4516 |
| palomino4 | Windows Server 2022 Datacenter | x64 | 4.2.2 (2022-10-31 ucrt) -- "Innocent and Trusting" | 4295 |
| lconway | macOS 12.5.1 Monterey | x86_64 | 4.2.2 (2022-10-31) -- "Innocent and Trusting" | 4324 |
| Click on any hostname to see more info about the system (e.g. compilers) (*) as reported by 'uname -p', except on Windows and Mac OS X | ||||
|
To the developers/maintainers of the omada package: - Please allow up to 24 hours (and sometimes 48 hours) for your latest push to git@git.bioconductor.org:packages/omada.git to reflect on this report. See How and When does the builder pull? When will my changes propagate? for more information. - Make sure to use the following settings in order to reproduce any error or warning you see on this page. |
| Package 1382/2183 | Hostname | OS / Arch | INSTALL | BUILD | CHECK | BUILD BIN | ||||||||
| omada 1.0.0 (landing page) Sokratis Kariotis
| nebbiolo2 | Linux (Ubuntu 20.04.5 LTS) / x86_64 | OK | OK | OK | |||||||||
| palomino4 | Windows Server 2022 Datacenter / x64 | OK | OK | OK | OK | |||||||||
| lconway | macOS 12.5.1 Monterey / x86_64 | OK | OK | OK | OK | |||||||||
| Package: omada |
| Version: 1.0.0 |
| Command: /home/biocbuild/bbs-3.16-bioc/R/bin/R CMD check --install=check:omada.install-out.txt --library=/home/biocbuild/bbs-3.16-bioc/R/library --timings omada_1.0.0.tar.gz |
| StartedAt: 2023-03-17 22:30:25 -0400 (Fri, 17 Mar 2023) |
| EndedAt: 2023-03-17 22:49:38 -0400 (Fri, 17 Mar 2023) |
| EllapsedTime: 1153.1 seconds |
| RetCode: 0 |
| Status: OK |
| CheckDir: omada.Rcheck |
| Warnings: 0 |
##############################################################################
##############################################################################
###
### Running command:
###
### /home/biocbuild/bbs-3.16-bioc/R/bin/R CMD check --install=check:omada.install-out.txt --library=/home/biocbuild/bbs-3.16-bioc/R/library --timings omada_1.0.0.tar.gz
###
##############################################################################
##############################################################################
* using log directory ‘/home/biocbuild/bbs-3.16-bioc/meat/omada.Rcheck’
* using R version 4.2.2 (2022-10-31)
* using platform: x86_64-pc-linux-gnu (64-bit)
* using session charset: UTF-8
* checking for file ‘omada/DESCRIPTION’ ... OK
* checking extension type ... Package
* this is package ‘omada’ version ‘1.0.0’
* package encoding: UTF-8
* checking package namespace information ... OK
* checking package dependencies ... NOTE
Depends: includes the non-default packages:
'pdfCluster', 'kernlab', 'fpc', 'Rcpp', 'diceR', 'ggplot2',
'reshape', 'clusterCrit', 'clValid', 'glmnet', 'dplyr'
Adding so many packages to the search path is excessive and importing
selectively is preferable.
* checking if this is a source package ... OK
* checking if there is a namespace ... OK
* checking for hidden files and directories ... OK
* checking for portable file names ... OK
* checking for sufficient/correct file permissions ... OK
* checking whether package ‘omada’ can be installed ... OK
* checking installed package size ... OK
* checking package directory ... OK
* checking ‘build’ directory ... OK
* checking DESCRIPTION meta-information ... OK
* checking top-level files ... NOTE
File
LICENSE
is not mentioned in the DESCRIPTION file.
* checking for left-over files ... OK
* checking index information ... OK
* checking package subdirectories ... OK
* checking R files for non-ASCII characters ... OK
* checking R files for syntax errors ... OK
* checking whether the package can be loaded ... OK
* checking whether the package can be loaded with stated dependencies ... OK
* checking whether the package can be unloaded cleanly ... OK
* checking whether the namespace can be loaded with stated dependencies ... OK
* checking whether the namespace can be unloaded cleanly ... OK
* checking dependencies in R code ... NOTE
Packages in Depends field not imported from:
‘Rcpp’ ‘clusterCrit’ ‘glmnet’ ‘kernlab’ ‘reshape’
These packages need to be imported from (in the NAMESPACE file)
for when this namespace is loaded but not attached.
* checking S3 generic/method consistency ... OK
* checking replacement functions ... OK
* checking foreign function calls ... OK
* checking R code for possible problems ... NOTE
clusterVoting: no visible binding for global variable ‘k’
clusterVoting: no visible binding for global variable ‘Frequency’
clusteringMethodSelection: no visible binding for global variable
‘value’
clusteringMethodSelection: no visible binding for global variable
‘methods’
featureSelection: no visible binding for global variable ‘featureSet’
featureSelection: no visible binding for global variable ‘means’
geneSignatures: no visible global function definition for ‘where’
geneSignatures: no visible binding for global variable ‘features’
geneSignatures: no visible binding for global variable ‘value’
geneSignatures: no visible binding for global variable ‘variable’
Undefined global functions or variables:
Frequency featureSet features k means methods value variable where
Consider adding
importFrom("utils", "methods")
to your NAMESPACE file.
* checking Rd files ... OK
* checking Rd metadata ... OK
* checking Rd cross-references ... OK
* checking for missing documentation entries ... OK
* checking for code/documentation mismatches ... OK
* checking Rd \usage sections ... OK
* checking Rd contents ... OK
* checking for unstated dependencies in examples ... OK
* checking contents of ‘data’ directory ... OK
* checking data for non-ASCII characters ... OK
* checking LazyData ... OK
* checking data for ASCII and uncompressed saves ... OK
* checking files in ‘vignettes’ ... OK
* checking examples ... OK
Examples with CPU (user + system) or elapsed time > 5s
user system elapsed
get_feature_selection_optimal_number_of_features 43.080 0.089 43.169
get_feature_selection_scores 39.935 0.080 40.016
plot_signature_feature 36.974 0.212 37.536
plot_partition_agreement 36.874 0.152 44.043
get_signature_feature_coefs 35.006 0.052 36.696
get_sample_memberships 34.898 0.120 35.472
plot_feature_selection 34.593 0.212 38.300
get_partition_agreement_scores 30.230 0.048 31.843
plot_cluster_voting 29.307 0.068 29.701
get_cluster_voting_memberships 28.711 0.180 28.892
get_cluster_voting_k_votes 26.834 0.244 27.079
get_feature_selection_optimal_features 26.959 0.075 27.037
omada 26.645 0.040 27.278
get_cluster_voting_metric_votes 26.507 0.128 26.636
get_cluster_voting_scores 26.236 0.032 26.270
plot_average_stabilities 14.507 0.008 15.645
get_optimal_features 8.823 0.004 8.828
get_optimal_number_of_features 8.251 0.008 8.259
get_optimal_memberships 8.139 0.031 8.171
get_optimal_stability_score 8.049 0.052 8.101
featureSelection 7.732 0.096 7.828
get_optimal_parameter_used 7.742 0.008 7.750
get_average_feature_k_stabilities 5.631 0.080 5.712
* checking for unstated dependencies in ‘tests’ ... OK
* checking tests ...
Running ‘testthat.R’
OK
* checking for unstated dependencies in vignettes ... OK
* checking package vignettes in ‘inst/doc’ ... OK
* checking running R code from vignettes ...
‘omada-vignette.Rmd’ using ‘UTF-8’... OK
NONE
* checking re-building of vignette outputs ... OK
* checking PDF version of manual ... OK
* DONE
Status: 4 NOTEs
See
‘/home/biocbuild/bbs-3.16-bioc/meat/omada.Rcheck/00check.log’
for details.
omada.Rcheck/00install.out
############################################################################## ############################################################################## ### ### Running command: ### ### /home/biocbuild/bbs-3.16-bioc/R/bin/R CMD INSTALL omada ### ############################################################################## ############################################################################## * installing to library ‘/home/biocbuild/bbs-3.16-bioc/R/library’ * installing *source* package ‘omada’ ... ** using staged installation ** R ** data *** moving datasets to lazyload DB ** inst ** byte-compile and prepare package for lazy loading ** help *** installing help indices ** building package indices ** installing vignettes ** testing if installed package can be loaded from temporary location ** testing if installed package can be loaded from final location ** testing if installed package keeps a record of temporary installation path * DONE (omada)
omada.Rcheck/tests/testthat.Rout
R version 4.2.2 (2022-10-31) -- "Innocent and Trusting"
Copyright (C) 2022 The R Foundation for Statistical Computing
Platform: x86_64-pc-linux-gnu (64-bit)
R is free software and comes with ABSOLUTELY NO WARRANTY.
You are welcome to redistribute it under certain conditions.
Type 'license()' or 'licence()' for distribution details.
R is a collaborative project with many contributors.
Type 'contributors()' for more information and
'citation()' on how to cite R or R packages in publications.
Type 'demo()' for some demos, 'help()' for on-line help, or
'help.start()' for an HTML browser interface to help.
Type 'q()' to quit R.
> library(testthat)
> library(omada)
Loading required package: pdfCluster
pdfCluster 1.0-4
Loading required package: kernlab
Loading required package: fpc
Loading required package: Rcpp
Loading required package: diceR
Loading required package: ggplot2
Attaching package: 'ggplot2'
The following object is masked from 'package:kernlab':
alpha
Loading required package: reshape
Loading required package: clusterCrit
Loading required package: clValid
Loading required package: cluster
Loading required package: glmnet
Loading required package: Matrix
Attaching package: 'Matrix'
The following object is masked from 'package:reshape':
expand
Loaded glmnet 4.1-6
Loading required package: dplyr
Attaching package: 'dplyr'
The following object is masked from 'package:reshape':
rename
The following object is masked from 'package:pdfCluster':
groups
The following object is masked from 'package:testthat':
matches
The following objects are masked from 'package:stats':
filter, lag
The following objects are masked from 'package:base':
intersect, setdiff, setequal, union
>
> test_check("omada")
[ FAIL 0 | WARN 1 | SKIP 0 | PASS 39 ]
[ FAIL 0 | WARN 1 | SKIP 0 | PASS 39 ]
>
> proc.time()
user system elapsed
136.77 1.43 179.08
omada.Rcheck/omada-Ex.timings
| name | user | system | elapsed | |
| clusterVoting | 1.765 | 0.012 | 1.778 | |
| clusteringMethodSelection | 1.285 | 0.032 | 1.316 | |
| feasibilityAnalysis | 1.22 | 0.04 | 1.26 | |
| feasibilityAnalysisDataBased | 2.255 | 0.068 | 2.323 | |
| featureSelection | 7.732 | 0.096 | 7.828 | |
| geneSignatures | 0.847 | 0.012 | 0.859 | |
| get_agreement_scores | 0.148 | 0.012 | 0.160 | |
| get_average_feature_k_stabilities | 5.631 | 0.080 | 5.712 | |
| get_average_stabilities_per_k | 0.847 | 0.004 | 0.851 | |
| get_average_stability | 0.81 | 0.04 | 0.85 | |
| get_cluster_memberships_k | 0.256 | 0.012 | 0.268 | |
| get_cluster_voting_k_votes | 26.834 | 0.244 | 27.079 | |
| get_cluster_voting_memberships | 28.711 | 0.180 | 28.892 | |
| get_cluster_voting_metric_votes | 26.507 | 0.128 | 26.636 | |
| get_cluster_voting_scores | 26.236 | 0.032 | 26.270 | |
| get_coefficient_dataset | 0.384 | 0.028 | 0.412 | |
| get_feature_selection_optimal_features | 26.959 | 0.075 | 27.037 | |
| get_feature_selection_optimal_number_of_features | 43.080 | 0.089 | 43.169 | |
| get_feature_selection_scores | 39.935 | 0.080 | 40.016 | |
| get_generated_dataset | 2.897 | 0.007 | 2.904 | |
| get_internal_metric_scores | 0.252 | 0.000 | 0.252 | |
| get_max_stability | 0.844 | 0.004 | 0.848 | |
| get_metric_votes_k | 0.251 | 0.008 | 0.260 | |
| get_optimal_features | 8.823 | 0.004 | 8.828 | |
| get_optimal_memberships | 8.139 | 0.031 | 8.171 | |
| get_optimal_number_of_features | 8.251 | 0.008 | 8.259 | |
| get_optimal_parameter_used | 7.742 | 0.008 | 7.750 | |
| get_optimal_stability_score | 8.049 | 0.052 | 8.101 | |
| get_partition_agreement_scores | 30.230 | 0.048 | 31.843 | |
| get_sample_memberships | 34.898 | 0.120 | 35.472 | |
| get_signature_feature_coefs | 35.006 | 0.052 | 36.696 | |
| get_vote_frequencies_k | 0.392 | 0.016 | 0.409 | |
| omada | 26.645 | 0.040 | 27.278 | |
| optimalClustering | 0.076 | 0.000 | 0.076 | |
| partitionAgreement | 0.287 | 0.008 | 0.295 | |
| plot_average_stabilities | 14.507 | 0.008 | 15.645 | |
| plot_cluster_voting | 29.307 | 0.068 | 29.701 | |
| plot_feature_selection | 34.593 | 0.212 | 38.300 | |
| plot_partition_agreement | 36.874 | 0.152 | 44.043 | |
| plot_signature_feature | 36.974 | 0.212 | 37.536 | |
| plot_top30percent_coefficients | 0.999 | 0.004 | 1.004 | |
| plot_vote_frequencies | 0.615 | 0.016 | 0.632 | |
| toy_gene_memberships | 0.022 | 0.000 | 0.022 | |
| toy_genes | 0.000 | 0.001 | 0.001 | |