| Back to Multiple platform build/check report for BioC 3.16: simplified long |
This page was generated on 2023-04-12 11:04:21 -0400 (Wed, 12 Apr 2023).
| Hostname: | palomino4 |
| OS: | Windows Server 2022 Datacenter |
| Arch: | x64 |
| Platform: | x86_64-w64-mingw32 |
| R version: | 4.2.3 (2023-03-15 ucrt) -- "Shortstop Beagle" |
| R environment variables: | Renviron.bioc |
| R variable (VAR) | Value ('R CMD config <VAR>' output) |
| CC | gcc |
| CFLAGS | -O2 -Wall -std=gnu99 -mfpmath=sse -msse2 -mstackrealign |
| CPICFLAGS | |
| Please refer to 'R CMD config -h' for the meaning of these variables | |
Compiler version ('gcc --version' output):
gcc (GCC) 10.4.0 Copyright (C) 2020 Free Software Foundation, Inc. This is free software; see the source for copying conditions. There is NO warranty; not even for MERCHANTABILITY or FITNESS FOR A PARTICULAR PURPOSE.
| R variable (VAR) | Value ('R CMD config <VAR>' output) |
| CXX | g++ -std=gnu++14 |
| CXXFLAGS | -O2 -Wall -mfpmath=sse -msse2 -mstackrealign |
| CXXPICFLAGS | |
| Please refer to 'R CMD config -h' for the meaning of these variables | |
Compiler version ('g++ -std=gnu++14 --version' output):
g++ (GCC) 10.4.0 Copyright (C) 2020 Free Software Foundation, Inc. This is free software; see the source for copying conditions. There is NO warranty; not even for MERCHANTABILITY or FITNESS FOR A PARTICULAR PURPOSE.
| R variable (VAR) | Value ('R CMD config <VAR>' output) |
| CXX11 | g++ |
| CXX11FLAGS | -O2 -Wall -mfpmath=sse -msse2 -mstackrealign |
| CXX11PICFLAGS | |
| CXX11STD | -std=gnu++11 |
| Please refer to 'R CMD config -h' for the meaning of these variables | |
Compiler version ('g++ --version' output):
g++ (GCC) 10.4.0 Copyright (C) 2020 Free Software Foundation, Inc. This is free software; see the source for copying conditions. There is NO warranty; not even for MERCHANTABILITY or FITNESS FOR A PARTICULAR PURPOSE.
| R variable (VAR) | Value ('R CMD config <VAR>' output) |
| CXX14 | g++ |
| CXX14FLAGS | -O2 -Wall -mfpmath=sse -msse2 -mstackrealign |
| CXX14PICFLAGS | |
| CXX14STD | -std=gnu++14 |
| Please refer to 'R CMD config -h' for the meaning of these variables | |
Compiler version ('g++ --version' output):
g++ (GCC) 10.4.0 Copyright (C) 2020 Free Software Foundation, Inc. This is free software; see the source for copying conditions. There is NO warranty; not even for MERCHANTABILITY or FITNESS FOR A PARTICULAR PURPOSE.
| R variable (VAR) | Value ('R CMD config <VAR>' output) |
| CXX17 | g++ |
| CXX17FLAGS | -O2 -Wall -mfpmath=sse -msse2 -mstackrealign |
| CXX17PICFLAGS | |
| CXX17STD | -std=gnu++17 |
| Please refer to 'R CMD config -h' for the meaning of these variables | |
Compiler version ('g++ --version' output):
g++ (GCC) 10.4.0 Copyright (C) 2020 Free Software Foundation, Inc. This is free software; see the source for copying conditions. There is NO warranty; not even for MERCHANTABILITY or FITNESS FOR A PARTICULAR PURPOSE.
More information might be added in the future...