| Back to Multiple platform build/check report for BioC 3.16: simplified long |
|
This page was generated on 2023-03-20 11:06:13 -0400 (Mon, 20 Mar 2023).
| Hostname | OS | Arch (*) | R version | Installed pkgs |
|---|---|---|---|---|
| nebbiolo2 | Linux (Ubuntu 20.04.5 LTS) | x86_64 | 4.2.2 (2022-10-31) -- "Innocent and Trusting" | 4516 |
| palomino4 | Windows Server 2022 Datacenter | x64 | 4.2.2 (2022-10-31 ucrt) -- "Innocent and Trusting" | 4295 |
| lconway | macOS 12.5.1 Monterey | x86_64 | 4.2.2 (2022-10-31) -- "Innocent and Trusting" | 4324 |
| Click on any hostname to see more info about the system (e.g. compilers) (*) as reported by 'uname -p', except on Windows and Mac OS X | ||||
|
To the developers/maintainers of the omada package: - Please allow up to 24 hours (and sometimes 48 hours) for your latest push to git@git.bioconductor.org:packages/omada.git to reflect on this report. See How and When does the builder pull? When will my changes propagate? for more information. - Make sure to use the following settings in order to reproduce any error or warning you see on this page. |
| Package 1382/2183 | Hostname | OS / Arch | INSTALL | BUILD | CHECK | BUILD BIN | ||||||||
| omada 1.0.0 (landing page) Sokratis Kariotis
| nebbiolo2 | Linux (Ubuntu 20.04.5 LTS) / x86_64 | OK | OK | OK | |||||||||
| palomino4 | Windows Server 2022 Datacenter / x64 | OK | OK | OK | OK | |||||||||
| lconway | macOS 12.5.1 Monterey / x86_64 | OK | OK | OK | OK | |||||||||
| Package: omada |
| Version: 1.0.0 |
| Command: /Library/Frameworks/R.framework/Resources/bin/R CMD check --install=check:omada.install-out.txt --library=/Library/Frameworks/R.framework/Resources/library --no-vignettes --timings omada_1.0.0.tar.gz |
| StartedAt: 2023-03-17 21:46:39 -0400 (Fri, 17 Mar 2023) |
| EndedAt: 2023-03-17 21:58:18 -0400 (Fri, 17 Mar 2023) |
| EllapsedTime: 698.5 seconds |
| RetCode: 0 |
| Status: OK |
| CheckDir: omada.Rcheck |
| Warnings: 0 |
##############################################################################
##############################################################################
###
### Running command:
###
### /Library/Frameworks/R.framework/Resources/bin/R CMD check --install=check:omada.install-out.txt --library=/Library/Frameworks/R.framework/Resources/library --no-vignettes --timings omada_1.0.0.tar.gz
###
##############################################################################
##############################################################################
* using log directory ‘/Users/biocbuild/bbs-3.16-bioc/meat/omada.Rcheck’
* using R version 4.2.2 (2022-10-31)
* using platform: x86_64-apple-darwin17.0 (64-bit)
* using session charset: UTF-8
* using option ‘--no-vignettes’
* checking for file ‘omada/DESCRIPTION’ ... OK
* checking extension type ... Package
* this is package ‘omada’ version ‘1.0.0’
* package encoding: UTF-8
* checking package namespace information ... OK
* checking package dependencies ... NOTE
Depends: includes the non-default packages:
'pdfCluster', 'kernlab', 'fpc', 'Rcpp', 'diceR', 'ggplot2',
'reshape', 'clusterCrit', 'clValid', 'glmnet', 'dplyr'
Adding so many packages to the search path is excessive and importing
selectively is preferable.
* checking if this is a source package ... OK
* checking if there is a namespace ... OK
* checking for hidden files and directories ... OK
* checking for portable file names ... OK
* checking for sufficient/correct file permissions ... OK
* checking whether package ‘omada’ can be installed ... OK
* checking installed package size ... OK
* checking package directory ... OK
* checking ‘build’ directory ... OK
* checking DESCRIPTION meta-information ... OK
* checking top-level files ... NOTE
File
LICENSE
is not mentioned in the DESCRIPTION file.
* checking for left-over files ... OK
* checking index information ... OK
* checking package subdirectories ... OK
* checking R files for non-ASCII characters ... OK
* checking R files for syntax errors ... OK
* checking whether the package can be loaded ... OK
* checking whether the package can be loaded with stated dependencies ... OK
* checking whether the package can be unloaded cleanly ... OK
* checking whether the namespace can be loaded with stated dependencies ... OK
* checking whether the namespace can be unloaded cleanly ... OK
* checking dependencies in R code ... NOTE
Packages in Depends field not imported from:
‘Rcpp’ ‘clusterCrit’ ‘glmnet’ ‘kernlab’ ‘reshape’
These packages need to be imported from (in the NAMESPACE file)
for when this namespace is loaded but not attached.
* checking S3 generic/method consistency ... OK
* checking replacement functions ... OK
* checking foreign function calls ... OK
* checking R code for possible problems ... NOTE
clusterVoting: no visible binding for global variable ‘k’
clusterVoting: no visible binding for global variable ‘Frequency’
clusteringMethodSelection: no visible binding for global variable
‘value’
clusteringMethodSelection: no visible binding for global variable
‘methods’
featureSelection: no visible binding for global variable ‘featureSet’
featureSelection: no visible binding for global variable ‘means’
geneSignatures: no visible global function definition for ‘where’
geneSignatures: no visible binding for global variable ‘features’
geneSignatures: no visible binding for global variable ‘value’
geneSignatures: no visible binding for global variable ‘variable’
Undefined global functions or variables:
Frequency featureSet features k means methods value variable where
Consider adding
importFrom("utils", "methods")
to your NAMESPACE file.
* checking Rd files ... OK
* checking Rd metadata ... OK
* checking Rd cross-references ... OK
* checking for missing documentation entries ... OK
* checking for code/documentation mismatches ... OK
* checking Rd \usage sections ... OK
* checking Rd contents ... OK
* checking for unstated dependencies in examples ... OK
* checking contents of ‘data’ directory ... OK
* checking data for non-ASCII characters ... OK
* checking LazyData ... OK
* checking data for ASCII and uncompressed saves ... OK
* checking files in ‘vignettes’ ... OK
* checking examples ... OK
Examples with CPU (user + system) or elapsed time > 5s
user system elapsed
get_signature_feature_coefs 27.918 11.181 51.943
get_feature_selection_scores 35.963 0.979 37.041
get_feature_selection_optimal_number_of_features 35.384 0.981 36.469
plot_partition_agreement 30.252 0.701 40.930
plot_signature_feature 27.609 0.719 39.620
get_sample_memberships 24.134 3.587 33.351
plot_feature_selection 26.557 0.758 33.038
get_cluster_voting_metric_votes 24.891 0.636 25.738
get_cluster_voting_k_votes 24.178 0.624 24.853
get_cluster_voting_memberships 23.146 0.614 23.811
get_feature_selection_optimal_features 23.144 0.616 23.821
get_partition_agreement_scores 22.958 0.655 23.671
get_cluster_voting_scores 21.684 0.654 22.408
plot_cluster_voting 19.525 1.870 23.107
omada 16.741 0.992 18.089
get_optimal_features 8.614 0.222 8.855
get_optimal_number_of_features 8.071 0.187 8.279
get_optimal_stability_score 7.871 0.198 8.090
plot_average_stabilities 7.408 0.250 7.683
get_optimal_memberships 6.741 0.179 6.931
featureSelection 6.590 0.202 6.808
get_optimal_parameter_used 6.401 0.168 6.586
* checking for unstated dependencies in ‘tests’ ... OK
* checking tests ...
Running ‘testthat.R’
OK
* checking for unstated dependencies in vignettes ... OK
* checking package vignettes in ‘inst/doc’ ... OK
* checking running R code from vignettes ... SKIPPED
* checking re-building of vignette outputs ... SKIPPED
* checking PDF version of manual ... OK
* DONE
Status: 4 NOTEs
See
‘/Users/biocbuild/bbs-3.16-bioc/meat/omada.Rcheck/00check.log’
for details.
omada.Rcheck/00install.out
############################################################################## ############################################################################## ### ### Running command: ### ### /Library/Frameworks/R.framework/Resources/bin/R CMD INSTALL omada ### ############################################################################## ############################################################################## * installing to library ‘/Library/Frameworks/R.framework/Versions/4.2/Resources/library’ * installing *source* package ‘omada’ ... ** using staged installation ** R ** data *** moving datasets to lazyload DB ** inst ** byte-compile and prepare package for lazy loading ** help *** installing help indices ** building package indices ** installing vignettes ** testing if installed package can be loaded from temporary location ** testing if installed package can be loaded from final location ** testing if installed package keeps a record of temporary installation path * DONE (omada)
omada.Rcheck/tests/testthat.Rout
R version 4.2.2 (2022-10-31) -- "Innocent and Trusting"
Copyright (C) 2022 The R Foundation for Statistical Computing
Platform: x86_64-apple-darwin17.0 (64-bit)
R is free software and comes with ABSOLUTELY NO WARRANTY.
You are welcome to redistribute it under certain conditions.
Type 'license()' or 'licence()' for distribution details.
R is a collaborative project with many contributors.
Type 'contributors()' for more information and
'citation()' on how to cite R or R packages in publications.
Type 'demo()' for some demos, 'help()' for on-line help, or
'help.start()' for an HTML browser interface to help.
Type 'q()' to quit R.
> library(testthat)
> library(omada)
Loading required package: pdfCluster
pdfCluster 1.0-4
Loading required package: kernlab
Loading required package: fpc
Loading required package: Rcpp
Loading required package: diceR
Loading required package: ggplot2
Attaching package: 'ggplot2'
The following object is masked from 'package:kernlab':
alpha
Loading required package: reshape
Loading required package: clusterCrit
Loading required package: clValid
Loading required package: cluster
Loading required package: glmnet
Loading required package: Matrix
Attaching package: 'Matrix'
The following object is masked from 'package:reshape':
expand
Loaded glmnet 4.1-6
Loading required package: dplyr
Attaching package: 'dplyr'
The following object is masked from 'package:reshape':
rename
The following object is masked from 'package:pdfCluster':
groups
The following object is masked from 'package:testthat':
matches
The following objects are masked from 'package:stats':
filter, lag
The following objects are masked from 'package:base':
intersect, setdiff, setequal, union
>
> test_check("omada")
[ FAIL 0 | WARN 1 | SKIP 0 | PASS 39 ]
[ FAIL 0 | WARN 1 | SKIP 0 | PASS 39 ]
>
> proc.time()
user system elapsed
76.546 1.790 92.692
omada.Rcheck/omada-Ex.timings
| name | user | system | elapsed | |
| clusterVoting | 1.493 | 0.081 | 1.576 | |
| clusteringMethodSelection | 0.850 | 0.035 | 0.886 | |
| feasibilityAnalysis | 1.037 | 0.030 | 1.069 | |
| feasibilityAnalysisDataBased | 1.903 | 0.105 | 2.014 | |
| featureSelection | 6.590 | 0.202 | 6.808 | |
| geneSignatures | 0.749 | 0.007 | 0.760 | |
| get_agreement_scores | 0.134 | 0.004 | 0.138 | |
| get_average_feature_k_stabilities | 4.441 | 0.110 | 4.559 | |
| get_average_stabilities_per_k | 0.714 | 0.004 | 0.719 | |
| get_average_stability | 0.728 | 0.004 | 0.733 | |
| get_cluster_memberships_k | 0.484 | 0.027 | 0.510 | |
| get_cluster_voting_k_votes | 24.178 | 0.624 | 24.853 | |
| get_cluster_voting_memberships | 23.146 | 0.614 | 23.811 | |
| get_cluster_voting_metric_votes | 24.891 | 0.636 | 25.738 | |
| get_cluster_voting_scores | 21.684 | 0.654 | 22.408 | |
| get_coefficient_dataset | 0.320 | 0.006 | 0.325 | |
| get_feature_selection_optimal_features | 23.144 | 0.616 | 23.821 | |
| get_feature_selection_optimal_number_of_features | 35.384 | 0.981 | 36.469 | |
| get_feature_selection_scores | 35.963 | 0.979 | 37.041 | |
| get_generated_dataset | 2.732 | 0.037 | 2.773 | |
| get_internal_metric_scores | 0.229 | 0.009 | 0.238 | |
| get_max_stability | 0.741 | 0.003 | 0.747 | |
| get_metric_votes_k | 0.211 | 0.015 | 0.227 | |
| get_optimal_features | 8.614 | 0.222 | 8.855 | |
| get_optimal_memberships | 6.741 | 0.179 | 6.931 | |
| get_optimal_number_of_features | 8.071 | 0.187 | 8.279 | |
| get_optimal_parameter_used | 6.401 | 0.168 | 6.586 | |
| get_optimal_stability_score | 7.871 | 0.198 | 8.090 | |
| get_partition_agreement_scores | 22.958 | 0.655 | 23.671 | |
| get_sample_memberships | 24.134 | 3.587 | 33.351 | |
| get_signature_feature_coefs | 27.918 | 11.181 | 51.943 | |
| get_vote_frequencies_k | 0.277 | 0.256 | 0.687 | |
| omada | 16.741 | 0.992 | 18.089 | |
| optimalClustering | 0.072 | 0.004 | 0.076 | |
| partitionAgreement | 0.261 | 0.007 | 0.268 | |
| plot_average_stabilities | 7.408 | 0.250 | 7.683 | |
| plot_cluster_voting | 19.525 | 1.870 | 23.107 | |
| plot_feature_selection | 26.557 | 0.758 | 33.038 | |
| plot_partition_agreement | 30.252 | 0.701 | 40.930 | |
| plot_signature_feature | 27.609 | 0.719 | 39.620 | |
| plot_top30percent_coefficients | 0.534 | 0.003 | 0.593 | |
| plot_vote_frequencies | 0.348 | 0.009 | 0.389 | |
| toy_gene_memberships | 0.012 | 0.006 | 0.062 | |
| toy_genes | 0.001 | 0.002 | 0.003 | |