| Back to Multiple platform build/check report for BioC 3.16: simplified long |
|
This page was generated on 2023-04-12 11:05:43 -0400 (Wed, 12 Apr 2023).
| Hostname | OS | Arch (*) | R version | Installed pkgs |
|---|---|---|---|---|
| nebbiolo2 | Linux (Ubuntu 20.04.5 LTS) | x86_64 | 4.2.3 (2023-03-15) -- "Shortstop Beagle" | 4502 |
| palomino4 | Windows Server 2022 Datacenter | x64 | 4.2.3 (2023-03-15 ucrt) -- "Shortstop Beagle" | 4282 |
| lconway | macOS 12.5.1 Monterey | x86_64 | 4.2.3 (2023-03-15) -- "Shortstop Beagle" | 4310 |
| Click on any hostname to see more info about the system (e.g. compilers) (*) as reported by 'uname -p', except on Windows and Mac OS X | ||||
|
To the developers/maintainers of the omada package: - Please allow up to 24 hours (and sometimes 48 hours) for your latest push to git@git.bioconductor.org:packages/omada.git to reflect on this report. See How and When does the builder pull? When will my changes propagate? for more information. - Make sure to use the following settings in order to reproduce any error or warning you see on this page. |
| Package 1382/2183 | Hostname | OS / Arch | INSTALL | BUILD | CHECK | BUILD BIN | ||||||||
| omada 1.0.0 (landing page) Sokratis Kariotis
| nebbiolo2 | Linux (Ubuntu 20.04.5 LTS) / x86_64 | ERROR | ERROR | skipped | |||||||||
| palomino4 | Windows Server 2022 Datacenter / x64 | ERROR | ERROR | skipped | skipped | |||||||||
| lconway | macOS 12.5.1 Monterey / x86_64 | ERROR | ERROR | skipped | skipped | |||||||||
| Package: omada |
| Version: 1.0.0 |
| Command: chmod a+r omada -R && F:\biocbuild\bbs-3.16-bioc\R\bin\R.exe CMD build --keep-empty-dirs --no-resave-data omada |
| StartedAt: 2023-04-10 20:15:23 -0400 (Mon, 10 Apr 2023) |
| EndedAt: 2023-04-10 20:15:25 -0400 (Mon, 10 Apr 2023) |
| EllapsedTime: 2.0 seconds |
| RetCode: 1 |
| Status: ERROR |
| PackageFile: None |
| PackageFileSize: NA |
##############################################################################
##############################################################################
###
### Running command:
###
### chmod a+r omada -R && F:\biocbuild\bbs-3.16-bioc\R\bin\R.exe CMD build --keep-empty-dirs --no-resave-data omada
###
##############################################################################
##############################################################################
* checking for file 'omada/DESCRIPTION' ... OK
* preparing 'omada':
* checking DESCRIPTION meta-information ... OK
* installing the package to build vignettes
-----------------------------------
ERROR: dependency 'clusterCrit' is not available for package 'omada'
* removing 'F:/biocbuild/bbs-3.16-bioc/tmpdir/RtmpGWTpUB/Rinst2bbc2f677cf3/omada'
-----------------------------------
ERROR: package installation failed