| Back to Multiple platform build/check report for BioC 3.16 |
|
This page was generated on 2022-07-07 11:11:29 -0400 (Thu, 07 Jul 2022).
| Hostname | OS | Arch (*) | R version | Installed pkgs |
|---|---|---|---|---|
| nebbiolo2 | Linux (Ubuntu 20.04.4 LTS) | x86_64 | 4.2.0 Patched (2022-06-02 r82447) -- "Vigorous Calisthenics" | 4343 |
| palomino4 | Windows Server 2022 Datacenter | x64 | 4.2.0 Patched (2022-06-02 r82447 ucrt) -- "Vigorous Calisthenics" | 4148 |
| lconway | macOS 12.2.1 Monterey | x86_64 | 4.2.0 Patched (2022-05-29 r82424) -- "Vigorous Calisthenics" | 4160 |
| kjohnson | macOS 12.4 Monterey | arm64 | 4.2.0 Patched (2022-06-09 r82473) -- "Vigorous Calisthenics" | 3115 |
| Click on any hostname to see more info about the system (e.g. compilers) (*) as reported by 'uname -p', except on Windows and Mac OS X | ||||
|
To the developers/maintainers of the methimpute package: - Please allow up to 24 hours (and sometimes 48 hours) for your latest push to git@git.bioconductor.org:packages/methimpute.git to reflect on this report. See How and When does the builder pull? When will my changes propagate? for more information. - Make sure to use the following settings in order to reproduce any error or warning you see on this page. |
| Package 1133/2124 | Hostname | OS / Arch | INSTALL | BUILD | CHECK | BUILD BIN | ||||||||
| methimpute 1.19.0 (landing page) Aaron Taudt
| nebbiolo2 | Linux (Ubuntu 20.04.4 LTS) / x86_64 | OK | OK | OK | |||||||||
| palomino4 | Windows Server 2022 Datacenter / x64 | OK | OK | OK | OK | |||||||||
| lconway | macOS 12.2.1 Monterey / x86_64 | OK | OK | OK | OK | |||||||||
| kjohnson | macOS 12.4 Monterey / arm64 | OK | OK | NA | ERROR | |||||||||
| Package: methimpute |
| Version: 1.19.0 |
| Command: /Library/Frameworks/R.framework/Resources/bin/R CMD build --keep-empty-dirs --no-resave-data methimpute |
| StartedAt: 2022-07-07 00:06:44 -0400 (Thu, 07 Jul 2022) |
| EndedAt: 2022-07-07 00:09:21 -0400 (Thu, 07 Jul 2022) |
| EllapsedTime: 156.2 seconds |
| RetCode: 0 |
| Status: OK |
| PackageFile: methimpute_1.19.0.tar.gz |
| PackageFileSize: 1.267 MiB |
##############################################################################
##############################################################################
###
### Running command:
###
### /Library/Frameworks/R.framework/Resources/bin/R CMD build --keep-empty-dirs --no-resave-data methimpute
###
##############################################################################
##############################################################################
* checking for file ‘methimpute/DESCRIPTION’ ... OK
* preparing ‘methimpute’:
* checking DESCRIPTION meta-information ... OK
* cleaning src
* installing the package to build vignettes
* creating vignettes ... OK
* cleaning src
* checking for LF line-endings in source and make files and shell scripts
* checking for empty or unneeded directories
* looking to see if a ‘data/datalist’ file should be added
NB: this package now depends on R (>= 3.5.0)
WARNING: Added dependency on R >= 3.5.0 because serialized objects in
serialize/load version 3 cannot be read in older versions of R.
File(s) containing such objects:
‘methimpute/data/arabidopsis_TEs.RData’
‘methimpute/data/arabidopsis_genes.RData’
‘methimpute/data/arabidopsis_toydata.RData’
* building ‘methimpute_1.19.0.tar.gz’