| Back to Multiple platform build/check report for BioC 3.16: simplified long |
|
This page was generated on 2023-04-12 11:05:40 -0400 (Wed, 12 Apr 2023).
| Hostname | OS | Arch (*) | R version | Installed pkgs |
|---|---|---|---|---|
| nebbiolo2 | Linux (Ubuntu 20.04.5 LTS) | x86_64 | 4.2.3 (2023-03-15) -- "Shortstop Beagle" | 4502 |
| palomino4 | Windows Server 2022 Datacenter | x64 | 4.2.3 (2023-03-15 ucrt) -- "Shortstop Beagle" | 4282 |
| lconway | macOS 12.5.1 Monterey | x86_64 | 4.2.3 (2023-03-15) -- "Shortstop Beagle" | 4310 |
| Click on any hostname to see more info about the system (e.g. compilers) (*) as reported by 'uname -p', except on Windows and Mac OS X | ||||
|
To the developers/maintainers of the methimpute package: - Please allow up to 24 hours (and sometimes 48 hours) for your latest push to git@git.bioconductor.org:packages/methimpute.git to reflect on this report. See How and When does the builder pull? When will my changes propagate? for more information. - Make sure to use the following settings in order to reproduce any error or warning you see on this page. |
| Package 1163/2183 | Hostname | OS / Arch | INSTALL | BUILD | CHECK | BUILD BIN | ||||||||
| methimpute 1.20.0 (landing page) Aaron Taudt
| nebbiolo2 | Linux (Ubuntu 20.04.5 LTS) / x86_64 | OK | OK | OK | |||||||||
| palomino4 | Windows Server 2022 Datacenter / x64 | OK | OK | OK | OK | |||||||||
| lconway | macOS 12.5.1 Monterey / x86_64 | OK | OK | OK | OK | |||||||||
| Package: methimpute |
| Version: 1.20.0 |
| Command: rm -rf methimpute.buildbin-libdir && mkdir methimpute.buildbin-libdir && F:\biocbuild\bbs-3.16-bioc\R\bin\R.exe CMD INSTALL --build --library=methimpute.buildbin-libdir methimpute_1.20.0.tar.gz |
| StartedAt: 2023-04-11 08:17:12 -0400 (Tue, 11 Apr 2023) |
| EndedAt: 2023-04-11 08:18:10 -0400 (Tue, 11 Apr 2023) |
| EllapsedTime: 58.4 seconds |
| RetCode: 0 |
| Status: OK |
| PackageFile: methimpute_1.20.0.zip |
| PackageFileSize: 1.896 MiB |
##############################################################################
##############################################################################
###
### Running command:
###
### rm -rf methimpute.buildbin-libdir && mkdir methimpute.buildbin-libdir && F:\biocbuild\bbs-3.16-bioc\R\bin\R.exe CMD INSTALL --build --library=methimpute.buildbin-libdir methimpute_1.20.0.tar.gz
###
##############################################################################
##############################################################################
* installing *source* package 'methimpute' ...
** using staged installation
** libs
g++ -std=gnu++11 -I"F:/biocbuild/bbs-3.16-bioc/R/include" -DNDEBUG -I'F:/biocbuild/bbs-3.16-bioc/R/library/Rcpp/include' -I"C:/rtools42/x86_64-w64-mingw32.static.posix/include" -fopenmp -O2 -Wall -mfpmath=sse -msse2 -mstackrealign -c RcppExports.cpp -o RcppExports.o
g++ -std=gnu++11 -I"F:/biocbuild/bbs-3.16-bioc/R/include" -DNDEBUG -I'F:/biocbuild/bbs-3.16-bioc/R/library/Rcpp/include' -I"C:/rtools42/x86_64-w64-mingw32.static.posix/include" -fopenmp -O2 -Wall -mfpmath=sse -msse2 -mstackrealign -c densities.cpp -o densities.o
densities.cpp: In member function 'virtual void BinomialTestContext::calc_densities(Rcpp::Matrix<14>::Row&)':
densities.cpp:614:31: warning: 'prob_context' may be used uninitialized in this function [-Wmaybe-uninitialized]
614 | if (verbosity >= 4) Rprintf("obs_test[t=%d] = %d, obs_total[t] = %d, prob_context = %g\n", t, obs_test[t], obs_total[t], prob_context);
| ~~~~~~~^~~~~~~~~~~~~~~~~~~~~~~~~~~~~~~~~~~~~~~~~~~~~~~~~~~~~~~~~~~~~~~~~~~~~~~~~~~~~~~~~~~~~~~~~~~~~~~~~~~~~~~~~~~
g++ -std=gnu++11 -I"F:/biocbuild/bbs-3.16-bioc/R/include" -DNDEBUG -I'F:/biocbuild/bbs-3.16-bioc/R/library/Rcpp/include' -I"C:/rtools42/x86_64-w64-mingw32.static.posix/include" -fopenmp -O2 -Wall -mfpmath=sse -msse2 -mstackrealign -c fitHMM.cpp -o fitHMM.o
g++ -std=gnu++11 -I"F:/biocbuild/bbs-3.16-bioc/R/include" -DNDEBUG -I'F:/biocbuild/bbs-3.16-bioc/R/library/Rcpp/include' -I"C:/rtools42/x86_64-w64-mingw32.static.posix/include" -fopenmp -O2 -Wall -mfpmath=sse -msse2 -mstackrealign -c fitHMM_context.cpp -o fitHMM_context.o
g++ -std=gnu++11 -I"F:/biocbuild/bbs-3.16-bioc/R/include" -DNDEBUG -I'F:/biocbuild/bbs-3.16-bioc/R/library/Rcpp/include' -I"C:/rtools42/x86_64-w64-mingw32.static.posix/include" -fopenmp -O2 -Wall -mfpmath=sse -msse2 -mstackrealign -c hmm_context.cpp -o hmm_context.o
hmm_context.cpp: In destructor 'HMM_context::~HMM_context()':
hmm_context.cpp:68:17: warning: comparison of integer expressions of different signedness: 'int' and 'std::vector<Density*>::size_type' {aka 'long long unsigned int'} [-Wsign-compare]
68 | for (int i=0; i<this->emissionDensities.size(); i++)
| ~^~~~~~~~~~~~~~~~~~~~~~~~~~~~~~~
gcc -I"F:/biocbuild/bbs-3.16-bioc/R/include" -DNDEBUG -I'F:/biocbuild/bbs-3.16-bioc/R/library/Rcpp/include' -I"C:/rtools42/x86_64-w64-mingw32.static.posix/include" -O2 -Wall -std=gnu99 -mfpmath=sse -msse2 -mstackrealign -c methimpute_init.c -o methimpute_init.o
g++ -std=gnu++11 -I"F:/biocbuild/bbs-3.16-bioc/R/include" -DNDEBUG -I'F:/biocbuild/bbs-3.16-bioc/R/library/Rcpp/include' -I"C:/rtools42/x86_64-w64-mingw32.static.posix/include" -fopenmp -O2 -Wall -mfpmath=sse -msse2 -mstackrealign -c scalehmm.cpp -o scalehmm.o
scalehmm.cpp: In destructor 'ScaleHMM::~ScaleHMM()':
scalehmm.cpp:311:17: warning: comparison of integer expressions of different signedness: 'int' and 'std::vector<Density*>::size_type' {aka 'long long unsigned int'} [-Wsign-compare]
311 | for (int i=0; i<this->emissionDensities.size(); i++)
| ~^~~~~~~~~~~~~~~~~~~~~~~~~~~~~~~
g++ -shared -s -static-libgcc -o methimpute.dll tmp.def RcppExports.o densities.o fitHMM.o fitHMM_context.o hmm_context.o methimpute_init.o scalehmm.o -fopenmp -LC:/rtools42/x86_64-w64-mingw32.static.posix/lib/x64 -LC:/rtools42/x86_64-w64-mingw32.static.posix/lib -LF:/biocbuild/bbs-3.16-bioc/R/bin/x64 -lR
installing to F:/biocbuild/bbs-3.16-bioc/meat/methimpute.buildbin-libdir/00LOCK-methimpute/00new/methimpute/libs/x64
** R
** data
** inst
** byte-compile and prepare package for lazy loading
** help
*** installing help indices
** building package indices
** installing vignettes
** testing if installed package can be loaded from temporary location
** testing if installed package can be loaded from final location
** testing if installed package keeps a record of temporary installation path
* MD5 sums
packaged installation of 'methimpute' as methimpute_1.20.0.zip
* DONE (methimpute)