| Back to Multiple platform build/check report for BioC 3.16: simplified long |
|
This page was generated on 2023-04-12 11:06:14 -0400 (Wed, 12 Apr 2023).
| Hostname | OS | Arch (*) | R version | Installed pkgs |
|---|---|---|---|---|
| nebbiolo2 | Linux (Ubuntu 20.04.5 LTS) | x86_64 | 4.2.3 (2023-03-15) -- "Shortstop Beagle" | 4502 |
| palomino4 | Windows Server 2022 Datacenter | x64 | 4.2.3 (2023-03-15 ucrt) -- "Shortstop Beagle" | 4282 |
| lconway | macOS 12.5.1 Monterey | x86_64 | 4.2.3 (2023-03-15) -- "Shortstop Beagle" | 4310 |
| Click on any hostname to see more info about the system (e.g. compilers) (*) as reported by 'uname -p', except on Windows and Mac OS X | ||||
|
To the developers/maintainers of the methimpute package: - Please allow up to 24 hours (and sometimes 48 hours) for your latest push to git@git.bioconductor.org:packages/methimpute.git to reflect on this report. See How and When does the builder pull? When will my changes propagate? for more information. - Make sure to use the following settings in order to reproduce any error or warning you see on this page. |
| Package 1163/2183 | Hostname | OS / Arch | INSTALL | BUILD | CHECK | BUILD BIN | ||||||||
| methimpute 1.20.0 (landing page) Aaron Taudt
| nebbiolo2 | Linux (Ubuntu 20.04.5 LTS) / x86_64 | OK | OK | OK | |||||||||
| palomino4 | Windows Server 2022 Datacenter / x64 | OK | OK | OK | OK | |||||||||
| lconway | macOS 12.5.1 Monterey / x86_64 | OK | OK | OK | OK | |||||||||
| Package: methimpute |
| Version: 1.20.0 |
| Command: rm -rf methimpute.buildbin-libdir && mkdir methimpute.buildbin-libdir && /Users/biocbuild/BBS/utils/build-universal.sh methimpute_1.20.0.tar.gz /Library/Frameworks/R.framework/Resources/bin/R methimpute.buildbin-libdir |
| StartedAt: 2023-04-10 23:51:18 -0400 (Mon, 10 Apr 2023) |
| EndedAt: 2023-04-10 23:52:22 -0400 (Mon, 10 Apr 2023) |
| EllapsedTime: 64.3 seconds |
| RetCode: 0 |
| Status: OK |
| PackageFile: methimpute_1.20.0.tgz |
| PackageFileSize: 1.52 MiB |
##############################################################################
##############################################################################
###
### Running command:
###
### rm -rf methimpute.buildbin-libdir && mkdir methimpute.buildbin-libdir && /Users/biocbuild/BBS/utils/build-universal.sh methimpute_1.20.0.tar.gz /Library/Frameworks/R.framework/Resources/bin/R methimpute.buildbin-libdir
###
##############################################################################
##############################################################################
>>>>>>>
>>>>>>> INSTALLATION WITH 'R CMD INSTALL --preclean --no-multiarch --library=methimpute.buildbin-libdir methimpute_1.20.0.tar.gz'
>>>>>>>
* installing *source* package ‘methimpute’ ...
** using staged installation
** libs
clang++ -mmacosx-version-min=10.13 -std=gnu++11 -I"/Library/Frameworks/R.framework/Resources/include" -DNDEBUG -I'/Library/Frameworks/R.framework/Versions/4.2/Resources/library/Rcpp/include' -I/usr/local/include -fPIC -Wall -g -O2 -c RcppExports.cpp -o RcppExports.o
clang++ -mmacosx-version-min=10.13 -std=gnu++11 -I"/Library/Frameworks/R.framework/Resources/include" -DNDEBUG -I'/Library/Frameworks/R.framework/Versions/4.2/Resources/library/Rcpp/include' -I/usr/local/include -fPIC -Wall -g -O2 -c densities.cpp -o densities.o
In file included from densities.cpp:1:
./densities.h:98:10: warning: 'BinomialTest::getLogDensityAt' hides overloaded virtual function [-Woverloaded-virtual]
double getLogDensityAt(int test, int total);
^
./densities.h:31:18: note: hidden overloaded virtual function 'Density::getLogDensityAt' declared here: different number of parameters (1 vs 2)
virtual double getLogDensityAt(int) { return(0); };
^
./densities.h:224:10: warning: 'Beta::getLogDensityAt' hides overloaded virtual function [-Woverloaded-virtual]
double getLogDensityAt(double x);
^
./densities.h:31:18: note: hidden overloaded virtual function 'Density::getLogDensityAt' declared here: type mismatch at 1st parameter ('int' vs 'double')
virtual double getLogDensityAt(int) { return(0); };
^
2 warnings generated.
clang++ -mmacosx-version-min=10.13 -std=gnu++11 -I"/Library/Frameworks/R.framework/Resources/include" -DNDEBUG -I'/Library/Frameworks/R.framework/Versions/4.2/Resources/library/Rcpp/include' -I/usr/local/include -fPIC -Wall -g -O2 -c fitHMM.cpp -o fitHMM.o
In file included from fitHMM.cpp:2:
In file included from ./scalehmm.h:4:
./densities.h:98:10: warning: 'BinomialTest::getLogDensityAt' hides overloaded virtual function [-Woverloaded-virtual]
double getLogDensityAt(int test, int total);
^
./densities.h:31:18: note: hidden overloaded virtual function 'Density::getLogDensityAt' declared here: different number of parameters (1 vs 2)
virtual double getLogDensityAt(int) { return(0); };
^
./densities.h:224:10: warning: 'Beta::getLogDensityAt' hides overloaded virtual function [-Woverloaded-virtual]
double getLogDensityAt(double x);
^
./densities.h:31:18: note: hidden overloaded virtual function 'Density::getLogDensityAt' declared here: type mismatch at 1st parameter ('int' vs 'double')
virtual double getLogDensityAt(int) { return(0); };
^
2 warnings generated.
clang++ -mmacosx-version-min=10.13 -std=gnu++11 -I"/Library/Frameworks/R.framework/Resources/include" -DNDEBUG -I'/Library/Frameworks/R.framework/Versions/4.2/Resources/library/Rcpp/include' -I/usr/local/include -fPIC -Wall -g -O2 -c fitHMM_context.cpp -o fitHMM_context.o
In file included from fitHMM_context.cpp:2:
In file included from ./hmm_context.h:4:
./densities.h:98:10: warning: 'BinomialTest::getLogDensityAt' hides overloaded virtual function [-Woverloaded-virtual]
double getLogDensityAt(int test, int total);
^
./densities.h:31:18: note: hidden overloaded virtual function 'Density::getLogDensityAt' declared here: different number of parameters (1 vs 2)
virtual double getLogDensityAt(int) { return(0); };
^
./densities.h:224:10: warning: 'Beta::getLogDensityAt' hides overloaded virtual function [-Woverloaded-virtual]
double getLogDensityAt(double x);
^
./densities.h:31:18: note: hidden overloaded virtual function 'Density::getLogDensityAt' declared here: type mismatch at 1st parameter ('int' vs 'double')
virtual double getLogDensityAt(int) { return(0); };
^
2 warnings generated.
clang++ -mmacosx-version-min=10.13 -std=gnu++11 -I"/Library/Frameworks/R.framework/Resources/include" -DNDEBUG -I'/Library/Frameworks/R.framework/Versions/4.2/Resources/library/Rcpp/include' -I/usr/local/include -fPIC -Wall -g -O2 -c hmm_context.cpp -o hmm_context.o
In file included from hmm_context.cpp:1:
In file included from ./hmm_context.h:4:
./densities.h:98:10: warning: 'BinomialTest::getLogDensityAt' hides overloaded virtual function [-Woverloaded-virtual]
double getLogDensityAt(int test, int total);
^
./densities.h:31:18: note: hidden overloaded virtual function 'Density::getLogDensityAt' declared here: different number of parameters (1 vs 2)
virtual double getLogDensityAt(int) { return(0); };
^
./densities.h:224:10: warning: 'Beta::getLogDensityAt' hides overloaded virtual function [-Woverloaded-virtual]
double getLogDensityAt(double x);
^
./densities.h:31:18: note: hidden overloaded virtual function 'Density::getLogDensityAt' declared here: type mismatch at 1st parameter ('int' vs 'double')
virtual double getLogDensityAt(int) { return(0); };
^
2 warnings generated.
clang -mmacosx-version-min=10.13 -I"/Library/Frameworks/R.framework/Resources/include" -DNDEBUG -I'/Library/Frameworks/R.framework/Versions/4.2/Resources/library/Rcpp/include' -I/usr/local/include -fPIC -Wall -g -O2 -c methimpute_init.c -o methimpute_init.o
clang++ -mmacosx-version-min=10.13 -std=gnu++11 -I"/Library/Frameworks/R.framework/Resources/include" -DNDEBUG -I'/Library/Frameworks/R.framework/Versions/4.2/Resources/library/Rcpp/include' -I/usr/local/include -fPIC -Wall -g -O2 -c scalehmm.cpp -o scalehmm.o
In file included from scalehmm.cpp:1:
In file included from ./scalehmm.h:4:
./densities.h:98:10: warning: 'BinomialTest::getLogDensityAt' hides overloaded virtual function [-Woverloaded-virtual]
double getLogDensityAt(int test, int total);
^
./densities.h:31:18: note: hidden overloaded virtual function 'Density::getLogDensityAt' declared here: different number of parameters (1 vs 2)
virtual double getLogDensityAt(int) { return(0); };
^
./densities.h:224:10: warning: 'Beta::getLogDensityAt' hides overloaded virtual function [-Woverloaded-virtual]
double getLogDensityAt(double x);
^
./densities.h:31:18: note: hidden overloaded virtual function 'Density::getLogDensityAt' declared here: type mismatch at 1st parameter ('int' vs 'double')
virtual double getLogDensityAt(int) { return(0); };
^
2 warnings generated.
clang++ -mmacosx-version-min=10.13 -std=gnu++11 -dynamiclib -Wl,-headerpad_max_install_names -undefined dynamic_lookup -single_module -multiply_defined suppress -L/Library/Frameworks/R.framework/Resources/lib -L/usr/local/lib -o methimpute.so RcppExports.o densities.o fitHMM.o fitHMM_context.o hmm_context.o methimpute_init.o scalehmm.o -F/Library/Frameworks/R.framework/.. -framework R -Wl,-framework -Wl,CoreFoundation
installing to /Users/biocbuild/bbs-3.16-bioc/meat/methimpute.buildbin-libdir/00LOCK-methimpute/00new/methimpute/libs
** R
** data
** inst
** byte-compile and prepare package for lazy loading
** help
*** installing help indices
** building package indices
** installing vignettes
** testing if installed package can be loaded from temporary location
** checking absolute paths in shared objects and dynamic libraries
** testing if installed package can be loaded from final location
** testing if installed package keeps a record of temporary installation path
* DONE (methimpute)
>>>>>>>
>>>>>>> FIXING LINKS FOR methimpute.buildbin-libdir/methimpute/libs/methimpute.so
>>>>>>>
install_name_tool -change "/usr/local/lib/libgcc_s.1.dylib" "/Library/Frameworks/R.framework/Versions/4.2/Resources/lib/libgcc_s.1.dylib" "methimpute.buildbin-libdir/methimpute/libs/methimpute.so"
install_name_tool -change "/usr/local/lib/libgfortran.5.dylib" "/Library/Frameworks/R.framework/Versions/4.2/Resources/lib/libgfortran.5.dylib" "methimpute.buildbin-libdir/methimpute/libs/methimpute.so"
install_name_tool -change "/usr/local/lib/libquadmath.0.dylib" "/Library/Frameworks/R.framework/Versions/4.2/Resources/lib/libquadmath.0.dylib" "methimpute.buildbin-libdir/methimpute/libs/methimpute.so"