| Back to Multiple platform build/check report for BioC 3.16: simplified long |
|
This page was generated on 2023-04-12 11:05:35 -0400 (Wed, 12 Apr 2023).
| Hostname | OS | Arch (*) | R version | Installed pkgs |
|---|---|---|---|---|
| nebbiolo2 | Linux (Ubuntu 20.04.5 LTS) | x86_64 | 4.2.3 (2023-03-15) -- "Shortstop Beagle" | 4502 |
| palomino4 | Windows Server 2022 Datacenter | x64 | 4.2.3 (2023-03-15 ucrt) -- "Shortstop Beagle" | 4282 |
| lconway | macOS 12.5.1 Monterey | x86_64 | 4.2.3 (2023-03-15) -- "Shortstop Beagle" | 4310 |
| Click on any hostname to see more info about the system (e.g. compilers) (*) as reported by 'uname -p', except on Windows and Mac OS X | ||||
|
To the developers/maintainers of the graper package: - Please allow up to 24 hours (and sometimes 48 hours) for your latest push to git@git.bioconductor.org:packages/graper.git to reflect on this report. See How and When does the builder pull? When will my changes propagate? for more information. - Make sure to use the following settings in order to reproduce any error or warning you see on this page. |
| Package 854/2183 | Hostname | OS / Arch | INSTALL | BUILD | CHECK | BUILD BIN | ||||||||
| graper 1.14.2 (landing page) Britta Velten
| nebbiolo2 | Linux (Ubuntu 20.04.5 LTS) / x86_64 | OK | OK | OK | |||||||||
| palomino4 | Windows Server 2022 Datacenter / x64 | OK | OK | OK | OK | |||||||||
| lconway | macOS 12.5.1 Monterey / x86_64 | OK | OK | OK | OK | |||||||||
| Package: graper |
| Version: 1.14.2 |
| Command: rm -rf graper.buildbin-libdir && mkdir graper.buildbin-libdir && F:\biocbuild\bbs-3.16-bioc\R\bin\R.exe CMD INSTALL --build --library=graper.buildbin-libdir graper_1.14.2.tar.gz |
| StartedAt: 2023-04-11 08:06:20 -0400 (Tue, 11 Apr 2023) |
| EndedAt: 2023-04-11 08:07:05 -0400 (Tue, 11 Apr 2023) |
| EllapsedTime: 45.1 seconds |
| RetCode: 0 |
| Status: OK |
| PackageFile: graper_1.14.2.zip |
| PackageFileSize: 1.094 MiB |
##############################################################################
##############################################################################
###
### Running command:
###
### rm -rf graper.buildbin-libdir && mkdir graper.buildbin-libdir && F:\biocbuild\bbs-3.16-bioc\R\bin\R.exe CMD INSTALL --build --library=graper.buildbin-libdir graper_1.14.2.tar.gz
###
##############################################################################
##############################################################################
* installing *source* package 'graper' ...
** using staged installation
** libs
g++ -std=gnu++11 -I"F:/biocbuild/bbs-3.16-bioc/R/include" -DNDEBUG -I'F:/biocbuild/bbs-3.16-bioc/R/library/Rcpp/include' -I'F:/biocbuild/bbs-3.16-bioc/R/library/RcppArmadillo/include' -I'F:/biocbuild/bbs-3.16-bioc/R/library/BH/include' -I"C:/rtools42/x86_64-w64-mingw32.static.posix/include" -O2 -Wall -mfpmath=sse -msse2 -mstackrealign -c RcppExports.cpp -o RcppExports.o
g++ -std=gnu++11 -I"F:/biocbuild/bbs-3.16-bioc/R/include" -DNDEBUG -I'F:/biocbuild/bbs-3.16-bioc/R/library/Rcpp/include' -I'F:/biocbuild/bbs-3.16-bioc/R/library/RcppArmadillo/include' -I'F:/biocbuild/bbs-3.16-bioc/R/library/BH/include' -I"C:/rtools42/x86_64-w64-mingw32.static.posix/include" -O2 -Wall -mfpmath=sse -msse2 -mstackrealign -c fit_graper.cpp -o fit_graper.o
In file included from F:/biocbuild/bbs-3.16-bioc/R/library/BH/include/boost/mpl/aux_/na_assert.hpp:23,
from F:/biocbuild/bbs-3.16-bioc/R/library/BH/include/boost/mpl/arg.hpp:25,
from F:/biocbuild/bbs-3.16-bioc/R/library/BH/include/boost/mpl/placeholders.hpp:24,
from F:/biocbuild/bbs-3.16-bioc/R/library/BH/include/boost/iterator/iterator_categories.hpp:16,
from F:/biocbuild/bbs-3.16-bioc/R/library/BH/include/boost/iterator/iterator_facade.hpp:13,
from F:/biocbuild/bbs-3.16-bioc/R/library/BH/include/boost/range/iterator_range_core.hpp:27,
from F:/biocbuild/bbs-3.16-bioc/R/library/BH/include/boost/lexical_cast.hpp:30,
from F:/biocbuild/bbs-3.16-bioc/R/library/BH/include/boost/math/tools/convert_from_string.hpp:15,
from F:/biocbuild/bbs-3.16-bioc/R/library/BH/include/boost/math/constants/constants.hpp:14,
from F:/biocbuild/bbs-3.16-bioc/R/library/BH/include/boost/math/special_functions/digamma.hpp:20,
from graper_linear_dense_ff.h:2,
from fit_graper.cpp:4:
F:/biocbuild/bbs-3.16-bioc/R/library/BH/include/boost/mpl/assert.hpp:194:21: warning: unnecessary parentheses in declaration of 'assert_arg' [-Wparentheses]
194 | failed ************ (Pred::************
| ^
F:/biocbuild/bbs-3.16-bioc/R/library/BH/include/boost/mpl/assert.hpp:199:21: warning: unnecessary parentheses in declaration of 'assert_not_arg' [-Wparentheses]
199 | failed ************ (boost::mpl::not_<Pred>::************
| ^
g++ -shared -s -static-libgcc -o graper.dll tmp.def RcppExports.o fit_graper.o -LF:/biocbuild/bbs-3.16-bioc/R/bin/x64 -lRlapack -LF:/biocbuild/bbs-3.16-bioc/R/bin/x64 -lRblas -lgfortran -lm -lquadmath -LC:/rtools42/x86_64-w64-mingw32.static.posix/lib/x64 -LC:/rtools42/x86_64-w64-mingw32.static.posix/lib -LF:/biocbuild/bbs-3.16-bioc/R/bin/x64 -lR
installing to F:/biocbuild/bbs-3.16-bioc/meat/graper.buildbin-libdir/00LOCK-graper/00new/graper/libs/x64
** R
** inst
** byte-compile and prepare package for lazy loading
** help
*** installing help indices
** building package indices
** installing vignettes
** testing if installed package can be loaded from temporary location
** testing if installed package can be loaded from final location
** testing if installed package keeps a record of temporary installation path
* MD5 sums
packaged installation of 'graper' as graper_1.14.2.zip
* DONE (graper)