| Back to Multiple platform build/check report for BioC 3.16: simplified long |
|
This page was generated on 2023-04-12 11:05:34 -0400 (Wed, 12 Apr 2023).
| Hostname | OS | Arch (*) | R version | Installed pkgs |
|---|---|---|---|---|
| nebbiolo2 | Linux (Ubuntu 20.04.5 LTS) | x86_64 | 4.2.3 (2023-03-15) -- "Shortstop Beagle" | 4502 |
| palomino4 | Windows Server 2022 Datacenter | x64 | 4.2.3 (2023-03-15 ucrt) -- "Shortstop Beagle" | 4282 |
| lconway | macOS 12.5.1 Monterey | x86_64 | 4.2.3 (2023-03-15) -- "Shortstop Beagle" | 4310 |
| Click on any hostname to see more info about the system (e.g. compilers) (*) as reported by 'uname -p', except on Windows and Mac OS X | ||||
|
To the developers/maintainers of the GeneStructureTools package: - Please allow up to 24 hours (and sometimes 48 hours) for your latest push to git@git.bioconductor.org:packages/GeneStructureTools.git to reflect on this report. See How and When does the builder pull? When will my changes propagate? for more information. - Make sure to use the following settings in order to reproduce any error or warning you see on this page. |
| Package 770/2183 | Hostname | OS / Arch | INSTALL | BUILD | CHECK | BUILD BIN | ||||||||
| GeneStructureTools 1.18.0 (landing page) Beth Signal
| nebbiolo2 | Linux (Ubuntu 20.04.5 LTS) / x86_64 | OK | OK | OK | |||||||||
| palomino4 | Windows Server 2022 Datacenter / x64 | OK | OK | OK | OK | |||||||||
| lconway | macOS 12.5.1 Monterey / x86_64 | OK | OK | OK | OK | |||||||||
| Package: GeneStructureTools |
| Version: 1.18.0 |
| Command: F:\biocbuild\bbs-3.16-bioc\R\bin\R.exe CMD check --no-multiarch --install=check:GeneStructureTools.install-out.txt --library=F:\biocbuild\bbs-3.16-bioc\R\library --no-vignettes --timings GeneStructureTools_1.18.0.tar.gz |
| StartedAt: 2023-04-11 01:47:19 -0400 (Tue, 11 Apr 2023) |
| EndedAt: 2023-04-11 01:54:02 -0400 (Tue, 11 Apr 2023) |
| EllapsedTime: 402.7 seconds |
| RetCode: 0 |
| Status: OK |
| CheckDir: GeneStructureTools.Rcheck |
| Warnings: 0 |
##############################################################################
##############################################################################
###
### Running command:
###
### F:\biocbuild\bbs-3.16-bioc\R\bin\R.exe CMD check --no-multiarch --install=check:GeneStructureTools.install-out.txt --library=F:\biocbuild\bbs-3.16-bioc\R\library --no-vignettes --timings GeneStructureTools_1.18.0.tar.gz
###
##############################################################################
##############################################################################
* using log directory 'F:/biocbuild/bbs-3.16-bioc/meat/GeneStructureTools.Rcheck'
* using R version 4.2.3 (2023-03-15 ucrt)
* using platform: x86_64-w64-mingw32 (64-bit)
* using session charset: UTF-8
* using option '--no-vignettes'
* checking for file 'GeneStructureTools/DESCRIPTION' ... OK
* checking extension type ... Package
* this is package 'GeneStructureTools' version '1.18.0'
* package encoding: UTF-8
* checking package namespace information ... OK
* checking package dependencies ... OK
* checking if this is a source package ... OK
* checking if there is a namespace ... OK
* checking for hidden files and directories ... OK
* checking for portable file names ... OK
* checking whether package 'GeneStructureTools' can be installed ... OK
* checking installed package size ... OK
* checking package directory ... OK
* checking 'build' directory ... OK
* checking DESCRIPTION meta-information ... OK
* checking top-level files ... OK
* checking for left-over files ... OK
* checking index information ... OK
* checking package subdirectories ... OK
* checking R files for non-ASCII characters ... OK
* checking R files for syntax errors ... OK
* checking whether the package can be loaded ... OK
* checking whether the package can be loaded with stated dependencies ... OK
* checking whether the package can be unloaded cleanly ... OK
* checking whether the namespace can be loaded with stated dependencies ... OK
* checking whether the namespace can be unloaded cleanly ... OK
* checking dependencies in R code ... OK
* checking S3 generic/method consistency ... OK
* checking replacement functions ... OK
* checking foreign function calls ... OK
* checking R code for possible problems ... OK
* checking Rd files ... OK
* checking Rd metadata ... OK
* checking Rd cross-references ... OK
* checking for missing documentation entries ... OK
* checking for code/documentation mismatches ... OK
* checking Rd \usage sections ... OK
* checking Rd contents ... OK
* checking for unstated dependencies in examples ... OK
* checking files in 'vignettes' ... OK
* checking examples ... OK
Examples with CPU (user + system) or elapsed time > 5s
user system elapsed
leafcutterTranscriptChangeSummary 28.39 1.51 30.07
whippetTranscriptChangeSummary 13.34 0.37 14.61
replaceJunction 5.03 0.11 6.01
* checking for unstated dependencies in vignettes ... OK
* checking package vignettes in 'inst/doc' ... OK
* checking running R code from vignettes ... SKIPPED
* checking re-building of vignette outputs ... SKIPPED
* checking PDF version of manual ... OK
* DONE
Status: OK
GeneStructureTools.Rcheck/00install.out
############################################################################## ############################################################################## ### ### Running command: ### ### F:\biocbuild\bbs-3.16-bioc\R\bin\R.exe CMD INSTALL GeneStructureTools ### ############################################################################## ############################################################################## * installing to library 'F:/biocbuild/bbs-3.16-bioc/R/library' * installing *source* package 'GeneStructureTools' ... ** using staged installation ** R ** inst ** byte-compile and prepare package for lazy loading ** help *** installing help indices ** building package indices ** installing vignettes ** testing if installed package can be loaded from temporary location ** testing if installed package can be loaded from final location ** testing if installed package keeps a record of temporary installation path * DONE (GeneStructureTools)
GeneStructureTools.Rcheck/GeneStructureTools-Ex.timings
| name | user | system | elapsed | |
| DEXSeqIdsToGeneIds | 0 | 0 | 0 | |
| UTR2UTR53 | 4.31 | 0.15 | 4.52 | |
| addBroadTypes | 0.20 | 0.03 | 0.23 | |
| addIntronInTranscript | 2.20 | 0.13 | 3.34 | |
| alternativeIntronUsage | 4.14 | 0.05 | 4.19 | |
| annotateGeneModel | 0.94 | 0.01 | 0.95 | |
| attrChangeAltSpliced | 1.49 | 0.02 | 2.44 | |
| coordinates-methods | 0.04 | 0.03 | 1.06 | |
| diffSplicingResults-methods | 0.05 | 0.06 | 1.02 | |
| exonsToTranscripts | 0.39 | 0.00 | 0.39 | |
| filterGtfOverlap | 0.33 | 0.00 | 0.33 | |
| filterWhippetEvents | 0.03 | 0.00 | 1.07 | |
| findDEXexonType | 3.00 | 0.05 | 3.11 | |
| findExonContainingTranscripts | 0.48 | 0.02 | 2.47 | |
| findIntronContainingTranscripts | 0.79 | 0.03 | 1.77 | |
| findJunctionPairs | 1.50 | 0.04 | 2.54 | |
| formatWhippetEvents | 0.03 | 0.00 | 0.14 | |
| getOrfs | 0.81 | 0.03 | 0.85 | |
| getUOrfs | 0.69 | 0.00 | 0.69 | |
| junctions-methods | 0.01 | 0.04 | 1.07 | |
| leafcutterTranscriptChangeSummary | 28.39 | 1.51 | 30.07 | |
| makeGeneModel | 0.47 | 0.00 | 0.46 | |
| maxLocation | 0 | 0 | 0 | |
| orfDiff | 1.61 | 0.13 | 2.59 | |
| orfSimilarity | 0 | 0 | 0 | |
| overlapTypes | 4.26 | 0.01 | 4.29 | |
| readCounts-methods | 0.06 | 0.10 | 1.03 | |
| readWhippetDIFFfiles | 0.00 | 0.01 | 0.09 | |
| readWhippetDataSet | 0.05 | 0.02 | 1.03 | |
| readWhippetJNCfiles | 0.03 | 0.03 | 0.47 | |
| readWhippetPSIfiles | 0.00 | 0.00 | 0.41 | |
| removeDuplicateTranscripts | 0.36 | 0.00 | 0.36 | |
| removeSameExon | 0.30 | 0.00 | 0.29 | |
| removeVersion | 0 | 0 | 0 | |
| reorderExonNumbers | 0.34 | 0.00 | 0.35 | |
| replaceJunction | 5.03 | 0.11 | 6.01 | |
| skipExonInTranscript | 1.93 | 0.03 | 3.30 | |
| summariseExonTypes | 3.26 | 0.06 | 3.33 | |
| transcriptChangeSummary | 1.60 | 0.08 | 2.65 | |
| whippetTranscriptChangeSummary | 13.34 | 0.37 | 14.61 | |