| Back to Multiple platform build/check report for BioC 3.16: simplified long |
|
This page was generated on 2023-04-12 11:05:05 -0400 (Wed, 12 Apr 2023).
| Hostname | OS | Arch (*) | R version | Installed pkgs |
|---|---|---|---|---|
| nebbiolo2 | Linux (Ubuntu 20.04.5 LTS) | x86_64 | 4.2.3 (2023-03-15) -- "Shortstop Beagle" | 4502 |
| palomino4 | Windows Server 2022 Datacenter | x64 | 4.2.3 (2023-03-15 ucrt) -- "Shortstop Beagle" | 4282 |
| lconway | macOS 12.5.1 Monterey | x86_64 | 4.2.3 (2023-03-15) -- "Shortstop Beagle" | 4310 |
| Click on any hostname to see more info about the system (e.g. compilers) (*) as reported by 'uname -p', except on Windows and Mac OS X | ||||
|
To the developers/maintainers of the GeneStructureTools package: - Please allow up to 24 hours (and sometimes 48 hours) for your latest push to git@git.bioconductor.org:packages/GeneStructureTools.git to reflect on this report. See How and When does the builder pull? When will my changes propagate? for more information. - Make sure to use the following settings in order to reproduce any error or warning you see on this page. |
| Package 770/2183 | Hostname | OS / Arch | INSTALL | BUILD | CHECK | BUILD BIN | ||||||||
| GeneStructureTools 1.18.0 (landing page) Beth Signal
| nebbiolo2 | Linux (Ubuntu 20.04.5 LTS) / x86_64 | OK | OK | OK | |||||||||
| palomino4 | Windows Server 2022 Datacenter / x64 | OK | OK | OK | OK | |||||||||
| lconway | macOS 12.5.1 Monterey / x86_64 | OK | OK | OK | OK | |||||||||
| Package: GeneStructureTools |
| Version: 1.18.0 |
| Command: /home/biocbuild/bbs-3.16-bioc/R/bin/R CMD check --install=check:GeneStructureTools.install-out.txt --library=/home/biocbuild/bbs-3.16-bioc/R/site-library --timings GeneStructureTools_1.18.0.tar.gz |
| StartedAt: 2023-04-10 20:53:51 -0400 (Mon, 10 Apr 2023) |
| EndedAt: 2023-04-10 21:01:49 -0400 (Mon, 10 Apr 2023) |
| EllapsedTime: 478.1 seconds |
| RetCode: 0 |
| Status: OK |
| CheckDir: GeneStructureTools.Rcheck |
| Warnings: 0 |
##############################################################################
##############################################################################
###
### Running command:
###
### /home/biocbuild/bbs-3.16-bioc/R/bin/R CMD check --install=check:GeneStructureTools.install-out.txt --library=/home/biocbuild/bbs-3.16-bioc/R/site-library --timings GeneStructureTools_1.18.0.tar.gz
###
##############################################################################
##############################################################################
* using log directory ‘/home/biocbuild/bbs-3.16-bioc/meat/GeneStructureTools.Rcheck’
* using R version 4.2.3 (2023-03-15)
* using platform: x86_64-pc-linux-gnu (64-bit)
* using session charset: UTF-8
* checking for file ‘GeneStructureTools/DESCRIPTION’ ... OK
* checking extension type ... Package
* this is package ‘GeneStructureTools’ version ‘1.18.0’
* package encoding: UTF-8
* checking package namespace information ... OK
* checking package dependencies ... OK
* checking if this is a source package ... OK
* checking if there is a namespace ... OK
* checking for hidden files and directories ... OK
* checking for portable file names ... OK
* checking for sufficient/correct file permissions ... OK
* checking whether package ‘GeneStructureTools’ can be installed ... OK
* checking installed package size ... OK
* checking package directory ... OK
* checking ‘build’ directory ... OK
* checking DESCRIPTION meta-information ... OK
* checking top-level files ... OK
* checking for left-over files ... OK
* checking index information ... OK
* checking package subdirectories ... OK
* checking R files for non-ASCII characters ... OK
* checking R files for syntax errors ... OK
* checking whether the package can be loaded ... OK
* checking whether the package can be loaded with stated dependencies ... OK
* checking whether the package can be unloaded cleanly ... OK
* checking whether the namespace can be loaded with stated dependencies ... OK
* checking whether the namespace can be unloaded cleanly ... OK
* checking loading without being on the library search path ... OK
* checking dependencies in R code ... OK
* checking S3 generic/method consistency ... OK
* checking replacement functions ... OK
* checking foreign function calls ... OK
* checking R code for possible problems ... OK
* checking Rd files ... OK
* checking Rd metadata ... OK
* checking Rd cross-references ... OK
* checking for missing documentation entries ... OK
* checking for code/documentation mismatches ... OK
* checking Rd \usage sections ... OK
* checking Rd contents ... OK
* checking for unstated dependencies in examples ... OK
* checking files in ‘vignettes’ ... OK
* checking examples ... OK
Examples with CPU (user + system) or elapsed time > 5s
user system elapsed
leafcutterTranscriptChangeSummary 23.688 0.516 24.206
whippetTranscriptChangeSummary 12.384 0.099 12.487
* checking for unstated dependencies in vignettes ... OK
* checking package vignettes in ‘inst/doc’ ... OK
* checking running R code from vignettes ...
‘Vignette.Rmd’ using ‘UTF-8’... OK
NONE
* checking re-building of vignette outputs ... OK
* checking PDF version of manual ... OK
* DONE
Status: OK
GeneStructureTools.Rcheck/00install.out
############################################################################## ############################################################################## ### ### Running command: ### ### /home/biocbuild/bbs-3.16-bioc/R/bin/R CMD INSTALL GeneStructureTools ### ############################################################################## ############################################################################## * installing to library ‘/home/biocbuild/bbs-3.16-bioc/R/site-library’ * installing *source* package ‘GeneStructureTools’ ... ** using staged installation ** R ** inst ** byte-compile and prepare package for lazy loading ** help *** installing help indices ** building package indices ** installing vignettes ** testing if installed package can be loaded from temporary location ** testing if installed package can be loaded from final location ** testing if installed package keeps a record of temporary installation path * DONE (GeneStructureTools)
GeneStructureTools.Rcheck/GeneStructureTools-Ex.timings
| name | user | system | elapsed | |
| DEXSeqIdsToGeneIds | 0.003 | 0.000 | 0.002 | |
| UTR2UTR53 | 2.776 | 0.212 | 2.988 | |
| addBroadTypes | 0.151 | 0.012 | 0.163 | |
| addIntronInTranscript | 2.028 | 0.065 | 2.094 | |
| alternativeIntronUsage | 4.303 | 0.052 | 4.356 | |
| annotateGeneModel | 0.855 | 0.004 | 0.860 | |
| attrChangeAltSpliced | 1.297 | 0.031 | 1.327 | |
| coordinates-methods | 0.064 | 0.022 | 0.085 | |
| diffSplicingResults-methods | 0.060 | 0.018 | 0.078 | |
| exonsToTranscripts | 0.219 | 0.008 | 0.227 | |
| filterGtfOverlap | 0.223 | 0.000 | 0.223 | |
| filterWhippetEvents | 0.069 | 0.005 | 0.075 | |
| findDEXexonType | 2.944 | 0.039 | 2.984 | |
| findExonContainingTranscripts | 0.389 | 0.032 | 0.419 | |
| findIntronContainingTranscripts | 0.626 | 0.037 | 0.662 | |
| findJunctionPairs | 1.378 | 0.057 | 1.435 | |
| formatWhippetEvents | 0.014 | 0.004 | 0.017 | |
| getOrfs | 0.663 | 0.008 | 0.671 | |
| getUOrfs | 0.526 | 0.036 | 0.562 | |
| junctions-methods | 0.081 | 0.006 | 0.086 | |
| leafcutterTranscriptChangeSummary | 23.688 | 0.516 | 24.206 | |
| makeGeneModel | 0.145 | 0.004 | 0.149 | |
| maxLocation | 0.003 | 0.000 | 0.003 | |
| orfDiff | 1.47 | 0.06 | 1.53 | |
| orfSimilarity | 0.001 | 0.000 | 0.000 | |
| overlapTypes | 2.688 | 0.012 | 2.699 | |
| readCounts-methods | 0.076 | 0.017 | 0.092 | |
| readWhippetDIFFfiles | 0.007 | 0.000 | 0.008 | |
| readWhippetDataSet | 0.067 | 0.011 | 0.077 | |
| readWhippetJNCfiles | 0.042 | 0.003 | 0.044 | |
| readWhippetPSIfiles | 0.017 | 0.007 | 0.023 | |
| removeDuplicateTranscripts | 0.224 | 0.008 | 0.232 | |
| removeSameExon | 0.194 | 0.000 | 0.194 | |
| removeVersion | 0.001 | 0.000 | 0.000 | |
| reorderExonNumbers | 0.142 | 0.008 | 0.150 | |
| replaceJunction | 3.690 | 0.052 | 3.742 | |
| skipExonInTranscript | 1.385 | 0.016 | 1.401 | |
| summariseExonTypes | 3.088 | 0.040 | 3.129 | |
| transcriptChangeSummary | 1.598 | 0.064 | 1.662 | |
| whippetTranscriptChangeSummary | 12.384 | 0.099 | 12.487 | |