| Back to Multiple platform build/check report for BioC 3.16: simplified long |
|
This page was generated on 2023-04-12 11:06:08 -0400 (Wed, 12 Apr 2023).
| Hostname | OS | Arch (*) | R version | Installed pkgs |
|---|---|---|---|---|
| nebbiolo2 | Linux (Ubuntu 20.04.5 LTS) | x86_64 | 4.2.3 (2023-03-15) -- "Shortstop Beagle" | 4502 |
| palomino4 | Windows Server 2022 Datacenter | x64 | 4.2.3 (2023-03-15 ucrt) -- "Shortstop Beagle" | 4282 |
| lconway | macOS 12.5.1 Monterey | x86_64 | 4.2.3 (2023-03-15) -- "Shortstop Beagle" | 4310 |
| Click on any hostname to see more info about the system (e.g. compilers) (*) as reported by 'uname -p', except on Windows and Mac OS X | ||||
|
To the developers/maintainers of the GeneStructureTools package: - Please allow up to 24 hours (and sometimes 48 hours) for your latest push to git@git.bioconductor.org:packages/GeneStructureTools.git to reflect on this report. See How and When does the builder pull? When will my changes propagate? for more information. - Make sure to use the following settings in order to reproduce any error or warning you see on this page. |
| Package 770/2183 | Hostname | OS / Arch | INSTALL | BUILD | CHECK | BUILD BIN | ||||||||
| GeneStructureTools 1.18.0 (landing page) Beth Signal
| nebbiolo2 | Linux (Ubuntu 20.04.5 LTS) / x86_64 | OK | OK | OK | |||||||||
| palomino4 | Windows Server 2022 Datacenter / x64 | OK | OK | OK | OK | |||||||||
| lconway | macOS 12.5.1 Monterey / x86_64 | OK | OK | OK | OK | |||||||||
| Package: GeneStructureTools |
| Version: 1.18.0 |
| Command: /Library/Frameworks/R.framework/Resources/bin/R CMD check --install=check:GeneStructureTools.install-out.txt --library=/Library/Frameworks/R.framework/Resources/library --no-vignettes --timings GeneStructureTools_1.18.0.tar.gz |
| StartedAt: 2023-04-10 20:22:09 -0400 (Mon, 10 Apr 2023) |
| EndedAt: 2023-04-10 20:27:54 -0400 (Mon, 10 Apr 2023) |
| EllapsedTime: 345.2 seconds |
| RetCode: 0 |
| Status: OK |
| CheckDir: GeneStructureTools.Rcheck |
| Warnings: 0 |
##############################################################################
##############################################################################
###
### Running command:
###
### /Library/Frameworks/R.framework/Resources/bin/R CMD check --install=check:GeneStructureTools.install-out.txt --library=/Library/Frameworks/R.framework/Resources/library --no-vignettes --timings GeneStructureTools_1.18.0.tar.gz
###
##############################################################################
##############################################################################
* using log directory ‘/Users/biocbuild/bbs-3.16-bioc/meat/GeneStructureTools.Rcheck’
* using R version 4.2.3 (2023-03-15)
* using platform: x86_64-apple-darwin17.0 (64-bit)
* using session charset: UTF-8
* using option ‘--no-vignettes’
* checking for file ‘GeneStructureTools/DESCRIPTION’ ... OK
* checking extension type ... Package
* this is package ‘GeneStructureTools’ version ‘1.18.0’
* package encoding: UTF-8
* checking package namespace information ... OK
* checking package dependencies ... OK
* checking if this is a source package ... OK
* checking if there is a namespace ... OK
* checking for hidden files and directories ... OK
* checking for portable file names ... OK
* checking for sufficient/correct file permissions ... OK
* checking whether package ‘GeneStructureTools’ can be installed ... OK
* checking installed package size ... OK
* checking package directory ... OK
* checking ‘build’ directory ... OK
* checking DESCRIPTION meta-information ... OK
* checking top-level files ... OK
* checking for left-over files ... OK
* checking index information ... OK
* checking package subdirectories ... OK
* checking R files for non-ASCII characters ... OK
* checking R files for syntax errors ... OK
* checking whether the package can be loaded ... OK
* checking whether the package can be loaded with stated dependencies ... OK
* checking whether the package can be unloaded cleanly ... OK
* checking whether the namespace can be loaded with stated dependencies ... OK
* checking whether the namespace can be unloaded cleanly ... OK
* checking dependencies in R code ... OK
* checking S3 generic/method consistency ... OK
* checking replacement functions ... OK
* checking foreign function calls ... OK
* checking R code for possible problems ... OK
* checking Rd files ... OK
* checking Rd metadata ... OK
* checking Rd cross-references ... OK
* checking for missing documentation entries ... OK
* checking for code/documentation mismatches ... OK
* checking Rd \usage sections ... OK
* checking Rd contents ... OK
* checking for unstated dependencies in examples ... OK
* checking files in ‘vignettes’ ... OK
* checking examples ... OK
Examples with CPU (user + system) or elapsed time > 5s
user system elapsed
leafcutterTranscriptChangeSummary 20.745 0.786 21.577
whippetTranscriptChangeSummary 11.848 0.195 12.161
* checking for unstated dependencies in vignettes ... OK
* checking package vignettes in ‘inst/doc’ ... OK
* checking running R code from vignettes ... SKIPPED
* checking re-building of vignette outputs ... SKIPPED
* checking PDF version of manual ... OK
* DONE
Status: OK
GeneStructureTools.Rcheck/00install.out
############################################################################## ############################################################################## ### ### Running command: ### ### /Library/Frameworks/R.framework/Resources/bin/R CMD INSTALL GeneStructureTools ### ############################################################################## ############################################################################## * installing to library ‘/Library/Frameworks/R.framework/Versions/4.2/Resources/library’ * installing *source* package ‘GeneStructureTools’ ... ** using staged installation ** R ** inst ** byte-compile and prepare package for lazy loading ** help *** installing help indices ** building package indices ** installing vignettes ** testing if installed package can be loaded from temporary location ** testing if installed package can be loaded from final location ** testing if installed package keeps a record of temporary installation path * DONE (GeneStructureTools)
GeneStructureTools.Rcheck/GeneStructureTools-Ex.timings
| name | user | system | elapsed | |
| DEXSeqIdsToGeneIds | 0.003 | 0.001 | 0.004 | |
| UTR2UTR53 | 3.444 | 0.144 | 3.596 | |
| addBroadTypes | 0.137 | 0.004 | 0.141 | |
| addIntronInTranscript | 1.528 | 0.078 | 1.696 | |
| alternativeIntronUsage | 3.478 | 0.017 | 3.501 | |
| annotateGeneModel | 0.817 | 0.011 | 0.830 | |
| attrChangeAltSpliced | 0.997 | 0.071 | 1.147 | |
| coordinates-methods | 0.063 | 0.064 | 0.200 | |
| diffSplicingResults-methods | 0.065 | 0.061 | 0.202 | |
| exonsToTranscripts | 0.219 | 0.006 | 0.226 | |
| filterGtfOverlap | 0.212 | 0.006 | 0.218 | |
| filterWhippetEvents | 0.073 | 0.062 | 0.210 | |
| findDEXexonType | 2.504 | 0.017 | 2.526 | |
| findExonContainingTranscripts | 0.401 | 0.067 | 0.543 | |
| findIntronContainingTranscripts | 0.562 | 0.070 | 0.710 | |
| findJunctionPairs | 1.265 | 0.074 | 1.421 | |
| formatWhippetEvents | 0.017 | 0.007 | 0.033 | |
| getOrfs | 0.667 | 0.011 | 0.682 | |
| getUOrfs | 0.556 | 0.010 | 0.568 | |
| junctions-methods | 0.067 | 0.063 | 0.205 | |
| leafcutterTranscriptChangeSummary | 20.745 | 0.786 | 21.577 | |
| makeGeneModel | 0.151 | 0.006 | 0.158 | |
| maxLocation | 0.002 | 0.000 | 0.002 | |
| orfDiff | 1.368 | 0.086 | 1.549 | |
| orfSimilarity | 0.001 | 0.000 | 0.001 | |
| overlapTypes | 2.454 | 0.017 | 2.479 | |
| readCounts-methods | 0.063 | 0.062 | 0.194 | |
| readWhippetDIFFfiles | 0.006 | 0.007 | 0.021 | |
| readWhippetDataSet | 0.066 | 0.061 | 0.202 | |
| readWhippetJNCfiles | 0.032 | 0.027 | 0.093 | |
| readWhippetPSIfiles | 0.018 | 0.027 | 0.077 | |
| removeDuplicateTranscripts | 0.247 | 0.006 | 0.254 | |
| removeSameExon | 0.196 | 0.004 | 0.200 | |
| removeVersion | 0.001 | 0.000 | 0.001 | |
| reorderExonNumbers | 0.153 | 0.005 | 0.158 | |
| replaceJunction | 3.598 | 0.092 | 3.807 | |
| skipExonInTranscript | 1.253 | 0.071 | 1.409 | |
| summariseExonTypes | 2.796 | 0.021 | 2.840 | |
| transcriptChangeSummary | 1.436 | 0.080 | 1.604 | |
| whippetTranscriptChangeSummary | 11.848 | 0.195 | 12.161 | |