| Back to Multiple platform build/check report for BioC 3.14 |
|
This page was generated on 2022-04-13 12:07:34 -0400 (Wed, 13 Apr 2022).
| Hostname | OS | Arch (*) | R version | Installed pkgs |
|---|---|---|---|---|
| nebbiolo2 | Linux (Ubuntu 20.04.4 LTS) | x86_64 | 4.1.3 (2022-03-10) -- "One Push-Up" | 4324 |
| tokay2 | Windows Server 2012 R2 Standard | x64 | 4.1.3 (2022-03-10) -- "One Push-Up" | 4077 |
| machv2 | macOS 10.14.6 Mojave | x86_64 | 4.1.3 (2022-03-10) -- "One Push-Up" | 4137 |
| Click on any hostname to see more info about the system (e.g. compilers) (*) as reported by 'uname -p', except on Windows and Mac OS X | ||||
|
To the developers/maintainers of the wppi package: - Please allow up to 24 hours (and sometimes 48 hours) for your latest push to git@git.bioconductor.org:packages/wppi.git to reflect on this report. See How and When does the builder pull? When will my changes propagate? for more information. - Make sure to use the following settings in order to reproduce any error or warning you see on this page. |
| Package 2067/2083 | Hostname | OS / Arch | INSTALL | BUILD | CHECK | BUILD BIN | ||||||||
| wppi 1.2.0 (landing page) Ana Galhoz
| nebbiolo2 | Linux (Ubuntu 20.04.4 LTS) / x86_64 | OK | OK | OK | |||||||||
| tokay2 | Windows Server 2012 R2 Standard / x64 | OK | OK | OK | OK | |||||||||
| machv2 | macOS 10.14.6 Mojave / x86_64 | OK | OK | OK | OK | |||||||||
| Package: wppi |
| Version: 1.2.0 |
| Command: C:\cygwin\bin\curl.exe -O http://155.52.207.166/BBS/3.14/bioc/src/contrib/wppi_1.2.0.tar.gz && rm -rf wppi.buildbin-libdir && mkdir wppi.buildbin-libdir && C:\Users\biocbuild\bbs-3.14-bioc\R\bin\R.exe CMD INSTALL --merge-multiarch --build --library=wppi.buildbin-libdir wppi_1.2.0.tar.gz && C:\Users\biocbuild\bbs-3.14-bioc\R\bin\R.exe CMD INSTALL wppi_1.2.0.zip && rm wppi_1.2.0.tar.gz wppi_1.2.0.zip |
| StartedAt: 2022-04-12 06:31:17 -0400 (Tue, 12 Apr 2022) |
| EndedAt: 2022-04-12 06:32:07 -0400 (Tue, 12 Apr 2022) |
| EllapsedTime: 49.1 seconds |
| RetCode: 0 |
| Status: OK |
##############################################################################
##############################################################################
###
### Running command:
###
### C:\cygwin\bin\curl.exe -O http://155.52.207.166/BBS/3.14/bioc/src/contrib/wppi_1.2.0.tar.gz && rm -rf wppi.buildbin-libdir && mkdir wppi.buildbin-libdir && C:\Users\biocbuild\bbs-3.14-bioc\R\bin\R.exe CMD INSTALL --merge-multiarch --build --library=wppi.buildbin-libdir wppi_1.2.0.tar.gz && C:\Users\biocbuild\bbs-3.14-bioc\R\bin\R.exe CMD INSTALL wppi_1.2.0.zip && rm wppi_1.2.0.tar.gz wppi_1.2.0.zip
###
##############################################################################
##############################################################################
% Total % Received % Xferd Average Speed Time Time Time Current
Dload Upload Total Spent Left Speed
0 0 0 0 0 0 0 0 --:--:-- --:--:-- --:--:-- 0
100 419k 100 419k 0 0 858k 0 --:--:-- --:--:-- --:--:-- 860k
install for i386
* installing *source* package 'wppi' ...
** using staged installation
** R
** byte-compile and prepare package for lazy loading
[2022-04-12 06:31:28] [INFO] [OmnipathR] Initialized cache: `C:\Users\biocbuild\AppData\Local\Cache\OmnipathR`.
[2022-04-12 06:31:28] [INFO] [OmnipathR] Welcome to OmnipathR!
[2022-04-12 06:31:28] [TRACE] [OmnipathR] Cache locked: FALSE
Note: wrong number of arguments to '/'
** help
*** installing help indices
converting help for package 'wppi'
finding HTML links ... done
common_neighbors html
count_genes html
filter_annot_with_network html
functional_annot html
graph_from_op html
in_omnipath html
prioritization_genes html
process_annot html
random_walk html
score_candidate_genes_from_PPI html
subgraph_op html
weighted_adj html
wppi html
wppi_data html
wppi_go_data html
wppi_hpo_data html
wppi_omnipath_data html
** building package indices
** installing vignettes
** testing if installed package can be loaded from temporary location
[2022-04-12 06:31:34] [INFO] [OmnipathR] Initialized cache: `C:\Users\biocbuild\AppData\Local\Cache\OmnipathR`.
[2022-04-12 06:31:34] [INFO] [OmnipathR] Welcome to OmnipathR!
[2022-04-12 06:31:34] [TRACE] [OmnipathR] Cache locked: FALSE
** testing if installed package can be loaded from final location
[2022-04-12 06:31:38] [INFO] [OmnipathR] Initialized cache: `C:\Users\biocbuild\AppData\Local\Cache\OmnipathR`.
[2022-04-12 06:31:38] [INFO] [OmnipathR] Welcome to OmnipathR!
[2022-04-12 06:31:38] [TRACE] [OmnipathR] Cache locked: FALSE
** testing if installed package keeps a record of temporary installation path
install for x64
* installing *source* package 'wppi' ...
** testing if installed package can be loaded
[2022-04-12 06:31:45] [INFO] [OmnipathR] Initialized cache: `C:\Users\biocbuild\AppData\Local\Cache\OmnipathR`.
[2022-04-12 06:31:45] [INFO] [OmnipathR] Welcome to OmnipathR!
[2022-04-12 06:31:45] [TRACE] [OmnipathR] Cache locked: FALSE
* MD5 sums
packaged installation of 'wppi' as wppi_1.2.0.zip
* DONE (wppi)
* installing to library 'C:/Users/biocbuild/bbs-3.14-bioc/R/library'
package 'wppi' successfully unpacked and MD5 sums checked