| Back to Multiple platform build/check report for BioC 3.14 |
|
This page was generated on 2022-04-13 12:06:07 -0400 (Wed, 13 Apr 2022).
| Hostname | OS | Arch (*) | R version | Installed pkgs |
|---|---|---|---|---|
| nebbiolo2 | Linux (Ubuntu 20.04.4 LTS) | x86_64 | 4.1.3 (2022-03-10) -- "One Push-Up" | 4324 |
| tokay2 | Windows Server 2012 R2 Standard | x64 | 4.1.3 (2022-03-10) -- "One Push-Up" | 4077 |
| machv2 | macOS 10.14.6 Mojave | x86_64 | 4.1.3 (2022-03-10) -- "One Push-Up" | 4137 |
| Click on any hostname to see more info about the system (e.g. compilers) (*) as reported by 'uname -p', except on Windows and Mac OS X | ||||
|
To the developers/maintainers of the wppi package: - Please allow up to 24 hours (and sometimes 48 hours) for your latest push to git@git.bioconductor.org:packages/wppi.git to reflect on this report. See How and When does the builder pull? When will my changes propagate? for more information. - Make sure to use the following settings in order to reproduce any error or warning you see on this page. |
| Package 2067/2083 | Hostname | OS / Arch | INSTALL | BUILD | CHECK | BUILD BIN | ||||||||
| wppi 1.2.0 (landing page) Ana Galhoz
| nebbiolo2 | Linux (Ubuntu 20.04.4 LTS) / x86_64 | OK | OK | OK | |||||||||
| tokay2 | Windows Server 2012 R2 Standard / x64 | OK | OK | OK | OK | |||||||||
| machv2 | macOS 10.14.6 Mojave / x86_64 | OK | OK | OK | OK | |||||||||
| Package: wppi |
| Version: 1.2.0 |
| Command: /home/biocbuild/bbs-3.14-bioc/R/bin/R CMD check --install=check:wppi.install-out.txt --library=/home/biocbuild/bbs-3.14-bioc/R/library --no-vignettes --timings wppi_1.2.0.tar.gz |
| StartedAt: 2022-04-12 09:52:28 -0400 (Tue, 12 Apr 2022) |
| EndedAt: 2022-04-12 09:55:11 -0400 (Tue, 12 Apr 2022) |
| EllapsedTime: 162.9 seconds |
| RetCode: 0 |
| Status: OK |
| CheckDir: wppi.Rcheck |
| Warnings: 0 |
##############################################################################
##############################################################################
###
### Running command:
###
### /home/biocbuild/bbs-3.14-bioc/R/bin/R CMD check --install=check:wppi.install-out.txt --library=/home/biocbuild/bbs-3.14-bioc/R/library --no-vignettes --timings wppi_1.2.0.tar.gz
###
##############################################################################
##############################################################################
* using log directory ‘/home/biocbuild/bbs-3.14-bioc/meat/wppi.Rcheck’
* using R version 4.1.3 (2022-03-10)
* using platform: x86_64-pc-linux-gnu (64-bit)
* using session charset: UTF-8
* using option ‘--no-vignettes’
* checking for file ‘wppi/DESCRIPTION’ ... OK
* checking extension type ... Package
* this is package ‘wppi’ version ‘1.2.0’
* package encoding: UTF-8
* checking package namespace information ... OK
* checking package dependencies ... OK
* checking if this is a source package ... OK
* checking if there is a namespace ... OK
* checking for hidden files and directories ... OK
* checking for portable file names ... OK
* checking for sufficient/correct file permissions ... OK
* checking whether package ‘wppi’ can be installed ... OK
* checking installed package size ... OK
* checking package directory ... OK
* checking ‘build’ directory ... OK
* checking DESCRIPTION meta-information ... OK
* checking top-level files ... OK
* checking for left-over files ... OK
* checking index information ... OK
* checking package subdirectories ... OK
* checking R files for non-ASCII characters ... OK
* checking R files for syntax errors ... OK
* checking whether the package can be loaded ... OK
* checking whether the package can be loaded with stated dependencies ... OK
* checking whether the package can be unloaded cleanly ... OK
* checking whether the namespace can be loaded with stated dependencies ... OK
* checking whether the namespace can be unloaded cleanly ... OK
* checking dependencies in R code ... OK
* checking S3 generic/method consistency ... OK
* checking replacement functions ... OK
* checking foreign function calls ... OK
* checking R code for possible problems ... NOTE
[2022-04-12 09:53:01] [INFO] [OmnipathR] Initialized cache: `/home/biocbuild/.cache/OmnipathR`.
[2022-04-12 09:53:01] [INFO] [OmnipathR] Welcome to OmnipathR!
[2022-04-12 09:53:02] [TRACE] [OmnipathR] Cache locked: FALSE
* checking Rd files ... OK
* checking Rd metadata ... OK
* checking Rd cross-references ... OK
* checking for missing documentation entries ... OK
* checking for code/documentation mismatches ... OK
* checking Rd \usage sections ... OK
* checking Rd contents ... OK
* checking for unstated dependencies in examples ... OK
* checking files in ‘vignettes’ ... OK
* checking examples ... OK
Examples with CPU (user + system) or elapsed time > 5s
user system elapsed
wppi 25.270 0.149 25.418
score_candidate_genes_from_PPI 14.759 0.185 14.943
prioritization_genes 13.855 0.192 14.047
random_walk 13.852 0.188 14.039
weighted_adj 10.216 0.092 10.308
* checking for unstated dependencies in vignettes ... OK
* checking package vignettes in ‘inst/doc’ ... OK
* checking running R code from vignettes ... SKIPPED
* checking re-building of vignette outputs ... SKIPPED
* checking PDF version of manual ... OK
* DONE
Status: 1 NOTE
See
‘/home/biocbuild/bbs-3.14-bioc/meat/wppi.Rcheck/00check.log’
for details.
wppi.Rcheck/00install.out
############################################################################## ############################################################################## ### ### Running command: ### ### /home/biocbuild/bbs-3.14-bioc/R/bin/R CMD INSTALL wppi ### ############################################################################## ############################################################################## * installing to library ‘/home/biocbuild/bbs-3.14-bioc/R/library’ * installing *source* package ‘wppi’ ... ** using staged installation ** R ** byte-compile and prepare package for lazy loading [2022-04-12 03:31:21] [INFO] [OmnipathR] Initialized cache: `/home/biocbuild/.cache/OmnipathR`. [2022-04-12 03:31:21] [INFO] [OmnipathR] Welcome to OmnipathR! [2022-04-12 03:31:21] [TRACE] [OmnipathR] Cache locked: FALSE Note: wrong number of arguments to '/' ** help *** installing help indices ** building package indices ** installing vignettes ** testing if installed package can be loaded from temporary location [2022-04-12 03:31:24] [INFO] [OmnipathR] Initialized cache: `/home/biocbuild/.cache/OmnipathR`. [2022-04-12 03:31:24] [INFO] [OmnipathR] Welcome to OmnipathR! [2022-04-12 03:31:24] [TRACE] [OmnipathR] Cache locked: FALSE ** testing if installed package can be loaded from final location [2022-04-12 03:31:26] [INFO] [OmnipathR] Initialized cache: `/home/biocbuild/.cache/OmnipathR`. [2022-04-12 03:31:26] [INFO] [OmnipathR] Welcome to OmnipathR! [2022-04-12 03:31:26] [TRACE] [OmnipathR] Cache locked: FALSE ** testing if installed package keeps a record of temporary installation path * DONE (wppi)
wppi.Rcheck/wppi-Ex.timings
| name | user | system | elapsed | |
| common_neighbors | 2.565 | 0.115 | 2.682 | |
| count_genes | 3.488 | 0.140 | 3.628 | |
| filter_annot_with_network | 4.286 | 0.132 | 4.418 | |
| functional_annot | 1.201 | 0.015 | 1.216 | |
| graph_from_op | 1.217 | 0.013 | 1.229 | |
| in_omnipath | 1.174 | 0.055 | 1.230 | |
| prioritization_genes | 13.855 | 0.192 | 14.047 | |
| process_annot | 1.241 | 0.043 | 1.285 | |
| random_walk | 13.852 | 0.188 | 14.039 | |
| score_candidate_genes_from_PPI | 14.759 | 0.185 | 14.943 | |
| subgraph_op | 1.256 | 0.007 | 1.264 | |
| weighted_adj | 10.216 | 0.092 | 10.308 | |
| wppi | 25.270 | 0.149 | 25.418 | |
| wppi_data | 4.711 | 0.055 | 4.767 | |
| wppi_go_data | 2.537 | 0.043 | 2.582 | |
| wppi_hpo_data | 0.963 | 0.004 | 0.967 | |
| wppi_omnipath_data | 1.088 | 0.000 | 1.088 | |