| Back to Multiple platform build/check report for BioC 3.14 |
|
This page was generated on 2022-04-13 12:09:00 -0400 (Wed, 13 Apr 2022).
| Hostname | OS | Arch (*) | R version | Installed pkgs |
|---|---|---|---|---|
| nebbiolo2 | Linux (Ubuntu 20.04.4 LTS) | x86_64 | 4.1.3 (2022-03-10) -- "One Push-Up" | 4324 |
| tokay2 | Windows Server 2012 R2 Standard | x64 | 4.1.3 (2022-03-10) -- "One Push-Up" | 4077 |
| machv2 | macOS 10.14.6 Mojave | x86_64 | 4.1.3 (2022-03-10) -- "One Push-Up" | 4137 |
| Click on any hostname to see more info about the system (e.g. compilers) (*) as reported by 'uname -p', except on Windows and Mac OS X | ||||
|
To the developers/maintainers of the wppi package: - Please allow up to 24 hours (and sometimes 48 hours) for your latest push to git@git.bioconductor.org:packages/wppi.git to reflect on this report. See How and When does the builder pull? When will my changes propagate? for more information. - Make sure to use the following settings in order to reproduce any error or warning you see on this page. |
| Package 2067/2083 | Hostname | OS / Arch | INSTALL | BUILD | CHECK | BUILD BIN | ||||||||
| wppi 1.2.0 (landing page) Ana Galhoz
| nebbiolo2 | Linux (Ubuntu 20.04.4 LTS) / x86_64 | OK | OK | OK | |||||||||
| tokay2 | Windows Server 2012 R2 Standard / x64 | OK | OK | OK | OK | |||||||||
| machv2 | macOS 10.14.6 Mojave / x86_64 | OK | OK | OK | OK | |||||||||
| Package: wppi |
| Version: 1.2.0 |
| Command: /Library/Frameworks/R.framework/Resources/bin/R CMD check --install=check:wppi.install-out.txt --library=/Library/Frameworks/R.framework/Resources/library --no-vignettes --timings wppi_1.2.0.tar.gz |
| StartedAt: 2022-04-12 19:59:25 -0400 (Tue, 12 Apr 2022) |
| EndedAt: 2022-04-12 20:04:53 -0400 (Tue, 12 Apr 2022) |
| EllapsedTime: 328.6 seconds |
| RetCode: 0 |
| Status: OK |
| CheckDir: wppi.Rcheck |
| Warnings: 0 |
##############################################################################
##############################################################################
###
### Running command:
###
### /Library/Frameworks/R.framework/Resources/bin/R CMD check --install=check:wppi.install-out.txt --library=/Library/Frameworks/R.framework/Resources/library --no-vignettes --timings wppi_1.2.0.tar.gz
###
##############################################################################
##############################################################################
* using log directory ‘/Users/biocbuild/bbs-3.14-bioc/meat/wppi.Rcheck’
* using R version 4.1.3 (2022-03-10)
* using platform: x86_64-apple-darwin17.0 (64-bit)
* using session charset: UTF-8
* using option ‘--no-vignettes’
* checking for file ‘wppi/DESCRIPTION’ ... OK
* checking extension type ... Package
* this is package ‘wppi’ version ‘1.2.0’
* package encoding: UTF-8
* checking package namespace information ... OK
* checking package dependencies ... OK
* checking if this is a source package ... OK
* checking if there is a namespace ... OK
* checking for hidden files and directories ... OK
* checking for portable file names ... OK
* checking for sufficient/correct file permissions ... OK
* checking whether package ‘wppi’ can be installed ... OK
* checking installed package size ... OK
* checking package directory ... OK
* checking ‘build’ directory ... OK
* checking DESCRIPTION meta-information ... OK
* checking top-level files ... OK
* checking for left-over files ... OK
* checking index information ... OK
* checking package subdirectories ... OK
* checking R files for non-ASCII characters ... OK
* checking R files for syntax errors ... OK
* checking whether the package can be loaded ... OK
* checking whether the package can be loaded with stated dependencies ... OK
* checking whether the package can be unloaded cleanly ... OK
* checking whether the namespace can be loaded with stated dependencies ... OK
* checking whether the namespace can be unloaded cleanly ... OK
* checking dependencies in R code ... OK
* checking S3 generic/method consistency ... OK
* checking replacement functions ... OK
* checking foreign function calls ... OK
* checking R code for possible problems ... NOTE
[2022-04-12 20:00:18] [INFO] [OmnipathR] Initialized cache: `/Users/biocbuild/Library/Caches/OmnipathR`.
[2022-04-12 20:00:18] [INFO] [OmnipathR] Welcome to OmnipathR!
[2022-04-12 20:00:18] [TRACE] [OmnipathR] Cache locked: FALSE
* checking Rd files ... OK
* checking Rd metadata ... OK
* checking Rd cross-references ... OK
* checking for missing documentation entries ... OK
* checking for code/documentation mismatches ... OK
* checking Rd \usage sections ... OK
* checking Rd contents ... OK
* checking for unstated dependencies in examples ... OK
* checking files in ‘vignettes’ ... OK
* checking examples ... OK
Examples with CPU (user + system) or elapsed time > 5s
user system elapsed
wppi 58.559 0.466 59.469
score_candidate_genes_from_PPI 32.422 0.243 33.250
prioritization_genes 29.607 0.386 30.022
random_walk 28.531 0.266 28.821
weighted_adj 23.400 0.162 23.856
wppi_data 10.122 0.099 10.232
filter_annot_with_network 8.502 0.150 8.662
count_genes 5.590 0.133 5.738
wppi_go_data 5.435 0.047 5.487
* checking for unstated dependencies in vignettes ... OK
* checking package vignettes in ‘inst/doc’ ... OK
* checking running R code from vignettes ... SKIPPED
* checking re-building of vignette outputs ... SKIPPED
* checking PDF version of manual ... OK
* DONE
Status: 1 NOTE
See
‘/Users/biocbuild/bbs-3.14-bioc/meat/wppi.Rcheck/00check.log’
for details.
wppi.Rcheck/00install.out
############################################################################## ############################################################################## ### ### Running command: ### ### /Library/Frameworks/R.framework/Resources/bin/R CMD INSTALL wppi ### ############################################################################## ############################################################################## * installing to library ‘/Library/Frameworks/R.framework/Versions/4.1/Resources/library’ * installing *source* package ‘wppi’ ... ** using staged installation ** R ** byte-compile and prepare package for lazy loading [2022-04-12 03:54:52] [INFO] [OmnipathR] Initialized cache: `/Users/biocbuild/Library/Caches/OmnipathR`. [2022-04-12 03:54:52] [INFO] [OmnipathR] Welcome to OmnipathR! [2022-04-12 03:54:52] [TRACE] [OmnipathR] Cache locked: FALSE Note: wrong number of arguments to '/' ** help *** installing help indices ** building package indices ** installing vignettes ** testing if installed package can be loaded from temporary location [2022-04-12 03:54:57] [INFO] [OmnipathR] Initialized cache: `/Users/biocbuild/Library/Caches/OmnipathR`. [2022-04-12 03:54:57] [INFO] [OmnipathR] Welcome to OmnipathR! [2022-04-12 03:54:57] [TRACE] [OmnipathR] Cache locked: FALSE ** testing if installed package can be loaded from final location [2022-04-12 03:55:02] [INFO] [OmnipathR] Initialized cache: `/Users/biocbuild/Library/Caches/OmnipathR`. [2022-04-12 03:55:02] [INFO] [OmnipathR] Welcome to OmnipathR! [2022-04-12 03:55:02] [TRACE] [OmnipathR] Cache locked: FALSE ** testing if installed package keeps a record of temporary installation path * DONE (wppi)
wppi.Rcheck/wppi-Ex.timings
| name | user | system | elapsed | |
| common_neighbors | 4.599 | 0.106 | 4.709 | |
| count_genes | 5.590 | 0.133 | 5.738 | |
| filter_annot_with_network | 8.502 | 0.150 | 8.662 | |
| functional_annot | 2.395 | 0.023 | 2.428 | |
| graph_from_op | 2.844 | 0.071 | 2.919 | |
| in_omnipath | 2.951 | 0.031 | 3.045 | |
| prioritization_genes | 29.607 | 0.386 | 30.022 | |
| process_annot | 2.540 | 0.020 | 2.562 | |
| random_walk | 28.531 | 0.266 | 28.821 | |
| score_candidate_genes_from_PPI | 32.422 | 0.243 | 33.250 | |
| subgraph_op | 3.195 | 0.016 | 3.265 | |
| weighted_adj | 23.400 | 0.162 | 23.856 | |
| wppi | 58.559 | 0.466 | 59.469 | |
| wppi_data | 10.122 | 0.099 | 10.232 | |
| wppi_go_data | 5.435 | 0.047 | 5.487 | |
| wppi_hpo_data | 2.042 | 0.006 | 2.050 | |
| wppi_omnipath_data | 2.913 | 0.024 | 2.938 | |