This page was generated on 2020-10-16 17:00:15 -0400 (Fri, 16 Oct 2020).
| malbec2 |
Linux (Ubuntu 18.04.4 LTS) / x86_64 | | | |
|
| annotation 1.12.0 | Bioconductor Package Maintainer | OK | OK |  |
| arrays 1.14.0 | Bioconductor Package Maintainer | OK | OK |  |
| BiocMetaWorkflow 1.10.0 | Mike Smith | OK | OK |  |
| CAGEWorkflow 1.4.0 | Malte Thodberg | OK | OK |  |
| chipseqDB 1.12.0 | Aaron Lun | OK | OK |  |
| csawUsersGuide 1.4.0 | Aaron Lun | OK | OK |  |
| cytofWorkflow 1.12.1 | Mark D. Robinson | OK | OK |  |
| EGSEA123 1.12.0 | Matthew Ritchie | OK | ERROR | |
| eQTL 1.12.0 | Vincent Carey | OK | OK |  |
| ExpressionNormalizationWorkflow 1.14.0 | Karthikeyan Murugesan | OK | OK |  |
| fluentGenomics 1.0.1 | Stuart Lee | OK | OK |  |
| generegulation 1.12.0 | Bioconductor Package Maintainer | OK | OK |  |
| highthroughputassays 1.12.0 | Bioconductor Package Maintainer | OK | OK |  |
| liftOver 1.12.0 | Bioconductor Package Maintainer | OK | OK |  |
| maEndToEnd 2.8.0 | Stefanie Reisenauer | OK | ERROR | |
| methylationArrayAnalysis 1.12.0 | Jovana Maksimovic | OK | OK |  |
| proteomics 1.12.0 | Laurent Gatto | OK | ERROR | |
| recountWorkflow 1.12.0 | Leonardo Collado-Torres | OK | OK |  |
| RNAseq123 1.12.0 | Matthew Ritchie | OK | OK |  |
| rnaseqDTU 1.8.0 | Michael Love | OK | OK |  |
| rnaseqGene 1.12.0 | Michael Love | OK | ERROR | |
| RnaSeqGeneEdgeRQL 1.12.1 | Yunshun Chen | OK | OK |  |
| sequencing 1.12.0 | Bioconductor Package Maintainer | OK | OK |  |
| simpleSingleCell 1.12.0 | Aaron Lun | OK | OK |  |
| SingscoreAMLMutations 1.4.0 | Dharmesh D. Bhuva | OK | ERROR | |
| TCGAWorkflow 1.12.0 | Tiago Chedraoui Silva | OK | OK |  |
| variants 1.12.0 | Bioconductor Package Maintainer | OK | OK |  |