| Back to Workflows build report for BioC 3.11 |
This page was generated on 2020-10-16 17:00:15 -0400 (Fri, 16 Oct 2020).
| TO THE DEVELOPERS/MAINTAINERS OF THE generegulation PACKAGE: Please make sure to use the following settings in order to reproduce any error or warning you see on this page. |
| Package 12/27 | Hostname | OS / Arch | INSTALL | BUILD | ||||||
| generegulation 1.12.0 Bioconductor Package Maintainer
| malbec2 | Linux (Ubuntu 18.04.4 LTS) / x86_64 | [ OK ] | OK |
| Package: generegulation |
| Version: 1.12.0 |
| Command: /home/biocbuild/bbs-3.11-bioc/R/bin/R CMD INSTALL generegulation |
| StartedAt: 2020-10-16 09:01:04 -0400 (Fri, 16 Oct 2020) |
| EndedAt: 2020-10-16 09:01:44 -0400 (Fri, 16 Oct 2020) |
| EllapsedTime: 40.6 seconds |
| RetCode: 0 |
| Status: OK |
##############################################################################
##############################################################################
###
### Running command:
###
### /home/biocbuild/bbs-3.11-bioc/R/bin/R CMD INSTALL generegulation
###
##############################################################################
##############################################################################
* installing to library ‘/home/biocbuild/bbs-3.11-bioc/R/library’
* installing *source* package ‘generegulation’ ...
** using staged installation
** help
No man pages found in package ‘generegulation’
*** installing help indices
** building package indices
** installing vignettes
** testing if installed package can be loaded from temporary location
See system.file("LICENSE", package="MotifDb") for use restrictions.
** testing if installed package can be loaded from final location
See system.file("LICENSE", package="MotifDb") for use restrictions.
** testing if installed package keeps a record of temporary installation path
* DONE (generegulation)