| Back to Workflows build report for BioC 3.11 | 
This page was generated on 2020-10-16 17:00:14 -0400 (Fri, 16 Oct 2020).
| TO THE DEVELOPERS/MAINTAINERS OF THE csawUsersGuide PACKAGE: Please make sure to use the following settings in order to reproduce any error or warning you see on this page. | 
| Package 6/27 | Hostname | OS / Arch | INSTALL | BUILD | ||||||
| csawUsersGuide 1.4.0 Aaron Lun 
  | malbec2 | Linux (Ubuntu 18.04.4 LTS) / x86_64 | [ OK ] | OK | 
| Package: csawUsersGuide | 
| Version: 1.4.0 | 
| Command: /home/biocbuild/bbs-3.11-bioc/R/bin/R CMD INSTALL csawUsersGuide | 
| StartedAt: 2020-10-16 09:00:08 -0400 (Fri, 16 Oct 2020) | 
| EndedAt: 2020-10-16 09:00:10 -0400 (Fri, 16 Oct 2020) | 
| EllapsedTime: 2.5 seconds | 
| RetCode: 0 | 
| Status: OK | 
############################################################################## ############################################################################## ### ### Running command: ### ### /home/biocbuild/bbs-3.11-bioc/R/bin/R CMD INSTALL csawUsersGuide ### ############################################################################## ############################################################################## * installing to library ‘/home/biocbuild/bbs-3.11-bioc/R/library’ * installing *source* package ‘csawUsersGuide’ ... ** using staged installation ** inst ** help No man pages found in package ‘csawUsersGuide’ *** installing help indices ** building package indices ** installing vignettes ** testing if installed package can be loaded from temporary location ** testing if installed package can be loaded from final location ** testing if installed package keeps a record of temporary installation path * DONE (csawUsersGuide)