| Back to Workflows build report for BioC 3.11 | 
This page was generated on 2020-10-16 17:00:15 -0400 (Fri, 16 Oct 2020).
| TO THE DEVELOPERS/MAINTAINERS OF THE RnaSeqGeneEdgeRQL PACKAGE: Please make sure to use the following settings in order to reproduce any error or warning you see on this page. | 
| Package 22/27 | Hostname | OS / Arch | INSTALL | BUILD | ||||||
| RnaSeqGeneEdgeRQL 1.12.1 Yunshun Chen 
  | malbec2 | Linux (Ubuntu 18.04.4 LTS) / x86_64 | OK | [ OK ] | 
| Package: RnaSeqGeneEdgeRQL | 
| Version: 1.12.1 | 
| Command: /home/biocbuild/bbs-3.11-bioc/R/bin/R CMD build --keep-empty-dirs --no-resave-data RnaSeqGeneEdgeRQL | 
| StartedAt: 2020-10-16 09:21:58 -0400 (Fri, 16 Oct 2020) | 
| EndedAt: 2020-10-16 09:23:07 -0400 (Fri, 16 Oct 2020) | 
| EllapsedTime: 69.0 seconds | 
| RetCode: 0 | 
| Status: OK | 
| PackageFile: RnaSeqGeneEdgeRQL_1.12.1.tar.gz | 
| PackageFileSize: 1.466 MiB | 
############################################################################## ############################################################################## ### ### Running command: ### ### /home/biocbuild/bbs-3.11-bioc/R/bin/R CMD build --keep-empty-dirs --no-resave-data RnaSeqGeneEdgeRQL ### ############################################################################## ############################################################################## * checking for file ‘RnaSeqGeneEdgeRQL/DESCRIPTION’ ... OK * preparing ‘RnaSeqGeneEdgeRQL’: * checking DESCRIPTION meta-information ... OK * installing the package to build vignettes * creating vignettes ... OK * checking for LF line-endings in source and make files and shell scripts * checking for empty or unneeded directories * creating default NAMESPACE file * building ‘RnaSeqGeneEdgeRQL_1.12.1.tar.gz’