| Back to Workflows build report for BioC 3.11 |
This page was generated on 2020-10-16 17:00:15 -0400 (Fri, 16 Oct 2020).
| TO THE DEVELOPERS/MAINTAINERS OF THE variants PACKAGE: Please make sure to use the following settings in order to reproduce any error or warning you see on this page. |
| Package 27/27 | Hostname | OS / Arch | INSTALL | BUILD | ||||||
| variants 1.12.0 Bioconductor Package Maintainer
| malbec2 | Linux (Ubuntu 18.04.4 LTS) / x86_64 | OK | [ OK ] |
| Package: variants |
| Version: 1.12.0 |
| Command: /home/biocbuild/bbs-3.11-bioc/R/bin/R CMD build --keep-empty-dirs --no-resave-data variants |
| StartedAt: 2020-10-16 09:27:27 -0400 (Fri, 16 Oct 2020) |
| EndedAt: 2020-10-16 09:28:54 -0400 (Fri, 16 Oct 2020) |
| EllapsedTime: 87.6 seconds |
| RetCode: 0 |
| Status: OK |
| PackageFile: variants_1.12.0.tar.gz |
| PackageFileSize: 225.2 KiB |
############################################################################## ############################################################################## ### ### Running command: ### ### /home/biocbuild/bbs-3.11-bioc/R/bin/R CMD build --keep-empty-dirs --no-resave-data variants ### ############################################################################## ############################################################################## * checking for file ‘variants/DESCRIPTION’ ... OK * preparing ‘variants’: * checking DESCRIPTION meta-information ... OK * installing the package to build vignettes * creating vignettes ... OK * checking for LF line-endings in source and make files and shell scripts * checking for empty or unneeded directories * creating default NAMESPACE file * building ‘variants_1.12.0.tar.gz’