| [george2] | 
Linux (Ubuntu 12.04.1 LTS) / x86_64  |  |  |  | 
| moscato2 | 
Windows Server 2008 R2 Enterprise SP1 (64-bit) / x64  |  |  |  | 
| petty | 
Mac OS X Snow Leopard (10.6.8) / x86_64  |  |  |  | 
 | 
 | 
| A [A] B  C  D  E  F  G  H  I  J  K  L  M  N  O  P  Q  R  S  T  U  V  W  X  Y  Z  | 
| a4 1.8.0 | Tobias Verbeke , Willem Ligtenberg |  OK  |  OK  |  | 
| a4Base 1.8.0 | Tobias Verbeke , Willem Ligtenberg |  OK  |  WARNINGS  |  | 
| a4Classif 1.8.0 | Tobias Verbeke , Willem Ligtenberg |  OK  |  OK  |  | 
| a4Core 1.8.0 | Tobias Verbeke , Willem Ligtenberg |  OK  |  OK  |  | 
| a4Preproc 1.8.0 | Tobias Verbeke , Willem Ligtenberg |  OK  |  OK  |  | 
| a4Reporting 1.8.0 | Tobias Verbeke , Willem Ligtenberg |  OK  |  OK  |  | 
| ABarray 1.28.0 | Yongming Andrew Sun |  OK  |  OK  |  | 
| aCGH 1.38.0 | Peter Dimitrov |  OK  |  OK  |  | 
| ACME 2.16.0 | Sean Davis |  OK  |  OK  |  | 
| ADaCGH2 1.10.0 | Ramon Diaz-Uriarte |  OK  |  OK  |  | 
| adSplit 1.30.0 | Claudio Lottaz |  OK  |  OK  |  | 
| affxparser 1.32.3 | Kasper Daniel Hansen |  OK  |  WARNINGS  |  | 
| affy 1.38.1 | Rafael A. Irizarry |  OK  |  OK  |  | 
| affycomp 1.36.0 | Rafael A. Irizarry |  OK  |  OK  |  | 
| AffyCompatible 1.20.0 | Martin Morgan |  OK  |  OK  |  | 
| affyContam 1.18.0 | V. Carey |  OK  |  OK  |  | 
| affycoretools 1.32.1 | James W. MacDonald |  OK  |  OK  |  | 
| AffyExpress 1.26.0 | Xuejun Arthur Li |  OK  |  OK  |  | 
| affyILM 1.12.0 | Myriam Kroll and Fabrice Berger |  OK  |  OK  |  | 
| affyio 1.28.0 | Benjamin Milo Bolstad |  OK  |  OK  |  | 
| affylmGUI 1.34.0 | Keith Satterley |  OK  |  OK  |  | 
| affyPara 1.20.0 | Markus Schmidberger |  OK  |  OK  |  | 
| affypdnn 1.34.0 | Laurent Gautier |  OK  |  OK  |  | 
| affyPLM 1.36.0 | Ben Bolstad |  OK  |  OK  |  | 
| affyQCReport 1.38.0 | Craig Parman |  OK  |  OK  |  | 
| AffyRNADegradation 1.6.0 | Mario Fasold |  OK  |  OK  |  | 
| AffyTiling 1.18.0 | Charles G. Danko |  OK  |  OK  |  | 
| AGDEX 1.8.0 | Cuilan lani Gao |  OK  |  OK  |  | 
| Agi4x44PreProcess 1.20.0 | Pedro Lopez-Romero |  OK  |  OK  |  | 
| agilp 3.2.0 | Benny Chain |  OK  |  OK  |  | 
| AgiMicroRna 2.10.0 | Pedro Lopez-Romero |  OK  |  OK  |  | 
| altcdfenvs 2.22.0 | Laurent Gautier |  OK  |  OK  |  | 
| annaffy 1.32.0 | Colin A. Smith |  OK  |  OK  |  | 
| annmap 1.2.1 | Tim Yates |  OK  |  OK  |  | 
| annotate 1.38.0 | Bioconductor Package Maintainer |  OK  |  ERROR  |  | 
| AnnotationDbi 1.22.6 | Bioconductor Package Maintainer |  OK  |  OK  |  | 
| AnnotationForge 1.2.2 | Bioconductor Package Maintainer |  OK  |  OK  |  | 
| AnnotationFuncs 1.10.0 | Stefan McKinnon Edwards |  OK  |  OK  |  | 
| AnnotationHub 1.0.2 | Marc Carlson |  OK  |  OK  |  | 
| annotationTools 1.34.0 | Alexandre Kuhn |  OK  |  OK  |  | 
| anota 1.8.0 | Ola Larsson |  OK  |  OK  |  | 
| antiProfiles 1.0.0 | Hector Corrada Bravo |  OK  |  OK  |  | 
| apComplex 2.26.0 | Denise Scholtens |  OK  |  OK  |  | 
| aroma.light 1.30.5 | Henrik Bengtsson |  OK  |  OK  |  | 
| ArrayExpress 1.20.0 | Ibrahim Emam |  OK  |  OK  |  | 
| ArrayExpressHTS 1.10.0 | Angela Goncalves , Andrew Tikhonov |  OK  |  OK  |  | 
| arrayMvout 1.18.0 | V. Carey |  OK  |  OK  |  | 
| arrayQuality 1.38.0 | Agnes Paquet |  OK  |  OK  |  | 
| arrayQualityMetrics 3.16.0 | Audrey Kauffmann |  OK  |  OK  |  | 
| ArrayTools 1.20.0 | Arthur Li |  OK  |  OK  |  | 
| ARRmNormalization 1.0.0 | Jean-Philippe Fortin |  OK  |  OK  |  | 
| ASEB 1.4.0 | Likun Wang |  OK  |  OK  |  | 
| attract 1.12.0 | Jessica Mar |  OK  |  OK  |  | 
 | 
| B  A [B] C  D  E  F  G  H  I  J  K  L  M  N  O  P  Q  R  S  T  U  V  W  X  Y  Z  | 
| BAC 1.20.0 | Raphael Gottardo |  OK  |  OK  |  | 
| BaseSpaceR 1.0.1 | Adrian Alexa |  OK  |  OK  |  | 
| BayesPeak 1.12.0 | Jonathan Cairns |  OK  |  OK  |  | 
| baySeq 1.14.1 | Thomas J. Hardcastle |  OK  |  OK  |  | 
| BCRANK 1.22.0 | Adam Ameur |  OK  |  OK  |  | 
| beadarray 2.10.0 | Mark Dunning |  OK  |  OK  |  | 
| beadarraySNP 1.26.0 | Jan Oosting |  OK  |  OK  |  | 
| BeadDataPackR 1.12.0 | Mike Smith |  OK  |  OK  |  | 
| betr 1.16.0 | Martin Aryee |  OK  |  OK  |  | 
| bgafun 1.22.0 | Iain Wallace |  OK  |  OK  |  | 
| BGmix 1.20.0 | Alex Lewin |  OK  |  OK  |  | 
| bgx 1.24.0 | Ernest Turro |  OK  |  WARNINGS  |  | 
| BHC 1.12.0 | Rich Savage |  OK  |  OK  |  | 
| BicARE 1.18.0 | Pierre Gestraud |  OK  |  OK  |  | 
| bigmemoryExtras 1.2.0 | Peter M. Haverty |  OK  |  OK  |  | 
| Biobase 2.20.1 | Bioconductor Package Maintainer |  OK  |  OK  |  | 
| BiocCaseStudies 1.22.0 | Bioconductor Package Maintainer |  OK  |  OK  |  | 
| BiocGenerics 0.6.0 | Bioconductor Package Maintainer |  OK  |  WARNINGS  |  | 
| biocGraph 1.22.0 | Florian Hahne |  OK  |  OK  |  | 
| BiocInstaller 1.10.3 | Bioconductor Package Maintainer |  OK  |  OK  |  | 
| biocViews 1.28.0 | Bioconductor Package Maintainer |  OK  |  OK  |  | 
| bioDist 1.32.0 | Bioconductor Package Maintainer |  OK  |  WARNINGS  |  | 
| biomaRt 2.16.0 | Steffen Durinck |  OK  |  OK  |  | 
| BioMVCClass 1.28.0 | Elizabeth Whalen |  OK  |  OK  |  | 
| biomvRCNS 1.0.6 | Yang Du |  OK  |  OK  |  | 
| BioNet 1.18.0 | Marcus Dittrich |  OK  |  OK  |  | 
| BioSeqClass 1.18.0 | Li Hong |  OK  |  WARNINGS  |  | 
| Biostrings 2.28.0 | H. Pages |  OK  |  WARNINGS  |  | 
| biovizBase 1.8.1 | Tengfei Yin |  OK  |  OK  |  | 
| birta 1.4.0 | Benedikt Zacher , Holger Froehlich |  OK  |  OK  |  | 
| BiSeq 1.0.3 | Katja Hebestreit |  OK  |  OK  |  | 
| BitSeq 1.4.3 | Peter Glaus |  OK  |  OK  |  | 
| BRAIN 1.6.6 | Piotr Dittwald |  OK  |  OK  |  | 
| BrainStars 1.4.0 | Itoshi NIKAIDO |  OK  |  OK  |  | 
| bridge 1.24.0 | Raphael Gottardo |  OK  |  OK  |  | 
| BSgenome 1.28.0 | H. Pages |  OK  |  WARNINGS  |  | 
| bsseq 0.8.0 | Kasper Daniel Hansen |  OK  |  OK  |  | 
| BufferedMatrix 1.24.0 | Benjamin Milo Bolstad |  OK  |  OK  |  | 
| BufferedMatrixMethods 1.24.0 | B. M. Bolstad |  OK  |  OK  |  | 
| bumphunter 1.0.2 | Rafael A. Irizarry |  OK  |  OK  |  | 
| BUS 1.16.0 | Yuanhua Liu |  OK  |  OK  |  | 
 | 
| C  A  B [C] D  E  F  G  H  I  J  K  L  M  N  O  P  Q  R  S  T  U  V  W  X  Y  Z  | 
| CAGEr 1.2.9 | Vanja Haberle |  OK  |  OK  |  | 
| CALIB 1.26.0 | Hui Zhao |  OK  |  OK  |  | 
| CAMERA 1.16.0 | Carsten Kuhl |  OK  |  OK  |  | 
| cancerclass 1.4.0 | Daniel Kosztyla |  OK  |  OK  |  | 
| CancerMutationAnalysis 1.4.0 | Simina M. Boca |  OK  |  OK  |  | 
| casper 1.1.2 | David Rossell |  OK  |  OK  |  | 
| Category 2.26.0 | Bioconductor Package Maintainer |  OK  |  OK  |  | 
| categoryCompare 1.4.0 | Robert M. Flight |  ERROR  |  skipped  |  | 
| cellGrowth 1.4.0 | Julien Gagneur |  OK  |  OK  |  | 
| cellHTS 1.30.0 | Ligia Bras |  OK  |  OK  |  | 
| cellHTS2 2.24.1 | Joseph Barry |  OK  |  OK  |  | 
| CellNOptR 1.6.0 | T.Cokelaer |  OK  |  OK  |  | 
| CGEN 2.2.0 | William Wheeler |  OK  |  WARNINGS  |  | 
| CGHbase 1.20.0 | Mark van de Wiel |  OK  |  OK  |  | 
| CGHcall 2.20.0 | Mark van de Wiel |  OK  |  OK  |  | 
| cghMCR 1.18.0 | J. Zhang |  OK  |  OK  |  | 
| CGHnormaliter 1.14.0 | Bart P.P. van Houte |  OK  |  OK  |  | 
| CGHregions 1.18.0 | Sjoerd Vosse |  OK  |  OK  |  | 
| charm 2.6.0 | Peter Murakami |  OK  |  OK  |  | 
| ChemmineR 2.12.3 | ChemmineR Team |  OK  |  OK  |  | 
| chimera 1.2.6 | Raffaele A Calogero |  OK  |  OK  |  | 
| ChIPpeakAnno 2.8.0 | Lihua Julie Zhu |  OK  |  OK  |  | 
| chipseq 1.10.1 | Bioconductor Package Maintainer |  OK  |  OK  |  | 
| ChIPseqR 1.14.0 | Peter Humburg |  OK  |  OK  |  | 
| ChIPsim 1.14.0 | Peter Humburg |  OK  |  OK  |  | 
| ChIPXpress 1.2.0 | George Wu |  OK  |  OK  |  | 
| chopsticks 1.24.2 | Hin-Tak Leung |  OK  |  OK  |  | 
| chroGPS 1.3.3 | Oscar Reina |  OK  |  OK  |  | 
| ChromHeatMap 1.14.0 | Tim F. Rayner |  OK  |  OK  |  | 
| cisPath 1.0.6 | Likun Wang |  OK  |  OK  |  | 
| clippda 1.10.0 | Stephen Nyangoma |  OK  |  OK  |  | 
| clipper 1.0.0 | Paolo Martini |  OK  |  OK  |  | 
| Clonality 1.8.0 | Irina Ostrovnaya |  OK  |  OK  |  | 
| clst 1.8.0 | Noah Hoffman |  OK  |  OK  |  | 
| clstutils 1.8.0 | Noah Hoffman |  OK  |  OK  |  | 
| clusterProfiler 1.8.0 | Guangchuang Yu |  OK  |  WARNINGS  |  | 
| clusterStab 1.32.0 | James W. MacDonald |  OK  |  OK  |  | 
| CMA 1.18.0 | Christoph Bernau |  OK  |  OK  |  | 
| cn.farms 1.8.0 | Andreas Mitterecker |  OK  |  OK  |  | 
| cn.mops 1.6.7 | Guenter Klambauer |  OK  |  OK  |  | 
| CNAnorm 1.6.0 | Stefano Berri |  OK  |  OK  |  | 
| CNORdt 1.2.0 | A. MacNamara |  OK  |  OK  |  | 
| CNORfeeder 1.0.0 | F.Eduati |  OK  |  OK  |  | 
| CNORfuzzy 1.2.0 | T. Cokelaer |  OK  |  OK  |  | 
| CNORode 1.2.0 | David Henriques |  OK  |  OK  |  | 
| CNTools 1.16.0 | J. Zhang |  OK  |  OK  |  | 
| cnvGSA 1.4.0 | Robert Ziman |  OK  |  OK  |  | 
| CNVtools 1.54.0 | Chris Barnes |  OK  |  WARNINGS  |  | 
| CoCiteStats 1.32.0 | Bioconductor Package Maintainer |  OK  |  OK  |  | 
| codelink 1.28.1 | Diego Diez |  OK  |  OK  |  | 
| CoGAPS 1.10.0 | Elana J. Fertig |  OK  |  OK  |  | 
| coGPS 1.4.0 | Yingying Wei |  OK  |  OK  |  | 
| ConsensusClusterPlus 1.16.0 | Matt Wilkerson |  OK  |  OK  |  | 
| convert 1.36.0 | Yee Hwa (Jean) Yang |  OK  |  OK  |  | 
| copa 1.28.0 | James W. MacDonald |  OK  |  OK  |  | 
| copynumber 1.1.1 | Gro Nilsen |  OK  |  OK  |  | 
| Cormotif 1.6.0 | Yingying Wei |  OK  |  OK  |  | 
| CorMut 1.2.0 | Zhenpeng Li |  OK  |  OK  |  | 
| coRNAi 1.10.1 | Elin Axelsson |  OK  |  OK  |  | 
| CORREP 1.26.0 | Dongxiao Zhu |  OK  |  OK  |  | 
| cqn 1.6.0 | Kasper Daniel Hansen |  OK  |  OK  |  | 
| CRImage 1.8.0 | Henrik Failmezger |  OK  |  OK  |  | 
| crlmm 1.18.0 | Benilton S Carvalho , Robert Scharpf , Matt Ritchie |  OK  |  OK  |  | 
| CSAR 1.12.0 | Jose M Muino |  OK  |  OK  |  | 
| ctc 1.34.0 | Antoine Lucas |  OK  |  OK  |  | 
| cummeRbund 2.2.0 | Loyal A. Goff |  OK  |  OK  |  | 
| cycle 1.14.0 | Matthias Futschik |  OK  |  OK  |  | 
 | 
| D  A  B  C [D] E  F  G  H  I  J  K  L  M  N  O  P  Q  R  S  T  U  V  W  X  Y  Z  | 
| daMA 1.32.0 | Jobst Landgrebe |  OK  |  OK  |  | 
| DART 1.6.1 | Katherine Lawler |  OK  |  OK  |  | 
| DASiR 1.0.1 | Oscar Flores |  OK  |  OK  |  | 
| DAVIDQuery 1.20.0 | Roger Day |  OK  |  OK  |  | 
| DBChIP 1.4.0 | Kun Liang |  OK  |  OK  |  | 
| ddCt 1.14.0 | Jitao David Zhang |  OK  |  OK  |  | 
| ddgraph 1.4.0 | Robert Stojnic |  OK  |  OK  |  | 
| DECIPHER 1.6.0 | Erik Wright |  OK  |  OK  |  | 
| DeconRNASeq 1.2.0 | Ting Gong |  OK  |  OK  |  | 
| DEDS 1.34.0 | Yuanyuan Xiao |  OK  |  OK  |  | 
| deepSNV 1.6.0 | Moritz Gerstung |  OK  |  OK  |  | 
| DEGraph 1.12.0 | Laurent Jacob |  OK  |  OK  |  | 
| DEGseq 1.14.0 | Likun Wang |  OK  |  OK  |  | 
| deltaGseg 1.0.3 | Diana Low |  OK  |  OK  |  | 
| DESeq 1.12.1 | Simon Anders |  OK  |  OK  |  | 
| DESeq2 1.0.19 | Michael Love |  OK  |  OK  |  | 
| DEXSeq 1.6.0 | Alejandro Reyes |  OK  |  OK  |  | 
| dexus 1.0.2 | Guenter Klambauer |  OK  |  OK  |  | 
| DFP 1.18.0 | Rodrigo Alvarez-Glez |  OK  |  OK  |  | 
| DiffBind 1.6.2 | Rory Stark |  OK  |  OK  |  | 
| diffGeneAnalysis 1.42.0 | Choudary Jagarlamudi |  OK  |  OK  |  | 
| DirichletMultinomial 1.2.0 | Martin Morgan |  OK  |  OK  |  | 
| dks 1.6.0 | Jeffrey T. Leek |  OK  |  OK  |  | 
| DNAcopy 1.34.0 | Venkatraman E. Seshan |  OK  |  OK  |  | 
| domainsignatures 1.20.0 | Florian Hahne |  OK  |  OK  |  | 
| DOSE 1.6.0 | Guangchuang Yu |  OK  |  OK  |  | 
| DriverNet 1.0.0 | Jiarui Ding |  OK  |  OK  |  | 
| DrugVsDisease 2.0.0 | j. Saez-Rodriguez |  OK  |  OK  |  | 
| DSS 1.4.0 | Hao Wu |  OK  |  OK  |  | 
| DTA 2.6.0 | Bjoern Schwalb |  OK  |  OK  |  | 
| dualKS 1.20.0 | Yarong Yang |  OK  |  OK  |  | 
| dyebias 1.18.0 | Philip Lijnzaad |  OK  |  WARNINGS  |  | 
| DynDoc 1.38.0 | Bioconductor Package Maintainer |  OK  |  OK  |  | 
 | 
| E  A  B  C  D [E] F  G  H  I  J  K  L  M  N  O  P  Q  R  S  T  U  V  W  X  Y  Z  | 
| EasyqpcR 1.2.0 | Le Pape Sylvain |  OK  |  OK  |  | 
| easyRNASeq 1.6.4 | Nicolas Delhomme |  OK  |  OK  |  | 
| EBarrays 2.24.0 | Ming Yuan |  OK  |  WARNINGS  |  | 
| EBcoexpress 1.4.0 | John A. Dawson |  OK  |  OK  |  | 
| EBImage 4.2.1 | Andrzej Oles |  OK  |  OK  |  | 
| ecolitk 1.32.0 | Laurent Gautier |  OK  |  OK  |  | 
| EDASeq 1.6.0 | Davide Risso |  OK  |  OK  |  | 
| edgeR 3.2.4 | Mark Robinson , Davis McCarthy , Yunshun Chen , Gordon Smyth |  OK  |  OK  |  | 
| eiR 1.0.3 | Kevin Horan |  OK  |  OK  |  | 
| eisa 1.12.2 | Gabor Csardi |  OK  |  OK  |  | 
| ensemblVEP 1.0.5 | Valerie Obenchain |  OK  |  OK  |  | 
| ENVISIONQuery 1.8.1 | Alex Lisovich , Roger Day |  OK  |  OK  |  | 
| epigenomix 1.0.1 | Hans-Ulrich Klein |  OK  |  OK  |  | 
| ExiMiR 2.2.0 | Sylvain Gubian |  OK  |  OK  |  | 
| exomeCopy 1.6.0 | Michael Love |  OK  |  OK  |  | 
| explorase 1.24.0 | Michael Lawrence |  OK  |  OK  |  | 
| ExpressionView 1.12.0 | Gabor Csardi |  OK  |  OK  |  | 
| externalVector 1.26.0 | Bioconductor Package Maintainer |  OK  |  OK  |  | 
 | 
| F  A  B  C  D  E [F] G  H  I  J  K  L  M  N  O  P  Q  R  S  T  U  V  W  X  Y  Z  | 
| fabia 2.6.2 | Sepp Hochreiter |  OK  |  OK  |  | 
| factDesign 1.36.0 | Denise Scholtens |  OK  |  OK  |  | 
| farms 1.12.0 | Djork-Arne Clevert |  OK  |  OK  |  | 
| fastseg 1.6.0 | Guenter Klambauer |  OK  |  OK  |  | 
| fdrame 1.32.0 | Effi Kenigsberg |  OK  |  OK  |  | 
| ffpe 1.4.0 | Levi Waldron |  OK  |  WARNINGS  |  | 
| flagme 1.16.2 | Mark Robinson |  OK  |  OK  |  | 
| flowClust 3.0.0 | Raphael Gottardo |  OK  |  WARNINGS  |  | 
| flowCore 1.26.3 | M.Jiang |  OK  |  OK  |  | 
| flowFlowJo 1.18.0 | John J. Gosink |  OK  |  OK  |  | 
| flowFP 1.18.0 | Herb Holyst |  OK  |  OK  |  | 
| flowMeans 1.12.0 | Nima Aghaeepour |  OK  |  OK  |  | 
| flowMerge 2.8.0 | Greg Finak |  OK  |  OK  |  | 
| flowPeaks 1.2.0 | Yongchao Ge |  OK  |  OK  |  | 
| flowPhyto 1.12.1 | Chris Berthiaume |  OK  |  WARNINGS  |  | 
| flowPlots 1.8.0 | N. Hawkins |  OK  |  OK  |  | 
| flowQ 1.20.0 | Mike Jiang |  OK  |  OK  |  | 
| flowQB 1.2.0 | Faysal El Khettabi |  OK  |  OK  |  | 
| flowStats 1.18.0 | Greg Finak  and Mike Jiang |  OK  |  OK  |  | 
| flowTrans 1.12.0 | Greg Finak |  OK  |  OK  |  | 
| flowType 1.6.0 | Nima Aghaeepour |  OK  |  OK  |  | 
| flowUtils 1.20.0 | Nishant Gopalakrishnan |  OK  |  OK  |  | 
| flowViz 1.24.0 | Mike Jiang |  OK  |  OK  |  | 
| flowWorkspace 1.6.1 | Greg Finak ,Mike Jiang |  OK  |  OK  |  | 
| fmcsR 1.2.1 | ChemmineR Team |  OK  |  OK  |  | 
| frma 1.12.0 | Matthew N. McCall |  OK  |  OK  |  | 
| frmaTools 1.12.0 | Matthew N. McCall |  OK  |  OK  |  | 
| FunciSNP 1.2.0 | Simon G. Coetzee |  OK  |  WARNINGS  |  | 
 | 
| G  A  B  C  D  E  F [G] H  I  J  K  L  M  N  O  P  Q  R  S  T  U  V  W  X  Y  Z  | 
| gaga 2.6.0 | David Rossell |  OK  |  OK  |  | 
| gage 2.10.0 | Weijun Luo |  OK  |  OK  |  | 
| gaggle 1.28.0 | Christopher Bare |  OK  |  OK  |  | 
| gaia 2.4.0 | S. Morganella |  OK  |  OK  |  | 
| gCMAP 1.4.1 | Thomas Sandmann |  OK  |  OK  |  | 
| gCMAPWeb 1.0.3 | Thomas Sandmann |  OK  |  OK  |  | 
| gcrma 2.32.0 | Z. Wu |  OK  |  OK  |  | 
| genArise 1.36.0 | IFC Development Team |  OK  |  OK  |  | 
| GENE.E 1.1.0 | Joshua Gould |  OK  |  OK  |  | 
| GeneAnswers 2.2.1 | Gang Feng  , Pan Du  and Tian Xia |  OK  |  OK  |  | 
| GeneExpressionSignature 1.6.0 | Yang Cao |  OK  |  OK  |  | 
| genefilter 1.42.0 | Bioconductor Package Maintainer |  OK  |  WARNINGS  |  | 
| genefu 1.10.0 | Benjamin Haibe-Kains , Markus Schroeder |  OK  |  OK  |  | 
| GeneGA 1.10.0 | Zhenpeng Li |  OK  |  OK  |  | 
| GeneGroupAnalysis 1.6.0 | Alejandro Quiroz-Zarate |  OK  |  OK  |  | 
| GeneMeta 1.32.0 | Bioconductor Package Maintainer |  OK  |  OK  |  | 
| GeneNetworkBuilder 1.2.0 | Jianhong Ou |  OK  |  OK  |  | 
| geneplotter 1.38.0 | Bioconductor Package Maintainer |  OK  |  OK  |  | 
| geneRecommender 1.32.0 | Greg Hather |  OK  |  OK  |  | 
| GeneRegionScan 1.16.0 | Lasse Folkersen |  OK  |  OK  |  | 
| GeneSelectMMD 2.4.0 | Weiliang Qiu |  OK  |  OK  |  | 
| GeneSelector 2.10.0 | Martin Slawski |  OK  |  OK  |  | 
| geNetClassifier 1.0.2 | Sara Aibar |  OK  |  OK  |  | 
| GeneticsDesign 1.28.0 | The R Genetics Project |  OK  |  OK  |  | 
| GeneticsPed 1.22.0 | David Henderson |  OK  |  OK  |  | 
| genoCN 1.12.0 | Wei Sun |  OK  |  OK  |  | 
| GenomeGraphs 1.20.0 | Steffen Durinck |  OK  |  OK  |  | 
| genomeIntervals 1.16.0 | Julien Gagneur |  OK  |  OK  |  | 
| genomes 2.6.0 | Chris Stubben |  OK  |  OK  |  | 
| GenomicFeatures 1.12.4 | Bioconductor Package Maintainer |  OK  |  OK  |  | 
| GenomicRanges 1.12.5 | Bioconductor Package Maintainer |  OK  |  OK  |  | 
| Genominator 1.14.0 | James Bullard |  OK  |  OK  |  | 
| genoset 1.12.0 | Peter M. Haverty |  OK  |  OK  |  | 
| GEOmetadb 1.20.0 | Jack Zhu |  OK  |  OK  |  | 
| GEOquery 2.26.2 | Sean Davis |  OK  |  WARNINGS  |  | 
| GEOsubmission 1.12.0 | Alexandre Kuhn |  OK  |  OK  |  | 
| GEWIST 1.4.0 | Wei Q. Deng |  OK  |  OK  |  | 
| GGBase 3.22.0 | VJ Carey |  OK  |  OK  |  | 
| ggbio 1.8.8 | Tengfei Yin |  OK  |  WARNINGS  |  | 
| GGtools 4.8.0 | VJ Carey |  OK  |  OK  |  | 
| girafe 1.12.0 | J. Toedling |  OK  |  OK  |  | 
| GLAD 2.24.0 | Philippe Hupe |  OK  |  OK  |  | 
| GlobalAncova 3.28.0 | Manuela Hummel |  OK  |  OK  |  | 
| globaltest 5.14.0 | Jelle Goeman |  OK  |  OK  |  | 
| gmapR 1.2.0 | Michael Lawrence |  OK  |  WARNINGS  |  | 
| GOFunction 1.6.0 | Zheng Guo |  OK  |  OK  |  | 
| goProfiles 1.22.0 | Alex Sanchez |  OK  |  OK  |  | 
| GOSemSim 1.18.0 | Guangchuang Yu |  OK  |  OK  |  | 
| goseq 1.12.0 | Matthew Young |  OK  |  OK  |  | 
| GOstats 2.26.0 | Bioconductor Package Maintainer |  OK  |  OK  |  | 
| goTools 1.34.0 | Agnes Paquet |  OK  |  OK  |  | 
| gpls 1.32.0 | Bioconductor Package Maintainer |  OK  |  OK  |  | 
| gprege 1.4.1 | Alfredo Kalaitzis |  OK  |  OK  |  | 
| graph 1.38.3 | Bioconductor Package Maintainer |  OK  |  OK  |  | 
| GraphAlignment 1.24.0 | Joern P. Meier |  OK  |  OK  |  | 
| GraphAT 1.32.0 | Thomas LaFramboise |  OK  |  OK  |  | 
| graphite 1.6.0 | Gabriele Sales |  OK  |  OK  |  | 
| GraphPAC 1.2.2 | Gregory Ryslik |  OK  |  OK  |  | 
| GRENITS 1.12.0 | Edward Morrissey |  OK  |  OK  |  | 
| GSEABase 1.22.0 | Bioconductor Package Maintainer |  OK  |  OK  |  | 
| GSEAlm 1.20.0 | Assaf Oron |  OK  |  OK  |  | 
| GSRI 2.8.0 | Julian Gehring |  OK  |  OK  |  | 
| GSVA 1.8.0 | Justin Guinney |  OK  |  OK  |  | 
| Gviz 1.4.5 | Florian Hahne |  OK  |  OK  |  | 
| gwascat 1.4.0 | VJ Carey |  ERROR  |  skipped  |  | 
| GWASTools 1.6.5 | Stephanie M. Gogarten |  OK  |  OK  |  | 
 | 
| H  A  B  C  D  E  F  G [H] I  J  K  L  M  N  O  P  Q  R  S  T  U  V  W  X  Y  Z  | 
| hapFabia 1.2.2 | Sepp Hochreiter |  OK  |  OK  |  | 
| Harshlight 1.32.1 | Maurizio Pellegrino |  OK  |  OK  |  | 
| HCsnip 1.0.0 | Askar Obulkasim |  OK  |  OK  |  | 
| Heatplus 2.6.0 | Alexander Ploner |  OK  |  OK  |  | 
| HELP 1.18.0 | Reid F. Thompson |  OK  |  OK  |  | 
| HEM 1.32.0 | HyungJun Cho |  OK  |  OK  |  | 
| HilbertVis 1.18.0 | Simon Anders |  OK  |  WARNINGS  |  | 
| HilbertVisGUI 1.18.0 | Simon Anders |  OK  |  WARNINGS  |  | 
| HiTC 1.4.0 | Nicolas Servant |  OK  |  OK  |  | 
| HMMcopy 1.2.0 | Daniel Lai , Gavin Ha , Sohrab Shah |  OK  |  OK  |  | 
| hopach 2.20.0 | Katherine S. Pollard |  OK  |  OK  |  | 
| hpar 1.2.0 | Laurent Gatto |  OK  |  OK  |  | 
| HTqPCR 1.14.0 | Heidi Dvinge |  OK  |  OK  |  | 
| HTSanalyzeR 2.12.1 | Xin Wang |  OK  |  OK  |  | 
| HTSeqGenie 3.10.0 | Gregoire Pau |  OK  |  OK  |  | 
| htSeqTools 1.6.1 | Oscar Reina |  OK  |  WARNINGS  |  | 
| HTSFilter 1.0.1 | Andrea Rau |  OK  |  OK  |  | 
| HybridMTest 1.4.0 | Demba Fofana |  OK  |  OK  |  | 
| hyperdraw 1.12.0 | Paul Murrell |  OK  |  OK  |  | 
| hypergraph 1.32.0 | Bioconductor Package Maintainer |  OK  |  OK  |  | 
 | 
| I  A  B  C  D  E  F  G  H [I] J  K  L  M  N  O  P  Q  R  S  T  U  V  W  X  Y  Z  | 
| iASeq 1.4.0 | Yingying Wei |  OK  |  OK  |  | 
| iBBiG 1.4.0 | Aedin Culhane |  OK  |  OK  |  | 
| ibh 1.8.0 | Kircicegi Korkmaz |  OK  |  OK  |  | 
| iBMQ 1.0.1 | Marie-Pier Scott-Boyer |  OK  |  OK  |  | 
| Icens 1.32.0 | Bioconductor Package Maintainer |  OK  |  OK  |  | 
| iChip 1.14.0 | Qianxing Mo |  OK  |  OK  |  | 
| idiogram 1.36.0 | Karl J. Dykema |  OK  |  OK  |  | 
| IdMappingAnalysis 1.4.0 | Alex Lisovich , Roger Day |  OK  |  ERROR  |  | 
| IdMappingRetrieval 1.6.0 | Alex Lisovich , Roger Day |  OK  |  WARNINGS  |  | 
| iFlow 2.12.0 | Kyongryun Lee |  OK  |  WARNINGS  |  | 
| illuminaio 0.2.0 | Kasper Daniel Hansen |  OK  |  OK  |  | 
| imageHTS 1.10.0 | Gregoire Pau |  OK  |  OK  |  | 
| impute 1.34.0 | Balasubramanian Narasimhan |  OK  |  OK  |  | 
| inSilicoDb 1.8.0 | Jonatan Taminau , David Steenhoff |  OK  |  OK  |  | 
| inSilicoMerging 1.4.1 | Jonatan Taminau , Stijn Meganck |  OK  |  OK  |  | 
| inveRsion 1.8.0 | Alejandro Caceres |  OK  |  OK  |  | 
| iontree 1.6.0 | Mingshu Cao |  OK  |  OK  |  | 
| iPAC 1.4.2 | Gregory Ryslik |  OK  |  OK  |  | 
| IPPD 1.8.0 | Martin Slawski |  OK  |  OK  |  | 
| IRanges 1.18.4 | Bioconductor Package Maintainer |  OK  |  WARNINGS  |  | 
| iSeq 1.12.0 | Qianxing Mo |  OK  |  OK  |  | 
| isobar 1.6.6 | Florian P Breitwieser |  OK  |  OK  |  | 
| IsoGeneGUI 1.16.0 | Setia Pramana |  OK  |  OK  |  | 
| ITALICS 2.20.0 | Guillem Rigaill |  OK  |  OK  |  | 
| iterativeBMA 1.18.0 | Ka Yee Yeung |  OK  |  OK  |  | 
| iterativeBMAsurv 1.18.0 | Ka Yee Yeung |  OK  |  OK  |  | 
 | 
| J  A  B  C  D  E  F  G  H  I [J] K  L  M  N  O  P  Q  R  S  T  U  V  W  X  Y  Z  | 
| jmosaics 1.0.0 | Xin Zeng |  OK  |  OK  |  | 
| joda 1.8.0 | Ewa Szczurek |  OK  |  OK  |  | 
 | 
| K  A  B  C  D  E  F  G  H  I  J [K] L  M  N  O  P  Q  R  S  T  U  V  W  X  Y  Z  | 
| KCsmart 2.18.0 | Jorma de Ronde |  OK  |  OK  |  | 
| KEGGgraph 1.16.0 | Jitao David Zhang |  OK  |  OK  |  | 
| keggorthology 2.12.0 | VJ Carey |  OK  |  OK  |  | 
| KEGGprofile 1.2.0 | Shilin Zhao |  OK  |  OK  |  | 
| KEGGREST 1.0.1 | Bioconductor Package Maintainer |  OK  |  OK  |  | 
| KEGGSOAP 1.34.0 | Bioconductor Package Maintainer |  OK  |  OK  |  | 
 | 
| L  A  B  C  D  E  F  G  H  I  J  K [L] M  N  O  P  Q  R  S  T  U  V  W  X  Y  Z  | 
| lapmix 1.26.0 | Yann Ruffieux |  OK  |  OK  |  | 
| LBE 1.28.0 | Cyril Dalmasso |  OK  |  OK  |  | 
| les 1.10.0 | Julian Gehring |  OK  |  OK  |  | 
| limma 3.16.8 | Gordon Smyth |  OK  |  OK  |  | 
| limmaGUI 1.36.0 | Keith Satterley |  OK  |  OK  |  | 
| LiquidAssociation 1.14.0 | Yen-Yi Ho |  OK  |  OK  |  | 
| lmdme 1.2.1 | Cristobal Fresno |  OK  |  OK  |  | 
| LMGene 2.16.0 | Blythe Durbin-Johnson |  OK  |  WARNINGS  |  | 
| logicFS 1.30.0 | Holger Schwender |  OK  |  OK  |  | 
| logitT 1.18.0 | Tobias Guennel |  OK  |  OK  |  | 
| lol 1.8.0 | Yinyin Yuan |  OK  |  OK  |  | 
| LPE 1.34.0 | Nitin Jain |  OK  |  OK  |  | 
| LPEadj 1.20.0 | Carl Murie |  OK  |  OK  |  | 
| lpNet 1.0.0 | Bettina Knapp |  OK  |  OK  |  | 
| lumi 2.12.0 | Pan Du |  OK  |  OK  |  | 
| LVSmiRNA 1.10.0 | Stefano Calza |  OK  |  OK  |  | 
 | 
| M  A  B  C  D  E  F  G  H  I  J  K  L [M] N  O  P  Q  R  S  T  U  V  W  X  Y  Z  | 
| maanova 1.30.0 | Keith Sheppard |  OK  |  WARNINGS  |  | 
| macat 1.34.0 | Joern Toedling |  OK  |  OK  |  | 
| maCorrPlot 1.30.0 | Alexander Ploner |  OK  |  OK  |  | 
| maDB 1.32.0 | Johannes Rainer |  OK  |  OK  |  | 
| made4 1.34.0 | Aedin Culhane |  OK  |  OK  |  | 
| maigesPack 1.24.0 | Gustavo H. Esteves |  OK  |  OK  |  | 
| makecdfenv 1.36.0 | James W. MacDonald |  OK  |  WARNINGS  |  | 
| MANOR 1.32.0 | Pierre Neuvial |  OK  |  WARNINGS  |  | 
| manta 1.6.1 | Chris Berthiaume , Adrian Marchetti |  OK  |  WARNINGS  |  | 
| MantelCorr 1.30.0 | Brian Steinmeyer |  OK  |  OK  |  | 
| marray 1.38.0 | Yee Hwa (Jean) Yang |  OK  |  OK  |  | 
| maSigPro 1.32.3 | Maria Jose Nueda |  OK  |  OK  |  | 
| maskBAD 1.4.0 | Michael Dannemann |  OK  |  OK  |  | 
| MassArray 1.12.0 | Reid F. Thompson |  OK  |  OK  |  | 
| MassSpecWavelet 1.26.0 | Pan Du |  OK  |  OK  |  | 
| matchBox 1.2.0 | Luigi Marchionni |  OK  |  OK  |  | 
| MBCB 1.14.0 | Jeff Allen |  OK  |  OK  |  | 
| mBPCR 1.14.0 | P.M.V. Rancoita |  OK  |  OK  |  | 
| mcaGUI 1.8.0 | Wade K. Copeland |  OK  |  OK  |  | 
| MCRestimate 2.16.0 | Marc Johannes |  OK  |  OK  |  | 
| mdqc 1.22.0 | Gabriela Cohen-Freue |  OK  |  OK  |  | 
| MeasurementError.cor 1.32.0 | Beiying Ding |  OK  |  OK  |  | 
| MEDIPS 1.10.0 | Lukas Chavez |  OK  |  OK  |  | 
| MEDME 1.20.0 | Mattia Pelizzola |  OK  |  OK  |  | 
| MergeMaid 2.32.0 | Xiaogang Zhong |  OK  |  OK  |  | 
| metaArray 1.38.0 | Hyungwon Choi |  OK  |  OK  |  | 
| metagenomeSeq 1.0.6 | Joseph Paulson |  OK  |  OK  |  | 
| metahdep 1.18.0 | John R. Stevens |  OK  |  OK  |  | 
| methVisual 1.12.0 | Arie Zackay |  OK  |  OK  |  | 
| methyAnalysis 1.2.0 | Pan Du |  OK  |  WARNINGS  |  | 
| MethylSeekR 1.0.1 | Lukas Burger |  OK  |  OK  |  | 
| methylumi 2.6.1 | Sean Davis |  OK  |  OK  |  | 
| Mfuzz 2.18.0 | Matthias Futschik |  OK  |  OK  |  | 
| mgsa 1.8.1 | Sebastian Bauer |  OK  |  OK  |  | 
| MiChip 1.14.0 | Jonathon Blake |  OK  |  OK  |  | 
| microRNA 1.18.0 | "James F. Reid" |  OK  |  OK  |  | 
| MineICA 1.0.0 | Anne Biton |  OK  |  OK  |  | 
| minet 3.14.0 | Patrick E. Meyer |  OK  |  OK  |  | 
| minfi 1.6.0 | Kasper Daniel Hansen |  OK  |  OK  |  | 
| MinimumDistance 1.4.0 | Robert B Scharpf |  OK  |  OK  |  | 
| MiPP 1.32.0 | Sukwoo Kim |  OK  |  OK  |  | 
| MiRaGE 1.2.0 | Y-h. Taguchi |  OK  |  OK  |  | 
| miRNApath 1.20.0 | James M. Ward |  OK  |  OK  |  | 
| MLInterfaces 1.40.0 | V. Carey |  OK  |  OK  |  | 
| MLP 1.8.1 | Tobias Verbeke |  OK  |  OK  |  | 
| MMDiff 1.0.0 | Gabriele Schweikert |  OK  |  OK  |  | 
| MmPalateMiRNA 1.10.0 | Guy Brock |  OK  |  OK  |  | 
| mosaics 1.8.0 | Dongjun Chung |  OK  |  OK  |  | 
| MotifDb 1.2.2 | Paul Shannon |  OK  |  OK  |  | 
| motifRG 1.4.0 | Zizhen Yao |  OK  |  WARNINGS  |  | 
| motifStack 1.4.0 | Jianhong Ou |  OK  |  OK  |  | 
| MotIV 1.16.0 | Eloi Mercier , Raphael Gottardo |  OK  |  OK  |  | 
| MSnbase 1.8.0 | Laurent Gatto |  OK  |  OK  |  | 
| Mulcom 1.10.0 | Claudio Isella |  OK  |  OK  |  | 
| multiscan 1.20.0 | Mizanur Khondoker |  OK  |  OK  |  | 
| multtest 2.16.0 | Katherine S. Pollard |  OK  |  OK  |  | 
| MVCClass 1.34.0 | Elizabeth Whalen |  OK  |  OK  |  | 
| mzR 1.6.3 | Bernd Fischer |  OK  |  OK  |  | 
 | 
| N  A  B  C  D  E  F  G  H  I  J  K  L  M [N] O  P  Q  R  S  T  U  V  W  X  Y  Z  | 
| NarrowPeaks 1.4.0 | Pedro Madrigal |  OK  |  OK  |  | 
| ncdfFlow 1.6.1 | M. Jiang |  OK  |  OK  |  | 
| NCIgraph 1.8.0 | Laurent Jacob |  OK  |  OK  |  | 
| nem 2.36.0 | Holger Froehlich |  OK  |  OK  |  | 
| netresponse 1.12.0 | Leo Lahti |  OK  |  OK  |  | 
| networkBMA 1.2.0 | Chris Fraley |  OK  |  OK  |  | 
| nnNorm 2.24.0 | Adi Laurentiu Tarca |  OK  |  OK  |  | 
| NOISeq 2.0.0 | Sonia Tarazona |  OK  |  OK  |  | 
| NormqPCR 1.6.0 | James Perkins |  OK  |  OK  |  | 
| NTW 1.10.0 | Yuanhua Liu |  OK  |  OK  |  | 
| nucleR 1.8.0 | Oscar Flores |  OK  |  OK  |  | 
| nudge 1.26.0 | N. Dean |  OK  |  OK  |  | 
| NuPoP 1.10.0 | Ji-Ping Wang |  OK  |  OK  |  | 
 | 
| O  A  B  C  D  E  F  G  H  I  J  K  L  M  N [O] P  Q  R  S  T  U  V  W  X  Y  Z  | 
| occugene 1.20.0 | Oliver Will |  OK  |  OK  |  | 
| OCplus 1.34.0 | Alexander Ploner |  OK  |  OK  |  | 
| oligo 1.24.2 | Benilton Carvalho |  OK  |  OK  |  | 
| oligoClasses 1.22.0 | Benilton Carvalho  and Robert Scharpf |  OK  |  OK  |  | 
| OLIN 1.38.0 | Matthias Futschik |  OK  |  OK  |  | 
| OLINgui 1.34.0 | Matthias Futschik |  OK  |  OK  |  | 
| oneChannelGUI 1.26.0 | Raffaele A Calogero |  OK  |  OK  |  | 
| ontoCAT 1.12.0 | Natalja Kurbatova |  OK  |  OK  |  | 
| OrderedList 1.32.0 | Claudio Lottaz |  OK  |  OK  |  | 
| OrganismDbi 1.2.0 | Biocore Data Team |  OK  |  OK  |  | 
| OSAT 1.8.1 | Li Yan |  OK  |  OK  |  | 
| OTUbase 1.10.0 | Daniel Beck |  OK  |  OK  |  | 
| OutlierD 1.24.0 | Sukwoo Kim |  OK  |  OK  |  | 
 | 
| P  A  B  C  D  E  F  G  H  I  J  K  L  M  N  O [P] Q  R  S  T  U  V  W  X  Y  Z  | 
| PADOG 1.2.0 | Adi Laurentiu Tarca |  OK  |  OK  |  | 
| PAnnBuilder 1.24.0 | Li Hong |  OK  |  OK  |  | 
| panp 1.30.0 | Peter Warren |  OK  |  OK  |  | 
| PANR 1.6.0 | Xin Wang |  OK  |  OK  |  | 
| PAPi 1.0.0 | Raphael Aggio |  OK  |  OK  |  | 
| parody 1.18.0 | VJ Carey |  OK  |  OK  |  | 
| PathNet 1.0.0 | Jason B. Smith |  OK  |  OK  |  | 
| pathRender 1.28.0 | Li Long |  OK  |  OK  |  | 
| pathview 1.1.4 | Weijun Luo |  OK  |  OK  |  | 
| pcaGoPromoter 1.4.0 | Morten Hansen |  OK  |  OK  |  | 
| pcaMethods 1.50.0 | Henning Redestig |  OK  |  OK  |  | 
| pcot2 1.28.0 | Sarah Song |  OK  |  OK  |  | 
| PCpheno 1.22.0 | Nolwenn Le Meur |  OK  |  OK  |  | 
| pdInfoBuilder 1.24.0 | Benilton Carvalho |  OK  |  OK  |  | 
| pdmclass 1.32.0 | James W. MacDonald |  OK  |  OK  |  | 
| PGSEA 1.34.0 | Karl Dykema |  OK  |  OK  |  | 
| pgUtils 1.32.0 | Johannes Rainer |  OK  |  OK  |  | 
| phenoDist 1.8.0 | Xian Zhang |  OK  |  OK  |  | 
| phenoTest 1.8.1 | Evarist Planet |  OK  |  OK  |  | 
| phyloseq 1.4.5 | Paul J. McMurdie |  OK  |  OK  |  | 
| piano 1.0.7 | Leif Varemo |  OK  |  OK  |  | 
| pickgene 1.32.0 | Brian S. Yandell |  OK  |  OK  |  | 
| PICS 2.4.1 | Renan Sauteraud |  OK  |  OK  |  | 
| PING 2.4.0 | Renan Sauteraud |  OK  |  OK  |  | 
| pint 1.12.0 | Olli-Pekka Huovilainen |  OK  |  OK  |  | 
| pkgDepTools 1.26.0 | Seth Falcon |  OK  |  OK  |  | 
| plateCore 1.18.0 | Errol Strain |  OK  |  OK  |  | 
| plgem 1.32.0 | Norman Pavelka |  OK  |  OK  |  | 
| plier 1.30.0 | Crispin Miller |  OK  |  WARNINGS  |  | 
| PLPE 1.20.0 | Soo-heang Eo |  OK  |  OK  |  | 
| plrs 1.0.0 | Gwenael G.R. Leday to |  OK  |  OK  |  | 
| plw 1.20.0 | Magnus Astrand |  OK  |  OK  |  | 
| ppiStats 1.26.0 | Bioconductor Package Maintainer |  OK  |  OK  |  | 
| prada 1.36.1 | Florian Hahne |  OK  |  OK  |  | 
| prebs 1.0.2 | Karolis Uziela |  OK  |  OK  |  | 
| PREDA 1.6.0 | Francesco Ferrari |  OK  |  OK  |  | 
| predictionet 1.6.1 | Benjamin Haibe-Kains , Catharina Olsen |  OK  |  OK  |  | 
| preprocessCore 1.22.0 | Benjamin Milo Bolstad |  OK  |  OK  |  | 
| PROcess 1.36.0 | Xiaochun Li |  OK  |  OK  |  | 
| procoil 1.10.0 | Ulrich Bodenhofer |  OK  |  OK  |  | 
| pRoloc 1.0.1 | Laurent Gatto |  OK  |  OK  |  | 
| PROMISE 1.12.0 | Stan Pounds , Xueyuan Cao |  OK  |  OK  |  | 
| proteinProfiles 1.0.0 | Julian Gehring |  OK  |  OK  |  | 
| puma 3.2.1 | Richard Pearson |  OK  |  WARNINGS  |  | 
| pvac 1.8.0 | Jun Lu , Pierre R. Bushel |  OK  |  OK  |  | 
| pvca 1.0.1 | Jianying LI |  OK  |  OK  |  | 
| PWMEnrich 2.2.0 | Robert Stojnic |  OK  |  OK  |  | 
 | 
| Q  A  B  C  D  E  F  G  H  I  J  K  L  M  N  O  P [Q] R  S  T  U  V  W  X  Y  Z  | 
| qpcrNorm 1.18.0 | Jessica Mar |  OK  |  OK  |  | 
| qpgraph 1.16.3 | Robert Castelo |  OK  |  OK  |  | 
| qrqc 1.14.0 | Vince Buffalo |  OK  |  OK  |  | 
| QUALIFIER 1.4.0 | Mike Jiang |  OK  |  OK  |  | 
| quantsmooth 1.26.0 | Jan Oosting |  OK  |  OK  |  | 
| QuasR 1.0.9 | Michael Stadler |  OK  |  OK  |  | 
| qvalue 1.34.0 | John D. Storey |  OK  |  OK  |  | 
 | 
| R  A  B  C  D  E  F  G  H  I  J  K  L  M  N  O  P  Q [R] S  T  U  V  W  X  Y  Z  | 
| r3Cseq 1.6.0 | Supat Thongjuea |  OK  |  OK  |  | 
| R453Plus1Toolbox 1.10.0 | Hans-Ulrich Klein |  OK  |  OK  |  | 
| rama 1.34.0 | Raphael Gottardo |  OK  |  OK  |  | 
| RamiGO 1.6.0 | Markus Schroeder |  OK  |  OK  |  | 
| randPack 1.6.0 | Robert Gentleman |  OK  |  OK  |  | 
| RankProd 2.32.0 | Fangxin Hong |  OK  |  OK  |  | 
| RbcBook1 1.28.0 | Vince Carey |  OK  |  OK  |  | 
| RBGL 1.36.2 | Bioconductor Package Maintainer |  OK  |  OK  |  | 
| RBioinf 1.20.0 | Robert Gentleman |  OK  |  OK  |  | 
| rBiopaxParser 1.0.0 | Frank Kramer |  OK  |  OK  |  | 
| Rbowtie 1.0.3 | Michael Stadler |  OK  |  OK  |  | 
| rbsurv 2.18.0 | Soo-heang Eo |  OK  |  OK  |  | 
| Rcade 1.2.0 | Jonathan Cairns |  OK  |  OK  |  | 
| RCASPAR 1.6.0 | Douaa Mugahid , Lars Kaderali |  OK  |  OK  |  | 
| RchyOptimyx 1.4.0 | Adrin Jalali , Nima Aghaeepour |  OK  |  OK  |  | 
| RCytoscape 1.10.0 | Paul Shannon |  ERROR  |  skipped  |  | 
| Rdisop 1.20.0 | Steffen Neumann |  OK  |  OK  |  | 
| RDRToolbox 1.10.0 | Christoph Bartenhagen |  OK  |  OK  |  | 
| ReactomePA 1.4.0 | Guangchuang Yu |  OK  |  OK  |  | 
| ReadqPCR 1.6.0 | James Perkins |  OK  |  OK  |  | 
| reb 1.38.0 | Karl J. Dykema |  OK  |  OK  |  | 
| RedeR 1.8.3 | Mauro Castro |  OK  |  OK  |  | 
| REDseq 1.6.0 | Lihua Julie Zhu |  OK  |  OK  |  | 
| RefPlus 1.30.0 | Kai-Ming Chang |  OK  |  OK  |  | 
| Repitools 1.6.0 | Mark Robinson |  OK  |  OK  |  | 
| ReportingTools 2.0.1 | Jason A. Hackney , Gabriel Becker |  OK  |  OK  |  | 
| ReQON 1.6.0 | Christopher Cabanski |  OK  |  OK  |  | 
| Resourcerer 1.34.0 | Jianhua Zhang |  OK  |  WARNINGS  |  | 
| rGADEM 2.8.0 | Arnaud Droit |  OK  |  WARNINGS  |  | 
| RGalaxy 1.4.0 | Bioconductor Package Maintainer |  OK  |  OK  |  | 
| Rgraphviz 2.4.1 | Kasper Daniel Hansen |  OK  |  WARNINGS  |  | 
| rhdf5 2.4.0 | Bernd Fischer |  OK  |  OK  |  | 
| rHVDM 1.26.0 | Martino Barenco |  OK  |  OK  |  | 
| Ringo 1.24.0 | J. Toedling |  OK  |  OK  |  | 
| RIPSeeker 1.0.0 | Yue Li |  OK  |  OK  |  | 
| Risa 1.2.2 | Alejandra Gonzalez-Beltran, ISA Team |  OK  |  OK  |  | 
| RLMM 1.22.0 | Nusrat Rabbee |  OK  |  OK  |  | 
| Rmagpie 1.16.0 | Camille Maumet |  OK  |  OK  |  | 
| RMAPPER 1.10.0 | Heike Sichtig , Alberto Riva |  OK  |  OK  |  | 
| RMassBank 1.2.1 | Michael Stravs, Emma Schymanski |  OK  |  OK  |  | 
| rMAT 3.10.0 | Arnaud Droit  and Raphael Gottardo |  OK  |  OK  |  | 
| RmiR 1.16.0 | Francesco Favero |  OK  |  OK  |  | 
| RNAinteract 1.8.0 | Bernd Fischer |  OK  |  OK  |  | 
| RNAither 2.8.0 | Nora Rieber |  OK  |  OK  |  | 
| rnaSeqMap 2.14.0 | Michal Okoniewski |  OK  |  OK  |  | 
| RNASeqPower 1.0.0 | Terry M Therneau |  OK  |  OK  |  | 
| ROC 1.36.0 | Vince Carey |  OK  |  OK  |  | 
| Rolexa 1.16.0 | Jacques Rougemont |  OK  |  OK  |  | 
| rols 1.2.2 | Laurent Gatto |  OK  |  OK  |  | 
| ROntoTools 1.0.0 | Calin Voichita |  OK  |  OK  |  | 
| RPA 1.16.0 | Leo Lahti |  OK  |  OK  |  | 
| RpsiXML 2.2.0 | Jitao David Zhang |  OK  |  OK  |  | 
| rqubic 1.6.0 | Jitao David Zhang |  OK  |  OK  |  | 
| Rsamtools 1.12.4 | Bioconductor Package Maintainer |  OK  |  OK  |  | 
| rsbml 2.18.1 | Michael Lawrence |  OK  |  OK  |  | 
| rSFFreader 0.8.0 | Matt Settles |  OK  |  OK  |  | 
| Rsubread 1.10.5 | Wei Shi |  OK  |  OK  |  | 
| RSVSim 1.0.2 | Christoph Bartenhagen |  OK  |  OK  |  | 
| rTANDEM 1.0.1 | Frederic Fournier |  OK  |  OK  |  | 
| RTCA 1.12.0 | Jitao David Zhang |  OK  |  OK  |  | 
| RTopper 1.6.0 | Luigi Marchionni |  OK  |  OK  |  | 
| rtracklayer 1.20.4 | Michael Lawrence |  OK  |  WARNINGS  |  | 
| Rtreemix 1.22.0 | Jasmina Bogojeska |  OK  |  WARNINGS  |  | 
| RWebServices 1.24.0 | Martin Morgan |  OK  |  OK  |  | 
 | 
| S  A  B  C  D  E  F  G  H  I  J  K  L  M  N  O  P  Q  R [S] T  U  V  W  X  Y  Z  | 
| safe 3.0.0 | William T. Barry |  OK  |  OK  |  | 
| sagenhaft 1.30.0 | Tim Beissbarth |  OK  |  OK  |  | 
| SAGx 1.34.0 | Per Broberg, |  OK  |  OK  |  | 
| SamSPECTRAL 1.14.1 | Habil Zare |  OK  |  OK  |  | 
| SANTA 1.0.0 | Alex Cornish |  OK  |  OK  |  | 
| SBMLR 1.56.0 | Tomas Radivoyevitch |  OK  |  OK  |  | 
| SCAN.UPC 2.0.2 | Stephen R. Piccolo |  OK  |  OK  |  | 
| ScISI 1.32.0 | Tony Chiang |  OK  |  OK  |  | 
| segmentSeq 1.12.1 | Thomas J. Hardcastle |  OK  |  OK  |  | 
| SeqArray 1.0.0 | Xiuwen Zheng |  OK  |  OK  |  | 
| seqbias 1.8.0 | Daniel Jones |  OK  |  OK  |  | 
| SeqGSEA 1.0.2 | Xi Wang |  OK  |  OK  |  | 
| seqLogo 1.26.0 | Oliver Bembom |  OK  |  OK  |  | 
| ShortRead 1.18.0 | Bioconductor Package Maintainer |  OK  |  OK  |  | 
| sigaR 1.4.0 | Wessel N. van Wieringen |  OK  |  OK  |  | 
| siggenes 1.34.0 | Holger Schwender |  OK  |  OK  |  | 
| sigPathway 1.28.0 | Weil Lai |  OK  |  OK  |  | 
| SIM 1.30.0 | Renee X. de Menezes |  OK  |  OK  |  | 
| simpleaffy 2.36.1 | Crispin Miller |  OK  |  OK  |  | 
| sizepower 1.30.0 | Weiliang Qiu |  OK  |  OK  |  | 
| SJava 0.86.0 | Martin Morgan |  OK  |  OK  |  | 
| SLGI 1.20.0 | Nolwenn Le Meur |  OK  |  OK  |  | 
| SLqPCR 1.26.0 | Matthias Kohl |  OK  |  OK  |  | 
| SMAP 1.24.0 | Robin Andersson |  OK  |  OK  |  | 
| SNAGEE 1.0.0 | David Venet |  OK  |  OK  |  | 
| snapCGH 1.30.0 | John Marioni |  OK  |  OK  |  | 
| snm 1.8.0 | Brig Mecham |  ERROR  |  skipped  |  | 
| SNPchip 2.6.0 | Robert Scharpf |  OK  |  OK  |  | 
| snpStats 1.10.0 | David Clayton |  OK  |  OK  |  | 
| SomatiCA 1.0.0 | Mengjie Chen |  OK  |  OK  |  | 
| spade 1.8.0 | Michael Linderman |  OK  |  OK  |  | 
| SpeCond 1.14.0 | Florence Cavalli |  OK  |  OK  |  | 
| SPEM 1.0.0 | Xinyi YANG |  OK  |  OK  |  | 
| SPIA 2.12.0 | Adi Laurentiu Tarca |  OK  |  OK  |  | 
| spikeLI 2.20.0 | Enrico Carlon |  OK  |  OK  |  | 
| spkTools 1.16.0 | Matthew N McCall |  OK  |  OK  |  | 
| splicegear 1.32.0 | Laurent Gautier |  OK  |  OK  |  | 
| SplicingGraphs 1.0.4 | H. Pages |  OK  |  WARNINGS  |  | 
| splots 1.26.0 | Wolfgang Huber |  OK  |  OK  |  | 
| spotSegmentation 1.34.0 | Chris Fraley |  OK  |  OK  |  | 
| SQUADD 1.10.0 | Martial Sankar |  OK  |  OK  |  | 
| SRAdb 1.14.0 | Jack Zhu |  OK  |  OK  |  | 
| sscore 1.32.0 | Richard Kennedy |  OK  |  OK  |  | 
| ssize 1.34.0 | Gregory R. Warnes |  OK  |  OK  |  | 
| SSPA 2.0.3 | Maarten van Iterson |  OK  |  OK  |  | 
| staRank 1.2.0 | Juliane Siebourg |  OK  |  OK  |  | 
| Starr 1.16.0 | Benedikt Zacher |  OK  |  OK  |  | 
| stepNorm 1.32.0 | Yuanyuan Xiao |  OK  |  OK  |  | 
| stepwiseCM 1.6.0 | Askar Obulkasim |  OK  |  OK  |  | 
| Streamer 1.6.0 | Martin Morgan |  OK  |  OK  |  | 
| survcomp 1.10.0 | Benjamin Haibe-Kains , Markus Schroeder , Catharina Olsen |  OK  |  OK  |  | 
| sva 3.6.0 | Jeffrey T. Leek |  OK  |  OK  |  | 
| synapter 1.2.0 | Laurent Gatto |  OK  |  OK  |  | 
 | 
| T  A  B  C  D  E  F  G  H  I  J  K  L  M  N  O  P  Q  R  S [T] U  V  W  X  Y  Z  | 
| TargetSearch 1.16.0 | Alvaro Cuadros-Inostroza |  OK  |  OK  |  | 
| TDARACNE 1.10.0 | Zoppoli Pietro |  OK  |  OK  |  | 
| TEQC 2.9.2 | Manuela Hummel |  OK  |  OK  |  | 
| ternarynet 1.4.0 | Matthew N. McCall |  OK  |  OK  |  | 
| tigre 1.14.1 | Antti Honkela |  OK  |  OK  |  | 
| tilingArray 1.38.0 | Zhenyu Xu |  OK  |  OK  |  | 
| timecourse 1.32.0 | Yu Chuan Tai |  OK  |  OK  |  | 
| tkWidgets 1.38.0 | J. Zhang |  OK  |  WARNINGS  |  | 
| topGO 2.12.0 | Adrian Alexa |  OK  |  OK  |  | 
| TransView 1.4.5 | Julius Muller |  OK  |  OK  |  | 
| triform 1.2.0 | Tony HÃ¥ndstad Developer |  OK  |  OK  |  | 
| trigger 1.6.0 | John D. Storey |  OK  |  OK  |  | 
| triplex 1.0.10 | Jiri Hon |  OK  |  OK  |  | 
| tspair 1.18.0 | Jeffrey T. Leek |  OK  |  OK  |  | 
| TSSi 1.6.0 | Julian Gehring |  OK  |  OK  |  | 
| TurboNorm 1.8.0 | Maarten van Iterson |  OK  |  OK  |  | 
| tweeDEseq 1.6.2 | Juan R Gonzalez |  OK  |  OK  |  | 
| twilight 1.36.0 | Stefanie Scheid |  OK  |  OK  |  | 
| TypeInfo 1.26.0 | Duncan Temple Lang |  OK  |  OK  |  | 
 | 
| U  A  B  C  D  E  F  G  H  I  J  K  L  M  N  O  P  Q  R  S  T [U] V  W  X  Y  Z  | 
| UniProt.ws 2.0.1 | Marc Carlson |  OK  |  OK  |  | 
 | 
| V  A  B  C  D  E  F  G  H  I  J  K  L  M  N  O  P  Q  R  S  T  U [V] W  X  Y  Z  | 
| VanillaICE 1.22.0 | Robert Scharpf |  OK  |  OK  |  | 
| VariantAnnotation 1.6.8 | Valerie Obenchain |  OK  |  OK  |  | 
| VariantTools 1.2.2 | Michael Lawrence |  OK  |  OK  |  | 
| vbmp 1.28.0 | Nicola Lama |  OK  |  OK  |  | 
| Vega 1.8.0 | Sandro Morganella |  OK  |  OK  |  | 
| VegaMC 2.7.0 | Sandro Morganella |  OK  |  OK  |  | 
| virtualArray 1.4.1 | Andreas Heider |  OK  |  OK  |  | 
| vsn 3.28.0 | Wolfgang Huber |  OK  |  OK  |  | 
 | 
| W  A  B  C  D  E  F  G  H  I  J  K  L  M  N  O  P  Q  R  S  T  U  V [W] X  Y  Z  | 
| wateRmelon 1.0.3 | Leo |  OK  |  WARNINGS  |  | 
| waveTiling 1.2.0 | Kristof De Beuf |  OK  |  OK  |  | 
| weaver 1.26.0 | Seth Falcon |  OK  |  OK  |  | 
| webbioc 1.32.0 | Colin A. Smith |  OK  |  OK  |  | 
| widgetTools 1.38.0 | Jianhua Zhang |  OK  |  OK  |  | 
 | 
| X  A  B  C  D  E  F  G  H  I  J  K  L  M  N  O  P  Q  R  S  T  U  V  W [X] Y  Z  | 
| xcms 1.36.0 | Ralf Tautenhahn |  OK  |  OK  |  | 
| XDE 2.6.0 | Robert Scharpf |  OK  |  OK  |  | 
| xmapbridge 1.18.0 | Tim Yates |  OK  |  OK  |  | 
| xmapcore 1.14.0 | Tim Yates |  OK  |  OK  |  | 
| xps 1.20.3 | Christian Stratowa |  OK  |  OK  |  | 
 | 
| Y  A  B  C  D  E  F  G  H  I  J  K  L  M  N  O  P  Q  R  S  T  U  V  W  X [Y] Z  | 
| yaqcaffy 1.20.0 | Laurent Gatto |  OK  |  OK  |  | 
 | 
| Z  A  B  C  D  E  F  G  H  I  J  K  L  M  N  O  P  Q  R  S  T  U  V  W  X  Y [Z] | 
| zlibbioc 1.6.0 | Bioconductor Package Maintainer |  OK  |  OK  |  |