ConsensusClusterPlus 1.16.0 Matt Wilkerson
 | Snapshot Date: 2013-10-08 17:00:48 -0700 (Tue, 08 Oct 2013) |  | URL: https://hedgehog.fhcrc.org/bioconductor/branches/RELEASE_2_12/madman/Rpacks/ConsensusClusterPlus |  | Last Changed Rev: 79902 / Revision: 81334 |  | Last Changed Date: 2013-08-28 14:17:56 -0700 (Wed, 28 Aug 2013) |  
  | george2  | Linux (Ubuntu 12.04.1 LTS) / x86_64  | [ OK ] |  OK  |  | 
| moscato2  | Windows Server 2008 R2 Enterprise SP1 (64-bit) / x64  |  OK  |  OK  |  OK  | 
| petty  | Mac OS X Snow Leopard (10.6.8) / x86_64  |  OK  |  OK  |  OK  | 
* checking for file ‘ConsensusClusterPlus/DESCRIPTION’ ... OK
* preparing ‘ConsensusClusterPlus’:
* checking DESCRIPTION meta-information ... OK
* installing the package to re-build vignettes
* creating vignettes ... OK
* checking for LF line-endings in source and make files
* checking for empty or unneeded directories
* building ‘ConsensusClusterPlus_1.16.0.tar.gz’