cellHTS 1.30.0 Ligia Bras
 | Snapshot Date: 2013-10-08 17:00:48 -0700 (Tue, 08 Oct 2013) |  | URL: https://hedgehog.fhcrc.org/bioconductor/branches/RELEASE_2_12/madman/Rpacks/cellHTS |  | Last Changed Rev: 75263 / Revision: 81334 |  | Last Changed Date: 2013-04-03 14:32:27 -0700 (Wed, 03 Apr 2013) |  
  | george2  | Linux (Ubuntu 12.04.1 LTS) / x86_64  |  OK  | [ OK ] |  | 
| moscato2  | Windows Server 2008 R2 Enterprise SP1 (64-bit) / x64  |  OK  |  OK  |  OK  | 
| petty  | Mac OS X Snow Leopard (10.6.8) / x86_64  |  OK  |  OK  |  OK  | 
* using log directory ‘/home/biocbuild/bbs-2.12-bioc/meat/cellHTS.Rcheck’
* using R version 3.0.1 (2013-05-16)
* using platform: x86_64-unknown-linux-gnu (64-bit)
* using session charset: UTF-8
* using option ‘--no-vignettes’
* checking for file ‘cellHTS/DESCRIPTION’ ... OK
* this is package ‘cellHTS’ version ‘1.30.0’
* checking package namespace information ... OK
* checking package dependencies ... OK
* checking if this is a source package ... OK
* checking if there is a namespace ... OK
* checking for hidden files and directories ... OK
* checking for portable file names ... OK
* checking for sufficient/correct file permissions ... OK
* checking whether package ‘cellHTS’ can be installed ... [22s/22s] OK
* checking installed package size ... NOTE
  installed size is  5.4Mb
  sub-directories of 1Mb or more:
    KcViab   2.0Mb
    doc      2.1Mb
* checking package directory ... OK
* checking DESCRIPTION meta-information ... OK
* checking top-level files ... OK
* checking for left-over files ... OK
* checking index information ... OK
* checking package subdirectories ... OK
* checking R files for non-ASCII characters ... OK
* checking R files for syntax errors ... OK
* checking whether the package can be loaded ... OK
* checking whether the package can be loaded with stated dependencies ... OK
* checking whether the package can be unloaded cleanly ... OK
* checking whether the namespace can be loaded with stated dependencies ... OK
* checking whether the namespace can be unloaded cleanly ... OK
* checking for unstated dependencies in R code ... OK
* checking S3 generic/method consistency ... OK
* checking replacement functions ... OK
* checking foreign function calls ... OK
* checking R code for possible problems ... NOTE
File ‘cellHTS/R/zzz.R’:
  .onAttach calls:
    message(paste("\n-------------------------------------------------------------------",     "\nA note from the 'cellHTS' package:", "\nThe package 'cellHTS2' offers better functionality for working with",     "\nmultiple screens and with multi-channel screens. Please consider",     "\nusing 'cellHTS2' for new projects. However, 'cellHTS' will be",     "\nsupported for a while to help with your existing projects.",     "\n-------------------------------------------------------------------\n\n",     sep = ""))
Package startup functions should use ‘packageStartupMessage’ to
  generate messages.
See section ‘Good practice’ in '?.onAttach'.
annotate.cellHTS: warning in read.table(file.path(path, file), sep =
  "\t", header = TRUE, as.is = TRUE, na.string = "", quote = "", fill =
  TRUE): partial argument match of 'na.string' to 'na.strings'
configure.cellHTS: warning in read.table(file.path(ppath, confFile),
  sep = "\t", header = TRUE, as.is = TRUE, na.string = "", fill =
  TRUE): partial argument match of 'na.string' to 'na.strings'
configure.cellHTS: warning in read.table(file.path(ppath, logFile), sep
  = "\t", header = TRUE, as.is = TRUE, na.string = "", fill = TRUE):
  partial argument match of 'na.string' to 'na.strings'
tableOutput: warning in read.table(fn, sep = "\t", header = header,
  na.string = "", as.is = TRUE): partial argument match of 'na.string'
  to 'na.strings'
* checking Rd files ... NOTE
prepare_Rd: oneRowPerId.Rd:19: Dropping empty section \details
* checking Rd metadata ... OK
* checking Rd cross-references ... OK
* checking for missing documentation entries ... OK
* checking for code/documentation mismatches ... OK
* checking Rd \usage sections ... OK
* checking Rd contents ... OK
* checking for unstated dependencies in examples ... OK
* checking contents of ‘data’ directory ... OK
* checking data for non-ASCII characters ... OK
* checking data for ASCII and uncompressed saves ... OK
* checking installed files from ‘inst/doc’ ... NOTE
The following files should probably not be installed:
  ‘Makefile’
Consider the use of a .Rinstignore file: see ‘Writing R Extensions’,
or move the vignette sources from ‘inst/doc’ to ‘vignettes’.
* checking examples ... [17s/18s] OK
* checking for unstated dependencies in vignettes ... OK
* checking package vignettes in ‘inst/doc’ ... OK
* checking running R code from vignettes ... SKIPPED
* checking re-building of vignettes ... SKIPPED
* checking PDF version of manual ... OK
NOTE: There were 4 notes.
See
  ‘/home/biocbuild/bbs-2.12-bioc/meat/cellHTS.Rcheck/00check.log’
for details.