LMGene 2.16.0 Blythe Durbin-Johnson
 | Snapshot Date: 2013-10-08 17:00:48 -0700 (Tue, 08 Oct 2013) |  | URL: https://hedgehog.fhcrc.org/bioconductor/branches/RELEASE_2_12/madman/Rpacks/LMGene |  | Last Changed Rev: 76292 / Revision: 81334 |  | Last Changed Date: 2013-05-08 12:02:21 -0700 (Wed, 08 May 2013) |  
  | george2  | Linux (Ubuntu 12.04.1 LTS) / x86_64  | [ OK ] |  WARNINGS  |  | 
| moscato2  | Windows Server 2008 R2 Enterprise SP1 (64-bit) / x64  |  OK  |  WARNINGS  |  OK  | 
| petty  | Mac OS X Snow Leopard (10.6.8) / x86_64  |  OK  |  WARNINGS  |  OK  | 
* checking for file ‘LMGene/DESCRIPTION’ ... OK
* preparing ‘LMGene’:
* checking DESCRIPTION meta-information ... OK
* installing the package to re-build vignettes
* creating vignettes ... OK
* checking for LF line-endings in source and make files
* checking for empty or unneeded directories
* looking to see if a ‘data/datalist’ file should be added
* building ‘LMGene_2.16.0.tar.gz’