Back to Multiple platform build/check report for BioC 3.21:   simplified   long
ABCDEFGHIJKLMNOPQR[S]TUVWXYZ

This page was generated on 2025-10-13 11:39 -0400 (Mon, 13 Oct 2025).

HostnameOSArch (*)R versionInstalled pkgs
nebbiolo1Linux (Ubuntu 24.04.3 LTS)x86_644.5.1 (2025-06-13) -- "Great Square Root" 4833
merida1macOS 12.7.5 Montereyx86_644.5.1 RC (2025-06-05 r88288) -- "Great Square Root" 4614
kjohnson1macOS 13.6.6 Venturaarm644.5.1 Patched (2025-06-14 r88325) -- "Great Square Root" 4555
kunpeng2Linux (openEuler 24.03 LTS)aarch64R Under development (unstable) (2025-02-19 r87757) -- "Unsuffered Consequences" 4586
Click on any hostname to see more info about the system (e.g. compilers)      (*) as reported by 'uname -p', except on Windows and Mac OS X

Package 1969/2341HostnameOS / ArchINSTALLBUILDCHECKBUILD BIN
seqsetvis 1.28.0  (landing page)
Joseph R Boyd
Snapshot Date: 2025-10-09 13:40 -0400 (Thu, 09 Oct 2025)
git_url: https://git.bioconductor.org/packages/seqsetvis
git_branch: RELEASE_3_21
git_last_commit: 28d6e95
git_last_commit_date: 2025-04-15 11:20:09 -0400 (Tue, 15 Apr 2025)
nebbiolo1Linux (Ubuntu 24.04.3 LTS) / x86_64  OK    OK    OK  UNNEEDED, same version is already published
merida1macOS 12.7.5 Monterey / x86_64  OK    OK    OK    OK  UNNEEDED, same version is already published
kjohnson1macOS 13.6.6 Ventura / arm64  OK    OK    OK    OK  UNNEEDED, same version is already published
kunpeng2Linux (openEuler 24.03 LTS) / aarch64  OK    OK    OK  


CHECK results for seqsetvis on merida1

To the developers/maintainers of the seqsetvis package:
- Allow up to 24 hours (and sometimes 48 hours) for your latest push to git@git.bioconductor.org:packages/seqsetvis.git to reflect on this report. See Troubleshooting Build Report for more information.
- Use the following Renviron settings to reproduce errors and warnings.
- If 'R CMD check' started to fail recently on the Linux builder(s) over a missing dependency, add the missing dependency to 'Suggests:' in your DESCRIPTION file. See Renviron.bioc for more information.

raw results


Summary

Package: seqsetvis
Version: 1.28.0
Command: /Library/Frameworks/R.framework/Resources/bin/R CMD check --install=check:seqsetvis.install-out.txt --library=/Library/Frameworks/R.framework/Resources/library --no-vignettes --timings seqsetvis_1.28.0.tar.gz
StartedAt: 2025-10-10 10:20:03 -0400 (Fri, 10 Oct 2025)
EndedAt: 2025-10-10 10:43:02 -0400 (Fri, 10 Oct 2025)
EllapsedTime: 1378.7 seconds
RetCode: 0
Status:   OK  
CheckDir: seqsetvis.Rcheck
Warnings: 0

Command output

##############################################################################
##############################################################################
###
### Running command:
###
###   /Library/Frameworks/R.framework/Resources/bin/R CMD check --install=check:seqsetvis.install-out.txt --library=/Library/Frameworks/R.framework/Resources/library --no-vignettes --timings seqsetvis_1.28.0.tar.gz
###
##############################################################################
##############################################################################


* using log directory ‘/Users/biocbuild/bbs-3.21-bioc/meat/seqsetvis.Rcheck’
* using R version 4.5.1 RC (2025-06-05 r88288)
* using platform: x86_64-apple-darwin20
* R was compiled by
    Apple clang version 14.0.0 (clang-1400.0.29.202)
    GNU Fortran (GCC) 14.2.0
* running under: macOS Monterey 12.7.6
* using session charset: UTF-8
* using option ‘--no-vignettes’
* checking for file ‘seqsetvis/DESCRIPTION’ ... OK
* checking extension type ... Package
* this is package ‘seqsetvis’ version ‘1.28.0’
* package encoding: UTF-8
* checking package namespace information ... OK
* checking package dependencies ... OK
* checking if this is a source package ... OK
* checking if there is a namespace ... OK
* checking for hidden files and directories ... OK
* checking for portable file names ... OK
* checking for sufficient/correct file permissions ... OK
* checking whether package ‘seqsetvis’ can be installed ... OK
* checking installed package size ... OK
* checking package directory ... OK
* checking ‘build’ directory ... OK
* checking DESCRIPTION meta-information ... OK
* checking top-level files ... OK
* checking for left-over files ... OK
* checking index information ... OK
* checking package subdirectories ... OK
* checking code files for non-ASCII characters ... OK
* checking R files for syntax errors ... OK
* checking whether the package can be loaded ... OK
* checking whether the package can be loaded with stated dependencies ... OK
* checking whether the package can be unloaded cleanly ... OK
* checking whether the namespace can be loaded with stated dependencies ... OK
* checking whether the namespace can be unloaded cleanly ... OK
* checking dependencies in R code ... OK
* checking S3 generic/method consistency ... OK
* checking replacement functions ... OK
* checking foreign function calls ... OK
* checking R code for possible problems ... OK
* checking Rd files ... OK
* checking Rd metadata ... OK
* checking Rd cross-references ... OK
* checking for missing documentation entries ... OK
* checking for code/documentation mismatches ... OK
* checking Rd \usage sections ... OK
* checking Rd contents ... OK
* checking for unstated dependencies in examples ... OK
* checking contents of ‘data’ directory ... OK
* checking data for non-ASCII characters ... OK
* checking data for ASCII and uncompressed saves ... OK
* checking files in ‘vignettes’ ... OK
* checking examples ... OK
Examples with CPU (user + system) or elapsed time > 5s
                               user system elapsed
ssvFetchBam                  14.769  0.402  15.306
ssvSignalHeatmap             11.255  0.169  11.568
ssvFeatureBinaryHeatmap      10.027  0.814  10.974
ssvSignalHeatmap.ClusterBars 10.287  0.067  10.430
merge_clusters               10.260  0.053  10.532
ssvSignalBandedQuantiles     10.116  0.091  10.449
ssvFeatureUpset               8.081  0.059   8.213
add_cluster_annotation        7.755  0.292   8.206
ssvSignalClustering           7.730  0.104   7.925
ssvSignalLineplot             7.185  0.033   7.365
reorder_clusters_stepdown     6.759  0.045   6.927
reverse_clusters              6.266  0.043   6.521
reorder_clusters_hclust       5.842  0.030   5.965
split_cluster                 5.433  0.033   5.514
* checking for unstated dependencies in ‘tests’ ... OK
* checking tests ...
  Running ‘testthat.R’
 OK
* checking for unstated dependencies in vignettes ... OK
* checking package vignettes ... OK
* checking running R code from vignettes ... SKIPPED
* checking re-building of vignette outputs ... SKIPPED
* checking PDF version of manual ... OK
* DONE

Status: OK


Installation output

seqsetvis.Rcheck/00install.out

##############################################################################
##############################################################################
###
### Running command:
###
###   /Library/Frameworks/R.framework/Resources/bin/R CMD INSTALL seqsetvis
###
##############################################################################
##############################################################################


* installing to library ‘/Library/Frameworks/R.framework/Versions/4.5-x86_64/Resources/library’
* installing *source* package ‘seqsetvis’ ...
** this is package ‘seqsetvis’ version ‘1.28.0’
** using staged installation
** R
** data
** inst
** byte-compile and prepare package for lazy loading
** help
*** installing help indices
** building package indices
** installing vignettes
** testing if installed package can be loaded from temporary location
** testing if installed package can be loaded from final location
** testing if installed package keeps a record of temporary installation path
* DONE (seqsetvis)

Tests output

seqsetvis.Rcheck/tests/testthat.Rout


R version 4.5.1 RC (2025-06-05 r88288) -- "Great Square Root"
Copyright (C) 2025 The R Foundation for Statistical Computing
Platform: x86_64-apple-darwin20

R is free software and comes with ABSOLUTELY NO WARRANTY.
You are welcome to redistribute it under certain conditions.
Type 'license()' or 'licence()' for distribution details.

R is a collaborative project with many contributors.
Type 'contributors()' for more information and
'citation()' on how to cite R or R packages in publications.

Type 'demo()' for some demos, 'help()' for on-line help, or
'help.start()' for an HTML browser interface to help.
Type 'q()' to quit R.

> 
> ## load dependencies
> library(testthat)
> library(seqsetvis)
Loading required package: ggplot2
> library(data.table)
> 
> ## test package
> test_check(package = "seqsetvis")
[ FAIL 0 | WARN 3 | SKIP 0 | PASS 1291 ]

[ FAIL 0 | WARN 3 | SKIP 0 | PASS 1291 ]
> 
> proc.time()
   user  system elapsed 
635.385   9.393 654.289 

Example timings

seqsetvis.Rcheck/seqsetvis-Ex.timings

nameusersystemelapsed
add_cluster_annotation7.7550.2928.206
append_ynorm0.0970.0100.106
applyMovingAverage2.3620.0202.432
applySpline1.0790.0141.135
assemble_heatmap_cluster_bars2.3720.0232.520
calc_norm_factors0.0520.0040.062
centerAtMax0.6380.0200.712
centerFixedSizeGRanges0.3050.0140.339
centerGRangesAtMax1.1470.0341.230
clusteringKmeans0.0540.0080.064
clusteringKmeansNestedHclust0.0650.0090.078
col2hex0.0020.0010.002
collapse_gr1.5930.0231.689
convert_collapsed_coord0.4940.0350.546
copy_clust_info4.2010.0784.482
crossCorrByRle0.7540.0250.821
easyLoad_FUN0.1060.0020.115
easyLoad_IDRmerged0.0900.0030.100
easyLoad_bed0.2890.0030.305
easyLoad_broadPeak0.0780.0030.085
easyLoad_narrowPeak0.0800.0030.084
easyLoad_seacr0.0870.0020.096
expandCigar0.3330.0370.391
findMaxPos0.0670.0280.099
fragLen_calcStranded4.1750.0654.455
fragLen_fromMacs2Xls0.0030.0010.005
getReadLength0.1180.0170.142
get_mapped_reads0.0170.0010.019
ggellipse2.1480.0172.450
harmonize_seqlengths0.2180.0150.256
make_clustering_matrix0.1950.0070.228
merge_clusters10.260 0.05310.532
prepare_fetch_GRanges0.0850.0110.096
prepare_fetch_GRanges_names0.1840.0120.197
prepare_fetch_GRanges_width0.0640.0100.075
quantileGRangesWidth0.0050.0090.014
reorder_clusters_hclust5.8420.0305.965
reorder_clusters_manual3.1570.0183.313
reorder_clusters_stepdown6.7590.0456.927
reverse_clusters6.2660.0436.521
safeBrew0.0470.0060.053
split_cluster5.4330.0335.514
ssvAnnotateSubjectGRanges2.2490.0622.331
ssvConsensusIntervalSets0.7320.0190.754
ssvFactorizeMembTable0.0280.0150.043
ssvFeatureBars2.1040.0162.129
ssvFeatureBinaryHeatmap10.027 0.81410.974
ssvFeatureEuler1.9940.0682.067
ssvFeaturePie1.6080.0281.692
ssvFeatureUpset8.0810.0598.213
ssvFeatureVenn3.6740.0263.718
ssvFetchBam14.769 0.40215.306
ssvFetchBamPE4.5120.3664.965
ssvFetchBamPE.RNA3.4300.0773.651
ssvFetchBigwig3.1370.0393.202
ssvFetchGRanges1.8070.0292.054
ssvFetchSignal3.4670.0973.744
ssvMakeMembTable-methods1.1900.0171.212
ssvOverlapIntervalSets0.5470.0150.575
ssvSignalBandedQuantiles10.116 0.09110.449
ssvSignalClustering7.7300.1047.925
ssvSignalHeatmap.ClusterBars10.287 0.06710.430
ssvSignalHeatmap11.255 0.16911.568
ssvSignalLineplot7.1850.0337.365
ssvSignalLineplotAgg2.4320.0202.683
ssvSignalScatterplot2.6950.0212.732
viewGRangesWinSample_dt2.9590.0703.049
viewGRangesWinSummary_dt3.7350.1383.900
within_clust_sort4.1750.0324.269