| Back to Multiple platform build/check report for BioC 3.22: simplified long |
|
This page was generated on 2025-11-12 11:58 -0500 (Wed, 12 Nov 2025).
| Hostname | OS | Arch (*) | R version | Installed pkgs |
|---|---|---|---|---|
| nebbiolo2 | Linux (Ubuntu 24.04.3 LTS) | x86_64 | 4.5.1 Patched (2025-08-23 r88802) -- "Great Square Root" | 4902 |
| taishan | Linux (openEuler 24.03 LTS) | aarch64 | 4.5.0 (2025-04-11) -- "How About a Twenty-Six" | 4668 |
| Click on any hostname to see more info about the system (e.g. compilers) (*) as reported by 'uname -p', except on Windows and Mac OS X | ||||
| Package 1987/2361 | Hostname | OS / Arch | INSTALL | BUILD | CHECK | BUILD BIN | ||||||||
| seqsetvis 1.30.0 (landing page) Joseph R Boyd
| nebbiolo2 | Linux (Ubuntu 24.04.3 LTS) / x86_64 | OK | OK | OK | |||||||||
| taishan | Linux (openEuler 24.03 LTS) / aarch64 | OK | OK | OK | ||||||||||
|
To the developers/maintainers of the seqsetvis package: - Allow up to 24 hours (and sometimes 48 hours) for your latest push to git@git.bioconductor.org:packages/seqsetvis.git to reflect on this report. See Troubleshooting Build Report for more information. - Use the following Renviron settings to reproduce errors and warnings. - If 'R CMD check' started to fail recently on the Linux builder(s) over a missing dependency, add the missing dependency to 'Suggests:' in your DESCRIPTION file. See Renviron.bioc for more information. - See Martin Grigorov's blog post for how to debug Linux ARM64 related issues on a x86_64 host. |
| Package: seqsetvis |
| Version: 1.30.0 |
| Command: /home/biocbuild/R/R/bin/R CMD check --install=check:seqsetvis.install-out.txt --library=/home/biocbuild/R/R/site-library --no-vignettes --timings seqsetvis_1.30.0.tar.gz |
| StartedAt: 2025-11-11 14:46:52 -0000 (Tue, 11 Nov 2025) |
| EndedAt: 2025-11-11 15:02:47 -0000 (Tue, 11 Nov 2025) |
| EllapsedTime: 954.8 seconds |
| RetCode: 0 |
| Status: OK |
| CheckDir: seqsetvis.Rcheck |
| Warnings: 0 |
##############################################################################
##############################################################################
###
### Running command:
###
### /home/biocbuild/R/R/bin/R CMD check --install=check:seqsetvis.install-out.txt --library=/home/biocbuild/R/R/site-library --no-vignettes --timings seqsetvis_1.30.0.tar.gz
###
##############################################################################
##############################################################################
* using log directory ‘/home/biocbuild/bbs-3.22-bioc/meat/seqsetvis.Rcheck’
* using R version 4.5.0 (2025-04-11)
* using platform: aarch64-unknown-linux-gnu
* R was compiled by
aarch64-unknown-linux-gnu-gcc (GCC) 14.2.0
GNU Fortran (GCC) 14.2.0
* running under: openEuler 24.03 (LTS)
* using session charset: UTF-8
* using option ‘--no-vignettes’
* checking for file ‘seqsetvis/DESCRIPTION’ ... OK
* checking extension type ... Package
* this is package ‘seqsetvis’ version ‘1.30.0’
* package encoding: UTF-8
* checking package namespace information ... OK
* checking package dependencies ... OK
* checking if this is a source package ... OK
* checking if there is a namespace ... OK
* checking for hidden files and directories ... OK
* checking for portable file names ... OK
* checking for sufficient/correct file permissions ... OK
* checking whether package ‘seqsetvis’ can be installed ... OK
* checking installed package size ... OK
* checking package directory ... OK
* checking ‘build’ directory ... OK
* checking DESCRIPTION meta-information ... OK
* checking top-level files ... OK
* checking for left-over files ... OK
* checking index information ... OK
* checking package subdirectories ... OK
* checking code files for non-ASCII characters ... OK
* checking R files for syntax errors ... OK
* checking whether the package can be loaded ... OK
* checking whether the package can be loaded with stated dependencies ... OK
* checking whether the package can be unloaded cleanly ... OK
* checking whether the namespace can be loaded with stated dependencies ... OK
* checking whether the namespace can be unloaded cleanly ... OK
* checking loading without being on the library search path ... OK
* checking dependencies in R code ... OK
* checking S3 generic/method consistency ... OK
* checking replacement functions ... OK
* checking foreign function calls ... OK
* checking R code for possible problems ... OK
* checking Rd files ... OK
* checking Rd metadata ... OK
* checking Rd cross-references ... OK
* checking for missing documentation entries ... OK
* checking for code/documentation mismatches ... OK
* checking Rd \usage sections ... OK
* checking Rd contents ... OK
* checking for unstated dependencies in examples ... OK
* checking contents of ‘data’ directory ... OK
* checking data for non-ASCII characters ... OK
* checking data for ASCII and uncompressed saves ... OK
* checking files in ‘vignettes’ ... OK
* checking examples ... OK
Examples with CPU (user + system) or elapsed time > 5s
user system elapsed
ssvFetchBam 9.182 0.019 10.119
ssvFeatureBinaryHeatmap 7.703 0.174 10.720
ssvSignalHeatmap 7.279 0.048 9.417
ssvSignalBandedQuantiles 6.701 0.115 7.854
ssvSignalHeatmap.ClusterBars 6.491 0.017 8.122
merge_clusters 6.331 0.000 6.850
ssvFeatureUpset 5.102 0.000 7.839
add_cluster_annotation 4.665 0.187 5.175
* checking for unstated dependencies in ‘tests’ ... OK
* checking tests ...
Running ‘testthat.R’
OK
* checking for unstated dependencies in vignettes ... OK
* checking package vignettes ... OK
* checking running R code from vignettes ... SKIPPED
* checking re-building of vignette outputs ... SKIPPED
* checking PDF version of manual ... OK
* DONE
Status: OK
seqsetvis.Rcheck/00install.out
############################################################################## ############################################################################## ### ### Running command: ### ### /home/biocbuild/R/R/bin/R CMD INSTALL seqsetvis ### ############################################################################## ############################################################################## * installing to library ‘/home/biocbuild/R/R-4.5.0/site-library’ * installing *source* package ‘seqsetvis’ ... ** this is package ‘seqsetvis’ version ‘1.30.0’ ** using staged installation ** R ** data ** inst ** byte-compile and prepare package for lazy loading ** help *** installing help indices ** building package indices ** installing vignettes ** testing if installed package can be loaded from temporary location ** testing if installed package can be loaded from final location ** testing if installed package keeps a record of temporary installation path * DONE (seqsetvis)
seqsetvis.Rcheck/tests/testthat.Rout
R version 4.5.0 (2025-04-11) -- "How About a Twenty-Six" Copyright (C) 2025 The R Foundation for Statistical Computing Platform: aarch64-unknown-linux-gnu R is free software and comes with ABSOLUTELY NO WARRANTY. You are welcome to redistribute it under certain conditions. Type 'license()' or 'licence()' for distribution details. R is a collaborative project with many contributors. Type 'contributors()' for more information and 'citation()' on how to cite R or R packages in publications. Type 'demo()' for some demos, 'help()' for on-line help, or 'help.start()' for an HTML browser interface to help. Type 'q()' to quit R. > > ## load dependencies > library(testthat) > library(seqsetvis) Loading required package: ggplot2 > library(data.table) > > ## test package > test_check(package = "seqsetvis") [ FAIL 0 | WARN 3 | SKIP 0 | PASS 1291 ] [ FAIL 0 | WARN 3 | SKIP 0 | PASS 1291 ] > > proc.time() user system elapsed 379.244 1.741 436.233
seqsetvis.Rcheck/seqsetvis-Ex.timings
| name | user | system | elapsed | |
| add_cluster_annotation | 4.665 | 0.187 | 5.175 | |
| append_ynorm | 0.085 | 0.000 | 0.085 | |
| applyMovingAverage | 1.390 | 0.000 | 1.632 | |
| applySpline | 0.719 | 0.015 | 0.777 | |
| assemble_heatmap_cluster_bars | 1.361 | 0.040 | 1.417 | |
| calc_norm_factors | 0.034 | 0.000 | 0.034 | |
| centerAtMax | 0.355 | 0.004 | 0.360 | |
| centerFixedSizeGRanges | 0.197 | 0.004 | 0.202 | |
| centerGRangesAtMax | 0.744 | 0.013 | 0.774 | |
| clusteringKmeans | 0.055 | 0.000 | 0.055 | |
| clusteringKmeansNestedHclust | 0.048 | 0.000 | 0.048 | |
| col2hex | 0.002 | 0.000 | 0.002 | |
| collapse_gr | 0.945 | 0.000 | 0.969 | |
| convert_collapsed_coord | 0.266 | 0.000 | 0.277 | |
| copy_clust_info | 2.493 | 0.028 | 2.530 | |
| crossCorrByRle | 0.572 | 0.023 | 0.803 | |
| easyLoad_FUN | 0.068 | 0.000 | 0.069 | |
| easyLoad_IDRmerged | 0.056 | 0.000 | 0.057 | |
| easyLoad_bed | 0.163 | 0.000 | 0.163 | |
| easyLoad_broadPeak | 0.046 | 0.000 | 0.047 | |
| easyLoad_narrowPeak | 0.052 | 0.000 | 0.057 | |
| easyLoad_seacr | 0.060 | 0.000 | 0.061 | |
| expandCigar | 0.228 | 0.000 | 0.335 | |
| findMaxPos | 0.038 | 0.004 | 0.044 | |
| fragLen_calcStranded | 2.565 | 0.003 | 2.915 | |
| fragLen_fromMacs2Xls | 0.002 | 0.000 | 0.006 | |
| getReadLength | 0.072 | 0.000 | 0.087 | |
| get_mapped_reads | 0.010 | 0.000 | 0.011 | |
| ggellipse | 1.274 | 0.000 | 1.451 | |
| harmonize_seqlengths | 0.145 | 0.003 | 0.150 | |
| make_clustering_matrix | 0.124 | 0.000 | 0.124 | |
| merge_clusters | 6.331 | 0.000 | 6.850 | |
| prepare_fetch_GRanges | 0.044 | 0.000 | 0.045 | |
| prepare_fetch_GRanges_names | 0.121 | 0.000 | 0.122 | |
| prepare_fetch_GRanges_width | 0.059 | 0.004 | 0.062 | |
| quantileGRangesWidth | 0.004 | 0.000 | 0.003 | |
| reorder_clusters_hclust | 3.602 | 0.000 | 3.885 | |
| reorder_clusters_manual | 1.980 | 0.024 | 2.068 | |
| reorder_clusters_stepdown | 4.262 | 0.020 | 4.294 | |
| reverse_clusters | 3.744 | 0.028 | 3.837 | |
| safeBrew | 0.028 | 0.000 | 0.028 | |
| split_cluster | 3.302 | 0.005 | 4.093 | |
| ssvAnnotateSubjectGRanges | 1.436 | 0.015 | 1.563 | |
| ssvConsensusIntervalSets | 0.451 | 0.009 | 0.475 | |
| ssvFactorizeMembTable | 0.019 | 0.000 | 0.020 | |
| ssvFeatureBars | 1.322 | 0.028 | 1.396 | |
| ssvFeatureBinaryHeatmap | 7.703 | 0.174 | 10.720 | |
| ssvFeatureEuler | 1.222 | 0.004 | 1.519 | |
| ssvFeaturePie | 0.950 | 0.004 | 1.036 | |
| ssvFeatureUpset | 5.102 | 0.000 | 7.839 | |
| ssvFeatureVenn | 2.205 | 0.020 | 2.260 | |
| ssvFetchBam | 9.182 | 0.019 | 10.119 | |
| ssvFetchBamPE | 2.702 | 0.004 | 2.835 | |
| ssvFetchBamPE.RNA | 2.128 | 0.008 | 2.553 | |
| ssvFetchBigwig | 1.970 | 0.012 | 2.001 | |
| ssvFetchGRanges | 1.108 | 0.000 | 1.113 | |
| ssvFetchSignal | 2.210 | 0.040 | 2.537 | |
| ssvMakeMembTable-methods | 0.757 | 0.004 | 0.906 | |
| ssvOverlapIntervalSets | 0.348 | 0.000 | 0.350 | |
| ssvSignalBandedQuantiles | 6.701 | 0.115 | 7.854 | |
| ssvSignalClustering | 4.660 | 0.008 | 4.967 | |
| ssvSignalHeatmap.ClusterBars | 6.491 | 0.017 | 8.122 | |
| ssvSignalHeatmap | 7.279 | 0.048 | 9.417 | |
| ssvSignalLineplot | 4.337 | 0.000 | 4.665 | |
| ssvSignalLineplotAgg | 1.637 | 0.008 | 2.283 | |
| ssvSignalScatterplot | 1.763 | 0.024 | 2.860 | |
| viewGRangesWinSample_dt | 1.820 | 0.004 | 1.831 | |
| viewGRangesWinSummary_dt | 1.754 | 0.000 | 1.763 | |
| within_clust_sort | 2.824 | 0.008 | 2.864 | |