| Back to Multiple platform build/check report for BioC 3.22: simplified long |
|
This page was generated on 2025-11-11 12:02 -0500 (Tue, 11 Nov 2025).
| Hostname | OS | Arch (*) | R version | Installed pkgs |
|---|---|---|---|---|
| nebbiolo2 | Linux (Ubuntu 24.04.3 LTS) | x86_64 | 4.5.1 Patched (2025-08-23 r88802) -- "Great Square Root" | 4902 |
| kjohnson3 | macOS 13.7.7 Ventura | arm64 | 4.5.1 Patched (2025-09-10 r88807) -- "Great Square Root" | 4638 |
| Click on any hostname to see more info about the system (e.g. compilers) (*) as reported by 'uname -p', except on Windows and Mac OS X | ||||
| Package 1987/2361 | Hostname | OS / Arch | INSTALL | BUILD | CHECK | BUILD BIN | ||||||||
| seqsetvis 1.30.0 (landing page) Joseph R Boyd
| nebbiolo2 | Linux (Ubuntu 24.04.3 LTS) / x86_64 | OK | OK | OK | |||||||||
| kjohnson3 | macOS 13.7.7 Ventura / arm64 | OK | OK | OK | OK | |||||||||
|
To the developers/maintainers of the seqsetvis package: - Allow up to 24 hours (and sometimes 48 hours) for your latest push to git@git.bioconductor.org:packages/seqsetvis.git to reflect on this report. See Troubleshooting Build Report for more information. - Use the following Renviron settings to reproduce errors and warnings. - If 'R CMD check' started to fail recently on the Linux builder(s) over a missing dependency, add the missing dependency to 'Suggests:' in your DESCRIPTION file. See Renviron.bioc for more information. |
| Package: seqsetvis |
| Version: 1.30.0 |
| Command: /home/biocbuild/bbs-3.22-bioc/R/bin/R CMD check --install=check:seqsetvis.install-out.txt --library=/home/biocbuild/bbs-3.22-bioc/R/site-library --timings seqsetvis_1.30.0.tar.gz |
| StartedAt: 2025-11-11 04:12:24 -0500 (Tue, 11 Nov 2025) |
| EndedAt: 2025-11-11 04:23:13 -0500 (Tue, 11 Nov 2025) |
| EllapsedTime: 649.6 seconds |
| RetCode: 0 |
| Status: OK |
| CheckDir: seqsetvis.Rcheck |
| Warnings: 0 |
##############################################################################
##############################################################################
###
### Running command:
###
### /home/biocbuild/bbs-3.22-bioc/R/bin/R CMD check --install=check:seqsetvis.install-out.txt --library=/home/biocbuild/bbs-3.22-bioc/R/site-library --timings seqsetvis_1.30.0.tar.gz
###
##############################################################################
##############################################################################
* using log directory ‘/home/biocbuild/bbs-3.22-bioc/meat/seqsetvis.Rcheck’
* using R version 4.5.1 Patched (2025-08-23 r88802)
* using platform: x86_64-pc-linux-gnu
* R was compiled by
gcc (Ubuntu 13.3.0-6ubuntu2~24.04) 13.3.0
GNU Fortran (Ubuntu 13.3.0-6ubuntu2~24.04) 13.3.0
* running under: Ubuntu 24.04.3 LTS
* using session charset: UTF-8
* checking for file ‘seqsetvis/DESCRIPTION’ ... OK
* checking extension type ... Package
* this is package ‘seqsetvis’ version ‘1.30.0’
* package encoding: UTF-8
* checking package namespace information ... OK
* checking package dependencies ... OK
* checking if this is a source package ... OK
* checking if there is a namespace ... OK
* checking for hidden files and directories ... OK
* checking for portable file names ... OK
* checking for sufficient/correct file permissions ... OK
* checking whether package ‘seqsetvis’ can be installed ... OK
* checking installed package size ... OK
* checking package directory ... OK
* checking ‘build’ directory ... OK
* checking DESCRIPTION meta-information ... OK
* checking top-level files ... OK
* checking for left-over files ... OK
* checking index information ... OK
* checking package subdirectories ... OK
* checking code files for non-ASCII characters ... OK
* checking R files for syntax errors ... OK
* checking whether the package can be loaded ... OK
* checking whether the package can be loaded with stated dependencies ... OK
* checking whether the package can be unloaded cleanly ... OK
* checking whether the namespace can be loaded with stated dependencies ... OK
* checking whether the namespace can be unloaded cleanly ... OK
* checking loading without being on the library search path ... OK
* checking dependencies in R code ... OK
* checking S3 generic/method consistency ... OK
* checking replacement functions ... OK
* checking foreign function calls ... OK
* checking R code for possible problems ... OK
* checking Rd files ... OK
* checking Rd metadata ... OK
* checking Rd cross-references ... OK
* checking for missing documentation entries ... OK
* checking for code/documentation mismatches ... OK
* checking Rd \usage sections ... OK
* checking Rd contents ... OK
* checking for unstated dependencies in examples ... OK
* checking contents of ‘data’ directory ... OK
* checking data for non-ASCII characters ... OK
* checking data for ASCII and uncompressed saves ... OK
* checking files in ‘vignettes’ ... OK
* checking examples ... OK
Examples with CPU (user + system) or elapsed time > 5s
user system elapsed
ssvFeatureBinaryHeatmap 7.592 0.294 7.886
ssvFetchBam 5.982 0.027 5.967
ssvSignalBandedQuantiles 5.150 0.067 5.082
* checking for unstated dependencies in ‘tests’ ... OK
* checking tests ...
Running ‘testthat.R’
OK
* checking for unstated dependencies in vignettes ... OK
* checking package vignettes ... OK
* checking re-building of vignette outputs ... OK
* checking PDF version of manual ... OK
* DONE
Status: OK
seqsetvis.Rcheck/00install.out
############################################################################## ############################################################################## ### ### Running command: ### ### /home/biocbuild/bbs-3.22-bioc/R/bin/R CMD INSTALL seqsetvis ### ############################################################################## ############################################################################## * installing to library ‘/home/biocbuild/bbs-3.22-bioc/R/site-library’ * installing *source* package ‘seqsetvis’ ... ** this is package ‘seqsetvis’ version ‘1.30.0’ ** using staged installation ** R ** data ** inst ** byte-compile and prepare package for lazy loading ** help *** installing help indices ** building package indices ** installing vignettes ** testing if installed package can be loaded from temporary location ** testing if installed package can be loaded from final location ** testing if installed package keeps a record of temporary installation path * DONE (seqsetvis)
seqsetvis.Rcheck/tests/testthat.Rout
R version 4.5.1 Patched (2025-08-23 r88802) -- "Great Square Root" Copyright (C) 2025 The R Foundation for Statistical Computing Platform: x86_64-pc-linux-gnu R is free software and comes with ABSOLUTELY NO WARRANTY. You are welcome to redistribute it under certain conditions. Type 'license()' or 'licence()' for distribution details. R is a collaborative project with many contributors. Type 'contributors()' for more information and 'citation()' on how to cite R or R packages in publications. Type 'demo()' for some demos, 'help()' for on-line help, or 'help.start()' for an HTML browser interface to help. Type 'q()' to quit R. > > ## load dependencies > library(testthat) > library(seqsetvis) Loading required package: ggplot2 > library(data.table) > > ## test package > test_check(package = "seqsetvis") [ FAIL 0 | WARN 3 | SKIP 0 | PASS 1291 ] [ FAIL 0 | WARN 3 | SKIP 0 | PASS 1291 ] > > proc.time() user system elapsed 271.191 1.521 267.573
seqsetvis.Rcheck/seqsetvis-Ex.timings
| name | user | system | elapsed | |
| add_cluster_annotation | 3.511 | 0.210 | 3.685 | |
| append_ynorm | 0.066 | 0.002 | 0.044 | |
| applyMovingAverage | 0.940 | 0.003 | 0.937 | |
| applySpline | 0.489 | 0.001 | 0.454 | |
| assemble_heatmap_cluster_bars | 0.975 | 0.037 | 0.976 | |
| calc_norm_factors | 0.036 | 0.001 | 0.024 | |
| centerAtMax | 0.309 | 0.000 | 0.257 | |
| centerFixedSizeGRanges | 0.141 | 0.002 | 0.144 | |
| centerGRangesAtMax | 0.564 | 0.024 | 0.531 | |
| clusteringKmeans | 0.037 | 0.002 | 0.027 | |
| clusteringKmeansNestedHclust | 0.040 | 0.000 | 0.031 | |
| col2hex | 0.001 | 0.000 | 0.001 | |
| collapse_gr | 0.670 | 0.001 | 0.671 | |
| convert_collapsed_coord | 0.182 | 0.001 | 0.183 | |
| copy_clust_info | 1.818 | 0.003 | 1.738 | |
| crossCorrByRle | 0.415 | 0.002 | 0.418 | |
| easyLoad_FUN | 0.05 | 0.00 | 0.05 | |
| easyLoad_IDRmerged | 0.043 | 0.001 | 0.044 | |
| easyLoad_bed | 0.118 | 0.002 | 0.120 | |
| easyLoad_broadPeak | 0.037 | 0.000 | 0.038 | |
| easyLoad_narrowPeak | 0.037 | 0.000 | 0.038 | |
| easyLoad_seacr | 0.039 | 0.000 | 0.040 | |
| expandCigar | 0.174 | 0.000 | 0.156 | |
| findMaxPos | 0.039 | 0.000 | 0.032 | |
| fragLen_calcStranded | 1.729 | 0.002 | 1.722 | |
| fragLen_fromMacs2Xls | 0.002 | 0.000 | 0.003 | |
| getReadLength | 0.060 | 0.001 | 0.061 | |
| get_mapped_reads | 0.009 | 0.000 | 0.009 | |
| ggellipse | 0.887 | 0.002 | 0.889 | |
| harmonize_seqlengths | 0.104 | 0.004 | 0.109 | |
| make_clustering_matrix | 0.079 | 0.001 | 0.068 | |
| merge_clusters | 4.242 | 0.006 | 4.154 | |
| prepare_fetch_GRanges | 0.031 | 0.001 | 0.032 | |
| prepare_fetch_GRanges_names | 0.084 | 0.000 | 0.084 | |
| prepare_fetch_GRanges_width | 0.049 | 0.001 | 0.050 | |
| quantileGRangesWidth | 0.002 | 0.001 | 0.003 | |
| reorder_clusters_hclust | 2.322 | 0.002 | 2.278 | |
| reorder_clusters_manual | 1.296 | 0.008 | 1.245 | |
| reorder_clusters_stepdown | 3.337 | 0.014 | 3.274 | |
| reverse_clusters | 2.522 | 0.004 | 2.434 | |
| safeBrew | 0.019 | 0.001 | 0.021 | |
| split_cluster | 2.247 | 0.027 | 2.184 | |
| ssvAnnotateSubjectGRanges | 1.051 | 0.010 | 1.060 | |
| ssvConsensusIntervalSets | 0.311 | 0.002 | 0.312 | |
| ssvFactorizeMembTable | 0.011 | 0.001 | 0.013 | |
| ssvFeatureBars | 0.857 | 0.002 | 0.860 | |
| ssvFeatureBinaryHeatmap | 7.592 | 0.294 | 7.886 | |
| ssvFeatureEuler | 0.807 | 0.002 | 0.809 | |
| ssvFeaturePie | 0.638 | 0.000 | 0.638 | |
| ssvFeatureUpset | 3.208 | 0.000 | 3.208 | |
| ssvFeatureVenn | 1.476 | 0.000 | 1.476 | |
| ssvFetchBam | 5.982 | 0.027 | 5.967 | |
| ssvFetchBamPE | 1.884 | 0.024 | 1.909 | |
| ssvFetchBamPE.RNA | 1.498 | 0.013 | 1.440 | |
| ssvFetchBigwig | 1.370 | 0.006 | 1.376 | |
| ssvFetchGRanges | 0.733 | 0.001 | 0.734 | |
| ssvFetchSignal | 1.397 | 0.002 | 1.399 | |
| ssvMakeMembTable-methods | 0.518 | 0.001 | 0.518 | |
| ssvOverlapIntervalSets | 0.231 | 0.001 | 0.232 | |
| ssvSignalBandedQuantiles | 5.150 | 0.067 | 5.082 | |
| ssvSignalClustering | 3.250 | 0.003 | 3.112 | |
| ssvSignalHeatmap.ClusterBars | 4.334 | 0.030 | 4.186 | |
| ssvSignalHeatmap | 4.977 | 0.011 | 4.648 | |
| ssvSignalLineplot | 2.916 | 0.029 | 2.932 | |
| ssvSignalLineplotAgg | 1.105 | 0.004 | 1.091 | |
| ssvSignalScatterplot | 1.213 | 0.001 | 1.170 | |
| viewGRangesWinSample_dt | 1.189 | 0.007 | 1.190 | |
| viewGRangesWinSummary_dt | 1.191 | 0.000 | 1.140 | |
| within_clust_sort | 1.877 | 0.040 | 1.848 | |